Workbook

Sheet 補助先総括表
K1: 別紙２
A2: （参考）グリーンイノベーション基金事業全期間 補助先総括表
A4: （２）補助先総括表
A5: テーマ名：○○○○○○
A6: 補助先：●●●●株式会社
A7: ※交付決定期間外の費用は参考値 | K7: （単位：円）
A8: 項目 | B8: 事業期間全体 | C8: 2022 | D8: 2023 | E8: 2024 | F8: 2025 | G8: 2026 | H8: 2027 | I8: 2028 | J8: 2029 | K8: 2030
A9: Ⅰ．機械装置等費 | B9: =SUM(C9:K9) -> 0 | C9: =SUM(C10:C12) -> 0 | D9: =SUM(D10:D12) -> 0 | E9: =SUM(E10:E12) -> 0 | F9: =SUM(F10:F12) -> 0 | G9: =SUM(G10:G12) -> 0 | H9: =SUM(H10:H12) -> 0 | I9: =SUM(I10:I12) -> 0 | J9: =SUM(J10:J12) -> 0 | K9: =SUM(K10:K12) -> 0
A10: １．土木・建築工事費 | B10: =SUM(C10:K10) -> 0 | C10: =補助先_2022!K7 -> 0 | D10: =補助先_2023!K7 -> 0 | E10: =補助先_2024!K7 -> 0 | F10: =補助先_2025!K7 -> 0 | G10: =補助先_2026!K7 -> 0 | H10: =補助先_2027!K7 -> 0 | I10: =補助先_2028!K7 -> 0 | J10: =補助先_2029!K7 -> 0 | K10: =補助先_2030!K7 -> 0
A11: ２．機械装置等製作・購入費 | B11: =SUM(C11:K11) -> 0 | C11: =補助先_2022!K9 -> 0 | D11: =補助先_2023!K9 -> 0 | E11: =補助先_2024!K9 -> 0 | F11: =補助先_2025!K9 -> 0 | G11: =補助先_2026!K9 -> 0 | H11: =補助先_2027!K9 -> 0 | I11: =補助先_2028!K9 -> 0 | J11: =補助先_2029!K9 -> 0 | K11: =補助先_2030!K9 -> 0
A12: ３．保守・改造修理費 | B12: =SUM(C12:K12) -> 0 | C12: =補助先_2022!K11 -> 0 | D12: =補助先_2023!K11 -> 0 | E12: =補助先_2024!K11 -> 0 | F12: =補助先_2025!K11 -> 0 | G12: =補助先_2026!K11 -> 0 | H12: =補助先_2027!K11 -> 0 | I12: =補助先_2028!K11 -> 0 | J12: =補助先_2029!K11 -> 0 | K12: =補助先_2030!K11 -> 0
A13: Ⅱ．労務費 | B13: =SUM(C13:K13) -> 0 | C13: =SUM(C14:C15) -> 0 | D13: =SUM(D14:D15) -> 0 | E13: =SUM(E14:E15) -> 0 | F13: =SUM(F14:F15) -> 0 | G13: =SUM(G14:G15) -> 0 | H13: =SUM(H14:H15) -> 0 | I13: =SUM(I14:I15) -> 0 | J13: =SUM(J14:J15) -> 0 | K13: =SUM(K14:K15) -> 0
A14: １．研究員費 | B14: =SUM(C14:K14) -> 0 | C14: =補助先_2022!K14 -> 0 | D14: =補助先_2023!K14 -> 0 | E14: =補助先_2024!K14 -> 0 | F14: =補助先_2025!K14 -> 0 | G14: =補助先_2026!K14 -> 0 | H14: =補助先_2027!K14 -> 0 | I14: =補助先_2028!K14 -> 0 | J14: =補助先_2029!K14 -> 0 | K14: =補助先_2030!K14 -> 0
A15: ２．補助員費 | B15: =SUM(C15:K15) -> 0 | C15: =補助先_2022!K16 -> 0 | D15: =補助先_2023!K16 -> 0 | E15: =補助先_2024!K16 -> 0 | F15: =補助先_2025!K16 -> 0 | G15: =補助先_2026!K16 -> 0 | H15: =補助先_2027!K16 -> 0 | I15: =補助先_2028!K16 -> 0 | J15: =補助先_2029!K16 -> 0 | K15: =補助先_2030!K16 -> 0
A16: Ⅲ．その他経費 | B16: =SUM(C16:K16) -> 0 | C16: =SUM(C17:C20) -> 0 | D16: =SUM(D17:D20) -> 0 | E16: =SUM(E17:E20) -> 0 | F16: =SUM(F17:F20) -> 0 | G16: =SUM(G17:G20) -> 0 | H16: =SUM(H17:H20) -> 0 | I16: =SUM(I17:I20) -> 0 | J16: =SUM(J17:J20) -> 0 | K16: =SUM(K17:K20) -> 0
A17: １．消耗品費 | B17: =SUM(C17:K17) -> 0 | C17: =補助先_2022!K19 -> 0 | D17: =補助先_2023!K19 -> 0 | E17: =補助先_2024!K19 -> 0 | F17: =補助先_2025!K19 -> 0 | G17: =補助先_2026!K19 -> 0 | H17: =補助先_2027!K19 -> 0 | I17: =補助先_2028!K19 -> 0 | J17: =補助先_2029!K19 -> 0 | K17: =補助先_2030!K19 -> 0
A18: ２．旅費 | B18: =SUM(C18:K18) -> 0 | C18: =補助先_2022!K21 -> 0 | D18: =補助先_2023!K21 -> 0 | E18: =補助先_2024!K21 -> 0 | F18: =補助先_2025!K21 -> 0 | G18: =補助先_2026!K21 -> 0 | H18: =補助先_2027!K21 -> 0 | I18: =補助先_2028!K21 -> 0 | J18: =補助先_2029!K21 -> 0 | K18: =補助先_2030!K21 -> 0
A19: ３．外注費 | B19: =SUM(C19:K19) -> 0 | C19: =補助先_2022!K23 -> 0 | D19: =補助先_2023!K23 -> 0 | E19: =補助先_2024!K23 -> 0 | F19: =補助先_2025!K23 -> 0 | G19: =補助先_2026!K23 -> 0 | H19: =補助先_2027!K23 -> 0 | I19: =補助先_2028!K23 -> 0 | J19: =補助先_2029!K23 -> 0 | K19: =補助先_2030!K23 -> 0
A20: ４．諸経費 | B20: =SUM(C20:K20) -> 0 | C20: =補助先_2022!K25 -> 0 | D20: =補助先_2023!K25 -> 0 | E20: =補助先_2024!K25 -> 0 | F20: =補助先_2025!K25 -> 0 | G20: =補助先_2026!K25 -> 0 | H20: =補助先_2027!K25 -> 0 | I20: =補助先_2028!K25 -> 0 | J20: =補助先_2029!K25 -> 0 | K20: =補助先_2030!K25 -> 0
A21: Ⅳ．委託費・共同研究費 | B21: =SUM(C21:K21) -> 0 | C21: =SUM(C22:C23) -> 0 | D21: =SUM(D22:D23) -> 0 | E21: =SUM(E22:E23) -> 0 | F21: =SUM(F22:F23) -> 0 | G21: =SUM(G22:G23) -> 0 | H21: =SUM(H22:H23) -> 0 | I21: =SUM(I22:I23) -> 0 | J21: =SUM(J22:J23) -> 0 | K21: =SUM(K22:K23) -> 0
A22: １．委託費・共同研究費 | B22: =SUM(C22:K22) -> 0 | C22: =補助先_2022!K28 -> 0 | D22: =補助先_2023!K28 -> 0 | E22: =補助先_2024!K28 -> 0 | F22: =補助先_2025!K28 -> 0 | G22: =補助先_2026!K28 -> 0 | H22: =補助先_2027!K28 -> 0 | I22: =補助先_2028!K28 -> 0 | J22: =補助先_2029!K28 -> 0 | K22: =補助先_2030!K28 -> 0
A23: ２．学術機関等に対する共同研究費 | B23: =SUM(C23:K23) -> 0 | C23: =補助先_2022!K30 -> 0 | D23: =補助先_2023!K30 -> 0 | E23: =補助先_2024!K30 -> 0 | F23: =補助先_2025!K30 -> 0 | G23: =補助先_2026!K30 -> 0 | H23: =補助先_2027!K30 -> 0 | I23: =補助先_2028!K30 -> 0 | J23: =補助先_2029!K30 -> 0 | K23: =補助先_2030!K30 -> 0
A24: 合計（Ⅰ＋Ⅱ＋Ⅲ＋Ⅳ） | B24: =SUM(C24:K24) -> 0 | C24: =SUM(C9,C13,C16,C21) -> 0 | D24: =SUM(D9,D13,D16,D21) -> 0 | E24: =SUM(E9,E13,E16,E21) -> 0 | F24: =SUM(F9,F13,F16,F21) -> 0 | G24: =SUM(G9,G13,G16,G21) -> 0 | H24: =SUM(H9,H13,H16,H21) -> 0 | I24: =SUM(I9,I13,I16,I21) -> 0 | J24: =SUM(J9,J13,J16,J21) -> 0 | K24: =SUM(K9,K13,K16,K21) -> 0
A25: ＊補助金の額 | B25: =SUM(C25:K25) -> 0 | C25: =ROUNDDOWN(補助先_2022!L32,-3) -> 0 | D25: =ROUNDDOWN(補助先_2023!L32,-3) -> 0 | E25: =ROUNDDOWN(補助先_2024!L32,-3) -> 0 | F25: =ROUNDDOWN(補助先_2025!L32,-3) -> 0 | G25: =ROUNDDOWN(補助先_2026!L32,-3) -> 0 | H25: =ROUNDDOWN(補助先_2027!L32,-3) -> 0 | I25: =ROUNDDOWN(補助先_2028!L32,-3) -> 0 | J25: =ROUNDDOWN(補助先_2029!L32,-3) -> 0 | K25: =ROUNDDOWN(補助先_2030!L32,-3) -> 0
A26: ＜＊補助率 ○／○＞
A28: ※項目毎に「補助対象費用」を記入してください。
A29: ※Ⅳ．委託費・共同研究費の補助先がＮＥＤＯへ計上する補助対象費用は、消費税抜き額になります。
K30: 2026年4月1日版

Sheet 委託・共同研究総括表
K1: 別紙２
A2: （参考）グリーンイノベーション基金事業全期間 委託先／共同研究先総括表
A4: （３）委託先、共同研究先総括表
A5: テーマ名：○○○○○○
A6: 委託先、共同研究先名：●●●●株式会社
A7: ※交付決定期間外の費用は参考値 | K7: （単位：円）
A8: 項目 | B8: 事業期間全体 | C8: 2022 | D8: 2023 | E8: 2024 | F8: 2025 | G8: 2026 | H8: 2027 | I8: 2028 | J8: 2029 | K8: 2030
A9: Ⅰ．機械装置等費 | B9: =SUM(C9:K9) -> 0 | C9: =SUM(C10:C12) -> 0 | D9: =SUM(D10:D12) -> 0 | E9: =SUM(E10:E12) -> 0 | F9: =SUM(F10:F12) -> 0 | G9: =SUM(G10:G12) -> 0 | H9: =SUM(H10:H12) -> 0 | I9: =SUM(I10:I12) -> 0 | J9: =SUM(J10:J12) -> 0 | K9: =SUM(K10:K12) -> 0
A10: １．土木・建築工事費 | B10: =SUM(C10:K10) -> 0
A11: ２．機械装置等製作・購入費 | B11: =SUM(C11:K11) -> 0
A12: ３．保守・改造修理費 | B12: =SUM(C12:K12) -> 0
A13: Ⅱ．労務費 | B13: =SUM(C13:K13) -> 0 | C13: =SUM(C14:C15) -> 0 | D13: =SUM(D14:D15) -> 0 | E13: =SUM(E14:E15) -> 0 | F13: =SUM(F14:F15) -> 0 | G13: =SUM(G14:G15) -> 0 | H13: =SUM(H14:H15) -> 0 | I13: =SUM(I14:I15) -> 0 | J13: =SUM(J14:J15) -> 0 | K13: =SUM(K14:K15) -> 0
A14: １．研究員費 | B14: =SUM(C14:K14) -> 0
A15: ２．補助員費 | B15: =SUM(C15:K15) -> 0
A16: Ⅲ．その他経費 | B16: =SUM(C16:K16) -> 0 | C16: =SUM(C17:C20) -> 0 | D16: =SUM(D17:D20) -> 0 | E16: =SUM(E17:E20) -> 0 | F16: =SUM(F17:F20) -> 0 | G16: =SUM(G17:G20) -> 0 | H16: =SUM(H17:H20) -> 0 | I16: =SUM(I17:I20) -> 0 | J16: =SUM(J17:J20) -> 0 | K16: =SUM(K17:K20) -> 0
A17: １．消耗品費 | B17: =SUM(C17:K17) -> 0
A18: ２．旅費 | B18: =SUM(C18:K18) -> 0
A19: ３．外注費 | B19: =SUM(C19:K19) -> 0
A20: ４．諸経費 | B20: =SUM(C20:K20) -> 0
A21: 小計（Ⅰ＋Ⅱ＋Ⅲ） | B21: =SUM(C21:K21) -> 0 | C21: =SUM(C9,C13,C16) -> 0 | D21: =SUM(D9,D13,D16) -> 0 | E21: =SUM(E9,E13,E16) -> 0 | F21: =SUM(F9,F13,F16) -> 0 | G21: =SUM(G9,G13,G16) -> 0 | H21: =SUM(H9,H13,H16) -> 0 | I21: =SUM(I9,I13,I16) -> 0 | J21: =SUM(J9,J13,J16) -> 0 | K21: =SUM(K9,K13,K16) -> 0
A22: Ⅳ．間接経費 | B22: =SUM(C22:K22) -> 0
A23: 合計（Ⅰ＋Ⅱ＋Ⅲ＋Ⅳ） | B23: =SUM(C23:K23) -> 0 | C23: =SUM(C21:C22) -> 0 | D23: =SUM(D21:D22) -> 0 | E23: =SUM(E21:E22) -> 0 | F23: =SUM(F21:F22) -> 0 | G23: =SUM(G21:G22) -> 0 | H23: =SUM(H21:H22) -> 0 | I23: =SUM(I21:I22) -> 0 | J23: =SUM(J21:J22) -> 0 | K23: =SUM(K21:K22) -> 0
A24: 消費税及び地方消費税 | B24: =SUM(C24:K24) -> 0
A25: 総計 | B25: =SUM(C25:K25) -> 0 | C25: =SUM(C23:C24) -> 0 | D25: =SUM(D23:D24) -> 0 | E25: =SUM(E23:E24) -> 0 | F25: =SUM(F23:F24) -> 0 | G25: =SUM(G23:G24) -> 0 | H25: =SUM(H23:H24) -> 0 | I25: =SUM(I23:I24) -> 0 | J25: =SUM(J23:J24) -> 0 | K25: =SUM(K23:K24) -> 0
A26: ＜補助率 ○／○＞
A28: ※学術機関等に対する委託費・共同研究費の場合は「間接経費」が積算可能です。
A29: ※補助先がＮＥＤＯへ計上する補助対象費用は、消費税抜き額になります。（ただし、委託契約は消費税の課税取引となりますので、補助先と委託先の関係では「総計」にて契約します。）
K30: 2026年4月1日版

Sheet 補助先_2022
M1: 別紙２
A2: 項目別明細表（補助先用）
A4: （４）●●●●株式会社(2022年度)
A5: 積算基礎（円） | J5: 補助事業に要する経費 | K5: 補助対象費用 | L5: 補助金参考額（円） | M5: 補助方法
A6: Ⅰ．機械装置等費 | J6: =SUM(J7,J9,J11) -> 0 | K6: =SUM(K7,K9,K11) -> 0 | L6: =SUM(L7,L9,L11) -> 0
A7: １．土木・建築工事費 | J7: =SUM(J8:J8) -> 0 | K7: =SUM(K8:K8) -> 0 | L7: =SUM(L8:L8) -> 0
C8: ＠ | E8: 円 | F8: × | I8: ＝ | K8: 0
A9: ２．機械装置等製作・購入費 | J9: =SUM(J10:J10) -> 0 | K9: =SUM(K10:K10) -> 0 | L9: =SUM(L10:L10) -> 0
K10: =J10 -> 0
A11: ３．保守・改造修理費 | J11: =SUM(J12:J12) -> 0 | K11: =SUM(K12:K12) -> 0 | L11: =SUM(L12:L12) -> 0
K12: =J12 -> 0
A13: Ⅱ．労務費 | J13: =SUM(J14,J16) -> 0 | K13: =SUM(K14,K16) -> 0 | L13: =L14+L16 -> 0
A14: １．研究員費 | J14: =SUM(J15:J15) -> 0 | K14: =SUM(K15:K15) -> 0 | L14: =SUM(L15:L15) -> 0
J15: =D15*G15 -> 0 | K15: =J15 -> 0
A16: ２．補助員費 | J16: =SUM(J17:J17) -> 0 | K16: =SUM(K17:K17) -> 0 | L16: =SUM(L17:L17) -> 0
J17: =D17*G17 -> 0 | K17: =J17 -> 0
A18: Ⅲ．その他経費 | J18: =SUM(J19,J21,J23,J25) -> 0 | K18: =SUM(K19,K21,K23,K25) -> 0 | L18: =SUM(L19,L21,L23,L25) -> 0
A19: １．消耗品費 | J19: =SUM(J20:J20) -> 0 | K19: =SUM(K20:K20) -> 0 | L19: =SUM(L20:L20) -> 0
K20: =J20 -> 0
A21: ２．旅費 | J21: =SUM(J22:J22) -> 0 | K21: =SUM(K22:K22) -> 0 | L21: =SUM(L22:L22) -> 0
K22: =J22 -> 0
A23: ３．外注費 | J23: =SUM(J24:J24) -> 0 | K23: =SUM(K24:K24) -> 0 | L23: =SUM(L24:L24) -> 0
K24: =J24 -> 0
A25: ４．諸経費 | J25: =SUM(J26:J26) -> 0 | K25: =SUM(K26:K26) -> 0 | L25: =SUM(L26:L26) -> 0
J26: =D26*G26 -> 0 | K26: =J26 -> 0
A27: Ⅳ．委託費・共同研究費 | J27: =SUM(J28,J30) -> 0 | K27: =SUM(K28,K30) -> 0 | L27: =L28+L30 -> 0
A28: １．委託費・共同研究費 | J28: =SUM(J29:J29) -> 0 | K28: =SUM(K29:K29) -> 0 | L28: =SUM(L29:L29) -> 0
A30: ２．学術機関等に対する共同研究費 | J30: =SUM(J31:J31) -> 0 | K30: =SUM(K31:K31) -> 0 | L30: =SUM(L31:L31) -> 0
A32: 合計(Ⅰ＋Ⅱ＋Ⅲ＋Ⅳ） | J32: =SUM(J6,J13,J18,J27) -> 0 | K32: =SUM(K6,K13,K18,K27) -> 0 | L32: =ROUNDDOWN(SUM(L6,L13,L18,L27), -3) -> 0
A35: ※補助先がＮＥＤＯへ計上する補助対象費用は、消費税抜き額になります。
M37: 2026年4月1日版

Sheet 補助先_2023
M1: 別紙２
A2: 項目別明細表（補助先用）
A4: （４）●●●●株式会社(2023年度)
A5: 積算基礎（円） | J5: 補助事業に要する経費 | K5: 補助対象費用 | L5: 補助金参考額（円） | M5: 補助方法
A6: Ⅰ．機械装置等費 | J6: =SUM(J7,J9,J11) -> 0 | K6: =SUM(K7,K9,K11) -> 0 | L6: =SUM(L7,L9,L11) -> 0
A7: １．土木・建築工事費 | J7: =SUM(J8:J8) -> 0 | K7: =SUM(K8:K8) -> 0 | L7: =SUM(L8:L8) -> 0
C8: ＠ | E8: 円 | F8: × | I8: ＝ | K8: 0
A9: ２．機械装置等製作・購入費 | J9: =SUM(J10:J10) -> 0 | K9: =SUM(K10:K10) -> 0 | L9: =SUM(L10:L10) -> 0
K10: =J10 -> 0
A11: ３．保守・改造修理費 | J11: =SUM(J12:J12) -> 0 | K11: =SUM(K12:K12) -> 0 | L11: =SUM(L12:L12) -> 0
K12: =J12 -> 0
A13: Ⅱ．労務費 | J13: =SUM(J14,J16) -> 0 | K13: =SUM(K14,K16) -> 0 | L13: =L14+L16 -> 0
A14: １．研究員費 | J14: =SUM(J15:J15) -> 0 | K14: =SUM(K15:K15) -> 0 | L14: =SUM(L15:L15) -> 0
J15: =D15*G15 -> 0 | K15: =J15 -> 0
A16: ２．補助員費 | J16: =SUM(J17:J17) -> 0 | K16: =SUM(K17:K17) -> 0 | L16: =SUM(L17:L17) -> 0
J17: =D17*G17 -> 0 | K17: =J17 -> 0
A18: Ⅲ．その他経費 | J18: =SUM(J19,J21,J23,J25) -> 0 | K18: =SUM(K19,K21,K23,K25) -> 0 | L18: =SUM(L19,L21,L23,L25) -> 0
A19: １．消耗品費 | J19: =SUM(J20:J20) -> 0 | K19: =SUM(K20:K20) -> 0 | L19: =SUM(L20:L20) -> 0
K20: =J20 -> 0
A21: ２．旅費 | J21: =SUM(J22:J22) -> 0 | K21: =SUM(K22:K22) -> 0 | L21: =SUM(L22:L22) -> 0
K22: =J22 -> 0
A23: ３．外注費 | J23: =SUM(J24:J24) -> 0 | K23: =SUM(K24:K24) -> 0 | L23: =SUM(L24:L24) -> 0
K24: =J24 -> 0
A25: ４．諸経費 | J25: =SUM(J26:J26) -> 0 | K25: =SUM(K26:K26) -> 0 | L25: =SUM(L26:L26) -> 0
J26: =D26*G26 -> 0 | K26: =J26 -> 0
A27: Ⅳ．委託費・共同研究費 | J27: =SUM(J28,J30) -> 0 | K27: =SUM(K28,K30) -> 0 | L27: =L28+L30 -> 0
A28: １．委託費・共同研究費 | J28: =SUM(J29:J29) -> 0 | K28: =SUM(K29:K29) -> 0 | L28: =SUM(L29:L29) -> 0
A30: ２．学術機関等に対する共同研究費 | J30: =SUM(J31:J31) -> 0 | K30: =SUM(K31:K31) -> 0 | L30: =SUM(L31:L31) -> 0
A32: 合計(Ⅰ＋Ⅱ＋Ⅲ＋Ⅳ） | J32: =SUM(J6,J13,J18,J27) -> 0 | K32: =SUM(K6,K13,K18,K27) -> 0 | L32: =ROUNDDOWN(SUM(L6,L13,L18,L27), -3) -> 0
A35: ※補助先がＮＥＤＯへ計上する補助対象費用は、消費税抜き額になります。
M37: 2026年4月1日版

Sheet 補助先_2024
M1: 別紙２
A2: 項目別明細表（補助先用）
A4: （４）●●●●株式会社(2024年度)
A5: 積算基礎（円） | J5: 補助事業に要する経費 | K5: 補助対象費用 | L5: 補助金参考額（円） | M5: 補助方法
A6: Ⅰ．機械装置等費 | J6: =SUM(J7,J9,J11) -> 0 | K6: =SUM(K7,K9,K11) -> 0 | L6: =SUM(L7,L9,L11) -> 0
A7: １．土木・建築工事費 | J7: =SUM(J8:J8) -> 0 | K7: =SUM(K8:K8) -> 0 | L7: =SUM(L8:L8) -> 0
C8: ＠ | E8: 円 | F8: × | I8: ＝ | K8: 0
A9: ２．機械装置等製作・購入費 | J9: =SUM(J10:J10) -> 0 | K9: =SUM(K10:K10) -> 0 | L9: =SUM(L10:L10) -> 0
K10: =J10 -> 0
A11: ３．保守・改造修理費 | J11: =SUM(J12:J12) -> 0 | K11: =SUM(K12:K12) -> 0 | L11: =SUM(L12:L12) -> 0
K12: =J12 -> 0
A13: Ⅱ．労務費 | J13: =SUM(J14,J16) -> 0 | K13: =SUM(K14,K16) -> 0 | L13: =L14+L16 -> 0
A14: １．研究員費 | J14: =SUM(J15:J15) -> 0 | K14: =SUM(K15:K15) -> 0 | L14: =SUM(L15:L15) -> 0
J15: =D15*G15 -> 0 | K15: =J15 -> 0
A16: ２．補助員費 | J16: =SUM(J17:J17) -> 0 | K16: =SUM(K17:K17) -> 0 | L16: =SUM(L17:L17) -> 0
J17: =D17*G17 -> 0 | K17: =J17 -> 0
A18: Ⅲ．その他経費 | J18: =SUM(J19,J21,J23,J25) -> 0 | K18: =SUM(K19,K21,K23,K25) -> 0 | L18: =SUM(L19,L21,L23,L25) -> 0
A19: １．消耗品費 | J19: =SUM(J20:J20) -> 0 | K19: =SUM(K20:K20) -> 0 | L19: =SUM(L20:L20) -> 0
K20: =J20 -> 0
A21: ２．旅費 | J21: =SUM(J22:J22) -> 0 | K21: =SUM(K22:K22) -> 0 | L21: =SUM(L22:L22) -> 0
K22: =J22 -> 0
A23: ３．外注費 | J23: =SUM(J24:J24) -> 0 | K23: =SUM(K24:K24) -> 0 | L23: =SUM(L24:L24) -> 0
K24: =J24 -> 0
A25: ４．諸経費 | J25: =SUM(J26:J26) -> 0 | K25: =SUM(K26:K26) -> 0 | L25: =SUM(L26:L26) -> 0
J26: =D26*G26 -> 0 | K26: =J26 -> 0
A27: Ⅳ．委託費・共同研究費 | J27: =SUM(J28,J30) -> 0 | K27: =SUM(K28,K30) -> 0 | L27: =L28+L30 -> 0
A28: １．委託費・共同研究費 | J28: =SUM(J29:J29) -> 0 | K28: =SUM(K29:K29) -> 0 | L28: =SUM(L29:L29) -> 0
A30: ２．学術機関等に対する共同研究費 | J30: =SUM(J31:J31) -> 0 | K30: =SUM(K31:K31) -> 0 | L30: =SUM(L31:L31) -> 0
A32: 合計(Ⅰ＋Ⅱ＋Ⅲ＋Ⅳ） | J32: =SUM(J6,J13,J18,J27) -> 0 | K32: =SUM(K6,K13,K18,K27) -> 0 | L32: =ROUNDDOWN(SUM(L6,L13,L18,L27), -3) -> 0
A35: ※補助先がＮＥＤＯへ計上する補助対象費用は、消費税抜き額になります。
M37: 2026年4月1日版

Sheet 補助先_2025
M1: 別紙２
A2: 項目別明細表（補助先用）
A4: （４）●●●●株式会社(2025年度)
A5: 積算基礎（円） | J5: 補助事業に要する経費 | K5: 補助対象費用 | L5: 補助金参考額（円） | M5: 補助方法
A6: Ⅰ．機械装置等費 | J6: =SUM(J7,J9,J11) -> 0 | K6: =SUM(K7,K9,K11) -> 0 | L6: =SUM(L7,L9,L11) -> 0
A7: １．土木・建築工事費 | J7: =SUM(J8:J8) -> 0 | K7: =SUM(K8:K8) -> 0 | L7: =SUM(L8:L8) -> 0
C8: ＠ | E8: 円 | F8: × | I8: ＝ | K8: 0
A9: ２．機械装置等製作・購入費 | J9: =SUM(J10:J10) -> 0 | K9: =SUM(K10:K10) -> 0 | L9: =SUM(L10:L10) -> 0
K10: =J10 -> 0
A11: ３．保守・改造修理費 | J11: =SUM(J12:J12) -> 0 | K11: =SUM(K12:K12) -> 0 | L11: =SUM(L12:L12) -> 0
K12: =J12 -> 0
A13: Ⅱ．労務費 | J13: =SUM(J14,J16) -> 0 | K13: =SUM(K14,K16) -> 0 | L13: =L14+L16 -> 0
A14: １．研究員費 | J14: =SUM(J15:J15) -> 0 | K14: =SUM(K15:K15) -> 0 | L14: =SUM(L15:L15) -> 0
J15: =D15*G15 -> 0 | K15: =J15 -> 0
A16: ２．補助員費 | J16: =SUM(J17:J17) -> 0 | K16: =SUM(K17:K17) -> 0 | L16: =SUM(L17:L17) -> 0
J17: =D17*G17 -> 0 | K17: =J17 -> 0
A18: Ⅲ．その他経費 | J18: =SUM(J19,J21,J23,J25) -> 0 | K18: =SUM(K19,K21,K23,K25) -> 0 | L18: =SUM(L19,L21,L23,L25) -> 0
A19: １．消耗品費 | J19: =SUM(J20:J20) -> 0 | K19: =SUM(K20:K20) -> 0 | L19: =SUM(L20:L20) -> 0
K20: =J20 -> 0
A21: ２．旅費 | J21: =SUM(J22:J22) -> 0 | K21: =SUM(K22:K22) -> 0 | L21: =SUM(L22:L22) -> 0
K22: =J22 -> 0
A23: ３．外注費 | J23: =SUM(J24:J24) -> 0 | K23: =SUM(K24:K24) -> 0 | L23: =SUM(L24:L24) -> 0
K24: =J24 -> 0
A25: ４．諸経費 | J25: =SUM(J26:J26) -> 0 | K25: =SUM(K26:K26) -> 0 | L25: =SUM(L26:L26) -> 0
J26: =D26*G26 -> 0 | K26: =J26 -> 0
A27: Ⅳ．委託費・共同研究費 | J27: =SUM(J28,J30) -> 0 | K27: =SUM(K28,K30) -> 0 | L27: =L28+L30 -> 0
A28: １．委託費・共同研究費 | J28: =SUM(J29:J29) -> 0 | K28: =SUM(K29:K29) -> 0 | L28: =SUM(L29:L29) -> 0
A30: ２．学術機関等に対する共同研究費 | J30: =SUM(J31:J31) -> 0 | K30: =SUM(K31:K31) -> 0 | L30: =SUM(L31:L31) -> 0
A32: 合計(Ⅰ＋Ⅱ＋Ⅲ＋Ⅳ） | J32: =SUM(J6,J13,J18,J27) -> 0 | K32: =SUM(K6,K13,K18,K27) -> 0 | L32: =ROUNDDOWN(SUM(L6,L13,L18,L27), -3) -> 0
A35: ※補助先がＮＥＤＯへ計上する補助対象費用は、消費税抜き額になります。
M37: 2026年4月1日版

Sheet 補助先_2026
M1: 別紙２
A2: 項目別明細表（補助先用）
A4: （４）●●●●株式会社(2026年度)
A5: 積算基礎（円） | J5: 補助事業に要する経費 | K5: 補助対象費用 | L5: 補助金参考額（円） | M5: 補助方法
A6: Ⅰ．機械装置等費 | J6: =SUM(J7,J9,J11) -> 0 | K6: =SUM(K7,K9,K11) -> 0 | L6: =SUM(L7,L9,L11) -> 0
A7: １．土木・建築工事費 | J7: =SUM(J8:J8) -> 0 | K7: =SUM(K8:K8) -> 0 | L7: =SUM(L8:L8) -> 0
C8: ＠ | E8: 円 | F8: × | I8: ＝ | K8: 0
A9: ２．機械装置等製作・購入費 | J9: =SUM(J10:J10) -> 0 | K9: =SUM(K10:K10) -> 0 | L9: =SUM(L10:L10) -> 0
K10: =J10 -> 0
A11: ３．保守・改造修理費 | J11: =SUM(J12:J12) -> 0 | K11: =SUM(K12:K12) -> 0 | L11: =SUM(L12:L12) -> 0
K12: =J12 -> 0
A13: Ⅱ．労務費 | J13: =SUM(J14,J16) -> 0 | K13: =SUM(K14,K16) -> 0 | L13: =L14+L16 -> 0
A14: １．研究員費 | J14: =SUM(J15:J15) -> 0 | K14: =SUM(K15:K15) -> 0 | L14: =SUM(L15:L15) -> 0
J15: =D15*G15 -> 0 | K15: =J15 -> 0
A16: ２．補助員費 | J16: =SUM(J17:J17) -> 0 | K16: =SUM(K17:K17) -> 0 | L16: =SUM(L17:L17) -> 0
J17: =D17*G17 -> 0 | K17: =J17 -> 0
A18: Ⅲ．その他経費 | J18: =SUM(J19,J21,J23,J25) -> 0 | K18: =SUM(K19,K21,K23,K25) -> 0 | L18: =SUM(L19,L21,L23,L25) -> 0
A19: １．消耗品費 | J19: =SUM(J20:J20) -> 0 | K19: =SUM(K20:K20) -> 0 | L19: =SUM(L20:L20) -> 0
K20: =J20 -> 0
A21: ２．旅費 | J21: =SUM(J22:J22) -> 0 | K21: =SUM(K22:K22) -> 0 | L21: =SUM(L22:L22) -> 0
K22: =J22 -> 0
A23: ３．外注費 | J23: =SUM(J24:J24) -> 0 | K23: =SUM(K24:K24) -> 0 | L23: =SUM(L24:L24) -> 0
K24: =J24 -> 0
A25: ４．諸経費 | J25: =SUM(J26:J26) -> 0 | K25: =SUM(K26:K26) -> 0 | L25: =SUM(L26:L26) -> 0
J26: =D26*G26 -> 0 | K26: =J26 -> 0
A27: Ⅳ．委託費・共同研究費 | J27: =SUM(J28,J30) -> 0 | K27: =SUM(K28,K30) -> 0 | L27: =L28+L30 -> 0
A28: １．委託費・共同研究費 | J28: =SUM(J29:J29) -> 0 | K28: =SUM(K29:K29) -> 0 | L28: =SUM(L29:L29) -> 0
A30: ２．学術機関等に対する共同研究費 | J30: =SUM(J31:J31) -> 0 | K30: =SUM(K31:K31) -> 0 | L30: =SUM(L31:L31) -> 0
A32: 合計(Ⅰ＋Ⅱ＋Ⅲ＋Ⅳ） | J32: =SUM(J6,J13,J18,J27) -> 0 | K32: =SUM(K6,K13,K18,K27) -> 0 | L32: =ROUNDDOWN(SUM(L6,L13,L18,L27), -3) -> 0
A35: ※補助先がＮＥＤＯへ計上する補助対象費用は、消費税抜き額になります。
M37: 2026年4月1日版

Sheet 補助先_2027
M1: 別紙２
A2: 項目別明細表（補助先用）
A4: （４）●●●●株式会社(2027年度)
A5: 積算基礎（円） | J5: 補助事業に要する経費 | K5: 補助対象費用 | L5: 補助金参考額（円） | M5: 補助方法
A6: Ⅰ．機械装置等費 | J6: =SUM(J7,J9,J11) -> 0 | K6: =SUM(K7,K9,K11) -> 0 | L6: =SUM(L7,L9,L11) -> 0
A7: １．土木・建築工事費 | J7: =SUM(J8:J8) -> 0 | K7: =SUM(K8:K8) -> 0 | L7: =SUM(L8:L8) -> 0
C8: ＠ | E8: 円 | F8: × | I8: ＝ | K8: 0
A9: ２．機械装置等製作・購入費 | J9: =SUM(J10:J10) -> 0 | K9: =SUM(K10:K10) -> 0 | L9: =SUM(L10:L10) -> 0
K10: =J10 -> 0
A11: ３．保守・改造修理費 | J11: =SUM(J12:J12) -> 0 | K11: =SUM(K12:K12) -> 0 | L11: =SUM(L12:L12) -> 0
K12: =J12 -> 0
A13: Ⅱ．労務費 | J13: =SUM(J14,J16) -> 0 | K13: =SUM(K14,K16) -> 0 | L13: =L14+L16 -> 0
A14: １．研究員費 | J14: =SUM(J15:J15) -> 0 | K14: =SUM(K15:K15) -> 0 | L14: =SUM(L15:L15) -> 0
J15: =D15*G15 -> 0 | K15: =J15 -> 0
A16: ２．補助員費 | J16: =SUM(J17:J17) -> 0 | K16: =SUM(K17:K17) -> 0 | L16: =SUM(L17:L17) -> 0
J17: =D17*G17 -> 0 | K17: =J17 -> 0
A18: Ⅲ．その他経費 | J18: =SUM(J19,J21,J23,J25) -> 0 | K18: =SUM(K19,K21,K23,K25) -> 0 | L18: =SUM(L19,L21,L23,L25) -> 0
A19: １．消耗品費 | J19: =SUM(J20:J20) -> 0 | K19: =SUM(K20:K20) -> 0 | L19: =SUM(L20:L20) -> 0
K20: =J20 -> 0
A21: ２．旅費 | J21: =SUM(J22:J22) -> 0 | K21: =SUM(K22:K22) -> 0 | L21: =SUM(L22:L22) -> 0
K22: =J22 -> 0
A23: ３．外注費 | J23: =SUM(J24:J24) -> 0 | K23: =SUM(K24:K24) -> 0 | L23: =SUM(L24:L24) -> 0
K24: =J24 -> 0
A25: ４．諸経費 | J25: =SUM(J26:J26) -> 0 | K25: =SUM(K26:K26) -> 0 | L25: =SUM(L26:L26) -> 0
J26: =D26*G26 -> 0 | K26: =J26 -> 0
A27: Ⅳ．委託費・共同研究費 | J27: =SUM(J28,J30) -> 0 | K27: =SUM(K28,K30) -> 0 | L27: =L28+L30 -> 0
A28: １．委託費・共同研究費 | J28: =SUM(J29:J29) -> 0 | K28: =SUM(K29:K29) -> 0 | L28: =SUM(L29:L29) -> 0
A30: ２．学術機関等に対する共同研究費 | J30: =SUM(J31:J31) -> 0 | K30: =SUM(K31:K31) -> 0 | L30: =SUM(L31:L31) -> 0
A32: 合計(Ⅰ＋Ⅱ＋Ⅲ＋Ⅳ） | J32: =SUM(J6,J13,J18,J27) -> 0 | K32: =SUM(K6,K13,K18,K27) -> 0 | L32: =ROUNDDOWN(SUM(L6,L13,L18,L27), -3) -> 0
A35: ※補助先がＮＥＤＯへ計上する補助対象費用は、消費税抜き額になります。
M37: 2026年4月1日版

Sheet 補助先_2028
M1: 別紙２
A2: 項目別明細表（補助先用）
A4: （４）●●●●株式会社(2028年度)
A5: 積算基礎（円） | J5: 補助事業に要する経費 | K5: 補助対象費用 | L5: 補助金参考額（円） | M5: 補助方法
A6: Ⅰ．機械装置等費 | J6: =SUM(J7,J9,J11) -> 0 | K6: =SUM(K7,K9,K11) -> 0 | L6: =SUM(L7,L9,L11) -> 0
A7: １．土木・建築工事費 | J7: =SUM(J8:J8) -> 0 | K7: =SUM(K8:K8) -> 0 | L7: =SUM(L8:L8) -> 0
C8: ＠ | E8: 円 | F8: × | I8: ＝ | K8: 0
A9: ２．機械装置等製作・購入費 | J9: =SUM(J10:J10) -> 0 | K9: =SUM(K10:K10) -> 0 | L9: =SUM(L10:L10) -> 0
K10: =J10 -> 0
A11: ３．保守・改造修理費 | J11: =SUM(J12:J12) -> 0 | K11: =SUM(K12:K12) -> 0 | L11: =SUM(L12:L12) -> 0
K12: =J12 -> 0
A13: Ⅱ．労務費 | J13: =SUM(J14,J16) -> 0 | K13: =SUM(K14,K16) -> 0 | L13: =L14+L16 -> 0
A14: １．研究員費 | J14: =SUM(J15:J15) -> 0 | K14: =SUM(K15:K15) -> 0 | L14: =SUM(L15:L15) -> 0
J15: =D15*G15 -> 0 | K15: =J15 -> 0
A16: ２．補助員費 | J16: =SUM(J17:J17) -> 0 | K16: =SUM(K17:K17) -> 0 | L16: =SUM(L17:L17) -> 0
J17: =D17*G17 -> 0 | K17: =J17 -> 0
A18: Ⅲ．その他経費 | J18: =SUM(J19,J21,J23,J25) -> 0 | K18: =SUM(K19,K21,K23,K25) -> 0 | L18: =SUM(L19,L21,L23,L25) -> 0
A19: １．消耗品費 | J19: =SUM(J20:J20) -> 0 | K19: =SUM(K20:K20) -> 0 | L19: =SUM(L20:L20) -> 0
K20: =J20 -> 0
A21: ２．旅費 | J21: =SUM(J22:J22) -> 0 | K21: =SUM(K22:K22) -> 0 | L21: =SUM(L22:L22) -> 0
K22: =J22 -> 0
A23: ３．外注費 | J23: =SUM(J24:J24) -> 0 | K23: =SUM(K24:K24) -> 0 | L23: =SUM(L24:L24) -> 0
K24: =J24 -> 0
A25: ４．諸経費 | J25: =SUM(J26:J26) -> 0 | K25: =SUM(K26:K26) -> 0 | L25: =SUM(L26:L26) -> 0
J26: =D26*G26 -> 0 | K26: =J26 -> 0
A27: Ⅳ．委託費・共同研究費 | J27: =SUM(J28,J30) -> 0 | K27: =SUM(K28,K30) -> 0 | L27: =L28+L30 -> 0
A28: １．委託費・共同研究費 | J28: =SUM(J29:J29) -> 0 | K28: =SUM(K29:K29) -> 0 | L28: =SUM(L29:L29) -> 0
A30: ２．学術機関等に対する共同研究費 | J30: =SUM(J31:J31) -> 0 | K30: =SUM(K31:K31) -> 0 | L30: =SUM(L31:L31) -> 0
A32: 合計(Ⅰ＋Ⅱ＋Ⅲ＋Ⅳ） | J32: =SUM(J6,J13,J18,J27) -> 0 | K32: =SUM(K6,K13,K18,K27) -> 0 | L32: =ROUNDDOWN(SUM(L6,L13,L18,L27), -3) -> 0
A35: ※補助先がＮＥＤＯへ計上する補助対象費用は、消費税抜き額になります。
M37: 2026年4月1日版

Sheet 補助先_2029
M1: 別紙２
A2: 項目別明細表（補助先用）
A4: （４）●●●●株式会社(2029年度)
A5: 積算基礎（円） | J5: 補助事業に要する経費 | K5: 補助対象費用 | L5: 補助金参考額（円） | M5: 補助方法
A6: Ⅰ．機械装置等費 | J6: =SUM(J7,J9,J11) -> 0 | K6: =SUM(K7,K9,K11) -> 0 | L6: =SUM(L7,L9,L11) -> 0
A7: １．土木・建築工事費 | J7: =SUM(J8:J8) -> 0 | K7: =SUM(K8:K8) -> 0 | L7: =SUM(L8:L8) -> 0
C8: ＠ | E8: 円 | F8: × | I8: ＝ | K8: 0
A9: ２．機械装置等製作・購入費 | J9: =SUM(J10:J10) -> 0 | K9: =SUM(K10:K10) -> 0 | L9: =SUM(L10:L10) -> 0
K10: =J10 -> 0
A11: ３．保守・改造修理費 | J11: =SUM(J12:J12) -> 0 | K11: =SUM(K12:K12) -> 0 | L11: =SUM(L12:L12) -> 0
K12: =J12 -> 0
A13: Ⅱ．労務費 | J13: =SUM(J14,J16) -> 0 | K13: =SUM(K14,K16) -> 0 | L13: =L14+L16 -> 0
A14: １．研究員費 | J14: =SUM(J15:J15) -> 0 | K14: =SUM(K15:K15) -> 0 | L14: =SUM(L15:L15) -> 0
J15: =D15*G15 -> 0 | K15: =J15 -> 0
A16: ２．補助員費 | J16: =SUM(J17:J17) -> 0 | K16: =SUM(K17:K17) -> 0 | L16: =SUM(L17:L17) -> 0
J17: =D17*G17 -> 0 | K17: =J17 -> 0
A18: Ⅲ．その他経費 | J18: =SUM(J19,J21,J23,J25) -> 0 | K18: =SUM(K19,K21,K23,K25) -> 0 | L18: =SUM(L19,L21,L23,L25) -> 0
A19: １．消耗品費 | J19: =SUM(J20:J20) -> 0 | K19: =SUM(K20:K20) -> 0 | L19: =SUM(L20:L20) -> 0
K20: =J20 -> 0
A21: ２．旅費 | J21: =SUM(J22:J22) -> 0 | K21: =SUM(K22:K22) -> 0 | L21: =SUM(L22:L22) -> 0
K22: =J22 -> 0
A23: ３．外注費 | J23: =SUM(J24:J24) -> 0 | K23: =SUM(K24:K24) -> 0 | L23: =SUM(L24:L24) -> 0
K24: =J24 -> 0
A25: ４．諸経費 | J25: =SUM(J26:J26) -> 0 | K25: =SUM(K26:K26) -> 0 | L25: =SUM(L26:L26) -> 0
J26: =D26*G26 -> 0 | K26: =J26 -> 0
A27: Ⅳ．委託費・共同研究費 | J27: =SUM(J28,J30) -> 0 | K27: =SUM(K28,K30) -> 0 | L27: =L28+L30 -> 0
A28: １．委託費・共同研究費 | J28: =SUM(J29:J29) -> 0 | K28: =SUM(K29:K29) -> 0 | L28: =SUM(L29:L29) -> 0
A30: ２．学術機関等に対する共同研究費 | J30: =SUM(J31:J31) -> 0 | K30: =SUM(K31:K31) -> 0 | L30: =SUM(L31:L31) -> 0
A32: 合計(Ⅰ＋Ⅱ＋Ⅲ＋Ⅳ） | J32: =SUM(J6,J13,J18,J27) -> 0 | K32: =SUM(K6,K13,K18,K27) -> 0 | L32: =ROUNDDOWN(SUM(L6,L13,L18,L27), -3) -> 0
A35: ※補助先がＮＥＤＯへ計上する補助対象費用は、消費税抜き額になります。
M37: 2026年4月1日版

Sheet 補助先_2030
M1: 別紙２
A2: 項目別明細表（補助先用）
A4: （４）●●●●株式会社(2030年度)
A5: 積算基礎（円） | J5: 補助事業に要する経費 | K5: 補助対象費用 | L5: 補助金参考額（円） | M5: 補助方法
A6: Ⅰ．機械装置等費 | J6: =SUM(J7,J9,J11) -> 0 | K6: =SUM(K7,K9,K11) -> 0 | L6: =SUM(L7,L9,L11) -> 0
A7: １．土木・建築工事費 | J7: =SUM(J8:J8) -> 0 | K7: =SUM(K8:K8) -> 0 | L7: =SUM(L8:L8) -> 0
C8: ＠ | E8: 円 | F8: × | I8: ＝ | K8: 0
A9: ２．機械装置等製作・購入費 | J9: =SUM(J10:J10) -> 0 | K9: =SUM(K10:K10) -> 0 | L9: =SUM(L10:L10) -> 0
K10: =J10 -> 0
A11: ３．保守・改造修理費 | J11: =SUM(J12:J12) -> 0 | K11: =SUM(K12:K12) -> 0 | L11: =SUM(L12:L12) -> 0
K12: =J12 -> 0
A13: Ⅱ．労務費 | J13: =SUM(J14,J16) -> 0 | K13: =SUM(K14,K16) -> 0 | L13: =L14+L16 -> 0
A14: １．研究員費 | J14: =SUM(J15:J15) -> 0 | K14: =SUM(K15:K15) -> 0 | L14: =SUM(L15:L15) -> 0
J15: =D15*G15 -> 0 | K15: =J15 -> 0
A16: ２．補助員費 | J16: =SUM(J17:J17) -> 0 | K16: =SUM(K17:K17) -> 0 | L16: =SUM(L17:L17) -> 0
J17: =D17*G17 -> 0 | K17: =J17 -> 0
A18: Ⅲ．その他経費 | J18: =SUM(J19,J21,J23,J25) -> 0 | K18: =SUM(K19,K21,K23,K25) -> 0 | L18: =SUM(L19,L21,L23,L25) -> 0
A19: １．消耗品費 | J19: =SUM(J20:J20) -> 0 | K19: =SUM(K20:K20) -> 0 | L19: =SUM(L20:L20) -> 0
K20: =J20 -> 0
A21: ２．旅費 | J21: =SUM(J22:J22) -> 0 | K21: =SUM(K22:K22) -> 0 | L21: =SUM(L22:L22) -> 0
K22: =J22 -> 0
A23: ３．外注費 | J23: =SUM(J24:J24) -> 0 | K23: =SUM(K24:K24) -> 0 | L23: =SUM(L24:L24) -> 0
K24: =J24 -> 0
A25: ４．諸経費 | J25: =SUM(J26:J26) -> 0 | K25: =SUM(K26:K26) -> 0 | L25: =SUM(L26:L26) -> 0
J26: =D26*G26 -> 0 | K26: =J26 -> 0
A27: Ⅳ．委託費・共同研究費 | J27: =SUM(J28,J30) -> 0 | K27: =SUM(K28,K30) -> 0 | L27: =L28+L30 -> 0
A28: １．委託費・共同研究費 | J28: =SUM(J29:J29) -> 0 | K28: =SUM(K29:K29) -> 0 | L28: =SUM(L29:L29) -> 0
A30: ２．学術機関等に対する共同研究費 | J30: =SUM(J31:J31) -> 0 | K30: =SUM(K31:K31) -> 0 | L30: =SUM(L31:L31) -> 0
A32: 合計(Ⅰ＋Ⅱ＋Ⅲ＋Ⅳ） | J32: =SUM(J6,J13,J18,J27) -> 0 | K32: =SUM(K6,K13,K18,K27) -> 0 | L32: =ROUNDDOWN(SUM(L6,L13,L18,L27), -3) -> 0
A35: ※補助先がＮＥＤＯへ計上する補助対象費用は、消費税抜き額になります。
M37: 2026年4月1日版
