Workbook

Sheet 補助先総括表
K1: 別紙２－②
A2: 電動車等費用 補助先総括表（電動車等費用のみ）
A4: （２）補助先総括表（電動車等費用）
A5: テーマ名：・・・・・・技術開発
A6: 補助先：●●●●株式会社
K7: （単位：円）
A8: 項目 | B8: 事業期間全体 | C8: 2022年度 | D8: 2023年度 | E8: 2024年度 | F8: 2025年度 | G8: 2026年度 | H8: 2027年度 | I8: 2028年度 | J8: 2029年度 | K8: 2030年度
A9: Ⅰ．機械装置等費 | B9: =SUM(C9:K9) -> 0 | C9: =SUM(C10:C12) -> 0 | D9: =SUM(D10:D12) -> 0 | E9: =SUM(E10:E12) -> 0 | F9: =SUM(F10:F12) -> 0 | G9: =SUM(G10:G12) -> 0 | H9: =SUM(H10:H12) -> 0 | I9: =SUM(I10:I12) -> 0 | J9: =SUM(J10:J12) -> 0 | K9: =SUM(K10:K12) -> 0
A10: １．土木・建築工事費 | B10: =SUM(C10:K10) -> 0 | C10: ='2022'!K7 -> 0 | D10: ='2023'!K7 -> 0 | E10: ='2024'!K7 -> 0 | F10: ='2025'!K7 -> 0 | G10: ='2026'!K7 -> 0 | H10: ='2027'!K7 -> 0 | I10: ='2028'!K7 -> 0 | J10: ='2029'!K7 -> 0 | K10: ='2030'!K7 -> 0
A11: ２．機械装置等製作・購入費 | B11: =SUM(C11:K11) -> 0 | C11: ='2022'!K9 -> 0 | D11: ='2023'!K9 -> 0 | E11: ='2024'!K9 -> 0 | F11: ='2025'!K9 -> 0 | G11: ='2026'!K9 -> 0 | H11: ='2027'!K9 -> 0 | I11: ='2028'!K9 -> 0 | J11: ='2029'!K9 -> 0 | K11: ='2030'!K9 -> 0
A12: ３．保守・改造修理費 | B12: =SUM(C12:K12) -> 0 | C12: ='2022'!K11 -> 0 | D12: ='2023'!K11 -> 0 | E12: ='2024'!K11 -> 0 | F12: ='2025'!K11 -> 0 | G12: ='2026'!K11 -> 0 | H12: ='2027'!K11 -> 0 | I12: ='2028'!K11 -> 0 | J12: ='2029'!K11 -> 0 | K12: ='2030'!K11 -> 0
A13: Ⅱ．労務費 | B13: =SUM(C13:K13) -> 0 | C13: =SUM(C14:C15) -> 0 | D13: =SUM(D14:D15) -> 0 | E13: =SUM(E14:E15) -> 0 | F13: =SUM(F14:F15) -> 0 | G13: =SUM(G14:G15) -> 0 | H13: =SUM(H14:H15) -> 0 | I13: =SUM(I14:I15) -> 0 | J13: =SUM(J14:J15) -> 0 | K13: =SUM(K14:K15) -> 0
A14: １．研究員費
A15: ２．補助員費
A16: Ⅲ．その他経費 | B16: =SUM(C16:K16) -> 0 | C16: =SUM(C17:C20) -> 0 | D16: =SUM(D17:D20) -> 0 | E16: =SUM(E17:E20) -> 0 | F16: =SUM(F17:F20) -> 0 | G16: =SUM(G17:G20) -> 0 | H16: =SUM(H17:H20) -> 0 | I16: =SUM(I17:I20) -> 0 | J16: =SUM(J17:J20) -> 0 | K16: =SUM(K17:K20) -> 0
A17: １．消耗品費 | B17: =SUM(C17:K17) -> 0 | C17: ='2022'!K19 -> 0 | D17: ='2023'!K19 -> 0 | E17: ='2024'!K19 -> 0 | F17: ='2025'!K19 -> 0 | G17: ='2026'!K19 -> 0 | H17: ='2027'!K19 -> 0 | I17: ='2028'!K19 -> 0 | J17: ='2029'!K19 -> 0 | K17: ='2030'!K19 -> 0
A18: ２．旅費
A19: ３．外注費 | B19: =SUM(C19:K19) -> 0 | C19: ='2022'!K23 -> 0 | D19: ='2023'!K23 -> 0 | E19: ='2024'!K23 -> 0 | F19: ='2025'!K23 -> 0 | G19: ='2026'!K23 -> 0 | H19: ='2027'!K23 -> 0 | I19: ='2028'!K23 -> 0 | J19: ='2029'!K23 -> 0 | K19: ='2030'!K23 -> 0
A20: ４．諸経費 | B20: =SUM(C20:K20) -> 0 | C20: ='2022'!K25 -> 0 | D20: ='2023'!K25 -> 0 | E20: ='2024'!K25 -> 0 | F20: ='2025'!K25 -> 0 | G20: ='2026'!K25 -> 0 | H20: ='2027'!K25 -> 0 | I20: ='2028'!K25 -> 0 | J20: ='2029'!K25 -> 0 | K20: ='2030'!K25 -> 0
A21: Ⅳ．委託費・共同研究費
A22: １．委託費・共同研究費
A23: ２．学術機関等に対する共同研究費
A24: 合計（Ⅰ＋Ⅱ＋Ⅲ＋Ⅳ） | B24: =SUM(C24:K24) -> 0 | C24: =SUM(C9,C13,C16,C21) -> 0 | D24: =SUM(D9,D13,D16,D21) -> 0 | E24: =SUM(E9,E13,E16,E21) -> 0 | F24: =SUM(F9,F13,F16,F21) -> 0 | G24: =SUM(G9,G13,G16,G21) -> 0 | H24: =SUM(H9,H13,H16,H21) -> 0 | I24: =SUM(I9,I13,I16,I21) -> 0 | J24: =SUM(J9,J13,J16,J21) -> 0 | K24: =SUM(K9,K13,K16,K21) -> 0
A25: ＊補助金の額 | B25: =SUM(C25:K25) -> 0 | C25: ='2022'!L32 -> 0 | D25: ='2023'!L32 -> 0 | E25: ='2024'!L32 -> 0 | F25: ='2025'!L32 -> 0 | G25: ='2026'!L32 -> 0 | H25: ='2027'!L32 -> 0 | I25: ='2028'!L32 -> 0 | J25: ='2029'!L32 -> 0 | K25: ='2030'!L32 -> 0
A26: ＜＊補助率 その他＞
A28: ※全て自動計算のため記入は必要ありません
A29: ※電動車等費用では以下の項目は計上できません。 Ⅱ. 労務費 Ⅲ. その他経費-２．旅費 Ⅳ. 委託費・共同研究費
K30: 2026年4月1日版

Sheet 2022
M1: 別紙２－②
A2: 電動車等費用 項目別明細表（補助先用）
A4: （４）●●●●株式会社 項目別明細表(2022年度）
A5: 積算基礎（円） | J5: 補助事業に要する経費 | K5: 補助対象費用 | L5: 補助金参考額（円） | M5: 補助方法
A6: Ⅰ．機械装置等費 | J6: =SUM(J7,J9,J11) -> 0 | K6: =SUM(K7,K9,K11) -> 0 | L6: =SUM(L7,L9,L11) -> 0
A7: １．土木・建築工事費 | J7: =SUM(J8) -> 0 | K7: =SUM(K8) -> 0
C8: ＠ | E8: 円 | F8: × | I8: ＝ | K8: =J8 -> 0
A9: ２．機械装置等製作・購入費 | J9: =SUM(J10:J10) -> 0 | K9: =SUM(K10:K10) -> 0
C10: ＠ | E10: 円 | F10: × | I10: ＝ | K10: =J10 -> 0
A11: ３．保守・改造修理費 | J11: =SUM(J12:J12) -> 0 | K11: =SUM(K12:K12) -> 0
C12: ＠ | E12: 円 | F12: × | I12: ＝ | K12: =J12 -> 0
A13: Ⅱ．労務費 | J13: =SUM(J14,J16) -> 0 | K13: =SUM(K14,K16) -> 0
A14: １．研究員費 | J14: =SUM(J15:J15) -> 0 | K14: =SUM(K15:K15) -> 0
I15: ＝ | J15: =D15*G15 -> 0 | K15: =J15 -> 0
A16: ２．補助員費 | J16: =SUM(J17) -> 0 | K16: =SUM(K17) -> 0
I17: ＝ | J17: =D17*G17 -> 0 | K17: =J17 -> 0
A18: Ⅲ．その他経費 | J18: =SUM(J19,J21,J23,J25) -> 0 | K18: =SUM(K19,K21,K23,K25) -> 0 | L18: =SUM(L19,L21,L23,L25) -> 0
A19: １．消耗品費 | J19: =SUM(J20:J20) -> 0 | K19: =SUM(K20:K20) -> 0
C20: ＠ | E20: 円 | F20: × | I20: ＝ | K20: =J20 -> 0
A21: ２．旅費 | J21: =SUM(J22:J22) -> 0 | K21: =SUM(K22:K22) -> 0
I22: ＝ | K22: =J22 -> 0
A23: ３．外注費 | J23: =SUM(J24) -> 0 | K23: =SUM(K24) -> 0
C24: ＠ | E24: 円 | F24: × | I24: ＝ | K24: =J24 -> 0
A25: ４．諸経費 | J25: =SUM(J26:J26) -> 0 | K25: =SUM(K26:K26) -> 0
C26: ＠ | E26: 円 | F26: × | I26: ＝ | J26: =D26*G26 -> 0 | K26: =J26 -> 0
A27: Ⅳ．委託費・共同研究費 | J27: =SUM(J29,J31) -> 0 | K27: =SUM(K29,K31) -> 0
A28: １．委託費・共同研究費
A30: ２．学術機関等に対する共同研究費
A32: 合計(Ⅰ＋Ⅱ＋Ⅲ＋Ⅳ） | J32: =SUM(J6,J13,J18,J27) -> 0 | K32: =SUM(K6,K13,K18,K27) -> 0 | L32: =SUM(L6,L13,L18,L27) -> 0
A35: ※補助先がＮＥＤＯへ計上する補助対象費用は、消費税抜き額になります。
M37: 2026年4月1日版

Sheet 2023
M1: 別紙２－②
A2: 電動車等費用 項目別明細表（補助先用）
A4: （４）●●●●株式会社 項目別明細表(2023年度）
A5: 積算基礎（円） | J5: 補助事業に要する経費 | K5: 補助対象費用 | L5: 補助金参考額（円） | M5: 補助方法
A6: Ⅰ．機械装置等費 | J6: =SUM(J7,J9,J11) -> 0 | K6: =SUM(K7,K9,K11) -> 0 | L6: =SUM(L7,L9,L11) -> 0
A7: １．土木・建築工事費 | J7: =SUM(J8) -> 0 | K7: =SUM(K8) -> 0
C8: ＠ | E8: 円 | F8: × | I8: ＝ | K8: =J8 -> 0
A9: ２．機械装置等製作・購入費 | J9: =SUM(J10:J10) -> 0 | K9: =SUM(K10:K10) -> 0
C10: ＠ | E10: 円 | F10: × | I10: ＝ | K10: =J10 -> 0
A11: ３．保守・改造修理費 | J11: =SUM(J12:J12) -> 0 | K11: =SUM(K12:K12) -> 0
C12: ＠ | E12: 円 | F12: × | I12: ＝ | K12: =J12 -> 0
A13: Ⅱ．労務費 | J13: =SUM(J14,J16) -> 0 | K13: =SUM(K14,K16) -> 0
A14: １．研究員費 | J14: =SUM(J15:J15) -> 0 | K14: =SUM(K15:K15) -> 0
I15: ＝ | J15: =D15*G15 -> 0 | K15: =J15 -> 0
A16: ２．補助員費 | J16: =SUM(J17) -> 0 | K16: =SUM(K17) -> 0
I17: ＝ | J17: =D17*G17 -> 0 | K17: =J17 -> 0
A18: Ⅲ．その他経費 | J18: =SUM(J19,J21,J23,J25) -> 0 | K18: =SUM(K19,K21,K23,K25) -> 0 | L18: =SUM(L19,L21,L23,L25) -> 0
A19: １．消耗品費 | J19: =SUM(J20:J20) -> 0 | K19: =SUM(K20:K20) -> 0
C20: ＠ | E20: 円 | F20: × | I20: ＝ | K20: =J20 -> 0
A21: ２．旅費 | J21: =SUM(J22:J22) -> 0 | K21: =SUM(K22:K22) -> 0
I22: ＝ | K22: =J22 -> 0
A23: ３．外注費 | J23: =SUM(J24) -> 0 | K23: =SUM(K24) -> 0
C24: ＠ | E24: 円 | F24: × | I24: ＝ | K24: =J24 -> 0
A25: ４．諸経費 | J25: =SUM(J26:J26) -> 0 | K25: =SUM(K26:K26) -> 0
C26: ＠ | E26: 円 | F26: × | I26: ＝ | J26: =D26*G26 -> 0 | K26: =J26 -> 0
A27: Ⅳ．委託費・共同研究費 | J27: =SUM(J29,J31) -> 0 | K27: =SUM(K29,K31) -> 0
A28: １．委託費・共同研究費
A30: ２．学術機関等に対する共同研究費
A32: 合計(Ⅰ＋Ⅱ＋Ⅲ＋Ⅳ） | J32: =SUM(J6,J13,J18,J27) -> 0 | K32: =SUM(K6,K13,K18,K27) -> 0 | L32: =SUM(L6,L13,L18,L27) -> 0
A35: ※補助先がＮＥＤＯへ計上する補助対象費用は、消費税抜き額になります。
M37: 2026年4月1日版

Sheet 2024
M1: 別紙２－②
A2: 電動車等費用 項目別明細表（補助先用）
A4: （４）●●●●株式会社 項目別明細表(2024年度）
A5: 積算基礎（円） | J5: 補助事業に要する経費 | K5: 補助対象費用 | L5: 補助金参考額（円） | M5: 補助方法
A6: Ⅰ．機械装置等費 | J6: =SUM(J7,J9,J11) -> 0 | K6: =SUM(K7,K9,K11) -> 0 | L6: =SUM(L7,L9,L11) -> 0
A7: １．土木・建築工事費 | J7: =SUM(J8) -> 0 | K7: =SUM(K8) -> 0
C8: ＠ | E8: 円 | F8: × | I8: ＝ | K8: =J8 -> 0
A9: ２．機械装置等製作・購入費 | J9: =SUM(J10:J10) -> 0 | K9: =SUM(K10:K10) -> 0
C10: ＠ | E10: 円 | F10: × | I10: ＝ | K10: =J10 -> 0
A11: ３．保守・改造修理費 | J11: =SUM(J12:J12) -> 0 | K11: =SUM(K12:K12) -> 0
C12: ＠ | E12: 円 | F12: × | I12: ＝ | K12: =J12 -> 0
A13: Ⅱ．労務費 | J13: =SUM(J14,J16) -> 0 | K13: =SUM(K14,K16) -> 0
A14: １．研究員費 | J14: =SUM(J15:J15) -> 0 | K14: =SUM(K15:K15) -> 0
I15: ＝ | J15: =D15*G15 -> 0 | K15: =J15 -> 0
A16: ２．補助員費 | J16: =SUM(J17) -> 0 | K16: =SUM(K17) -> 0
I17: ＝ | J17: =D17*G17 -> 0 | K17: =J17 -> 0
A18: Ⅲ．その他経費 | J18: =SUM(J19,J21,J23,J25) -> 0 | K18: =SUM(K19,K21,K23,K25) -> 0 | L18: =SUM(L19,L21,L23,L25) -> 0
A19: １．消耗品費 | J19: =SUM(J20:J20) -> 0 | K19: =SUM(K20:K20) -> 0
C20: ＠ | E20: 円 | F20: × | I20: ＝ | K20: =J20 -> 0
A21: ２．旅費 | J21: =SUM(J22:J22) -> 0 | K21: =SUM(K22:K22) -> 0
I22: ＝ | K22: =J22 -> 0
A23: ３．外注費 | J23: =SUM(J24) -> 0 | K23: =SUM(K24) -> 0
C24: ＠ | E24: 円 | F24: × | I24: ＝ | K24: =J24 -> 0
A25: ４．諸経費 | J25: =SUM(J26:J26) -> 0 | K25: =SUM(K26:K26) -> 0
C26: ＠ | E26: 円 | F26: × | I26: ＝ | J26: =D26*G26 -> 0 | K26: =J26 -> 0
A27: Ⅳ．委託費・共同研究費 | J27: =SUM(J29,J31) -> 0 | K27: =SUM(K29,K31) -> 0
A28: １．委託費・共同研究費
A30: ２．学術機関等に対する共同研究費
A32: 合計(Ⅰ＋Ⅱ＋Ⅲ＋Ⅳ） | J32: =SUM(J6,J13,J18,J27) -> 0 | K32: =SUM(K6,K13,K18,K27) -> 0 | L32: =SUM(L6,L13,L18,L27) -> 0
A35: ※補助先がＮＥＤＯへ計上する補助対象費用は、消費税抜き額になります。
M37: 2026年4月1日版

Sheet 2025
M1: 別紙２－②
A2: 電動車等費用 項目別明細表（補助先用）
A4: （４）●●●●株式会社 項目別明細表(2025年度）
A5: 積算基礎（円） | J5: 補助事業に要する経費 | K5: 補助対象費用 | L5: 補助金参考額（円） | M5: 補助方法
A6: Ⅰ．機械装置等費 | J6: =SUM(J7,J9,J11) -> 0 | K6: =SUM(K7,K9,K11) -> 0 | L6: =SUM(L7,L9,L11) -> 0
A7: １．土木・建築工事費 | J7: =SUM(J8) -> 0 | K7: =SUM(K8) -> 0
C8: ＠ | E8: 円 | F8: × | I8: ＝ | K8: =J8 -> 0
A9: ２．機械装置等製作・購入費 | J9: =SUM(J10:J10) -> 0 | K9: =SUM(K10:K10) -> 0
C10: ＠ | E10: 円 | F10: × | I10: ＝ | K10: =J10 -> 0
A11: ３．保守・改造修理費 | J11: =SUM(J12:J12) -> 0 | K11: =SUM(K12:K12) -> 0
C12: ＠ | E12: 円 | F12: × | I12: ＝ | K12: =J12 -> 0
A13: Ⅱ．労務費 | J13: =SUM(J14,J16) -> 0 | K13: =SUM(K14,K16) -> 0
A14: １．研究員費 | J14: =SUM(J15:J15) -> 0 | K14: =SUM(K15:K15) -> 0
I15: ＝ | J15: =D15*G15 -> 0 | K15: =J15 -> 0
A16: ２．補助員費 | J16: =SUM(J17) -> 0 | K16: =SUM(K17) -> 0
I17: ＝ | J17: =D17*G17 -> 0 | K17: =J17 -> 0
A18: Ⅲ．その他経費 | J18: =SUM(J19,J21,J23,J25) -> 0 | K18: =SUM(K19,K21,K23,K25) -> 0 | L18: =SUM(L19,L21,L23,L25) -> 0
A19: １．消耗品費 | J19: =SUM(J20:J20) -> 0 | K19: =SUM(K20:K20) -> 0
C20: ＠ | E20: 円 | F20: × | I20: ＝ | K20: =J20 -> 0
A21: ２．旅費 | J21: =SUM(J22:J22) -> 0 | K21: =SUM(K22:K22) -> 0
I22: ＝ | K22: =J22 -> 0
A23: ３．外注費 | J23: =SUM(J24) -> 0 | K23: =SUM(K24) -> 0
C24: ＠ | E24: 円 | F24: × | I24: ＝ | K24: =J24 -> 0
A25: ４．諸経費 | J25: =SUM(J26:J26) -> 0 | K25: =SUM(K26:K26) -> 0
C26: ＠ | E26: 円 | F26: × | I26: ＝ | J26: =D26*G26 -> 0 | K26: =J26 -> 0
A27: Ⅳ．委託費・共同研究費 | J27: =SUM(J29,J31) -> 0 | K27: =SUM(K29,K31) -> 0
A28: １．委託費・共同研究費
A30: ２．学術機関等に対する共同研究費
A32: 合計(Ⅰ＋Ⅱ＋Ⅲ＋Ⅳ） | J32: =SUM(J6,J13,J18,J27) -> 0 | K32: =SUM(K6,K13,K18,K27) -> 0 | L32: =SUM(L6,L13,L18,L27) -> 0
A35: ※補助先がＮＥＤＯへ計上する補助対象費用は、消費税抜き額になります。
M37: 2026年4月1日版

Sheet 2026
M1: 別紙２－②
A2: 電動車等費用 項目別明細表（補助先用）
A4: （４）●●●●株式会社 項目別明細表(2026年度）
A5: 積算基礎（円） | J5: 補助事業に要する経費 | K5: 補助対象費用 | L5: 補助金参考額（円） | M5: 補助方法
A6: Ⅰ．機械装置等費 | J6: =SUM(J7,J9,J11) -> 0 | K6: =SUM(K7,K9,K11) -> 0 | L6: =SUM(L7,L9,L11) -> 0
A7: １．土木・建築工事費 | J7: =SUM(J8) -> 0 | K7: =SUM(K8) -> 0
C8: ＠ | E8: 円 | F8: × | I8: ＝ | K8: =J8 -> 0
A9: ２．機械装置等製作・購入費 | J9: =SUM(J10:J10) -> 0 | K9: =SUM(K10:K10) -> 0
C10: ＠ | E10: 円 | F10: × | I10: ＝ | K10: =J10 -> 0
A11: ３．保守・改造修理費 | J11: =SUM(J12:J12) -> 0 | K11: =SUM(K12:K12) -> 0
C12: ＠ | E12: 円 | F12: × | I12: ＝ | K12: =J12 -> 0
A13: Ⅱ．労務費 | J13: =SUM(J14,J16) -> 0 | K13: =SUM(K14,K16) -> 0
A14: １．研究員費 | J14: =SUM(J15:J15) -> 0 | K14: =SUM(K15:K15) -> 0
I15: ＝ | J15: =D15*G15 -> 0 | K15: =J15 -> 0
A16: ２．補助員費 | J16: =SUM(J17) -> 0 | K16: =SUM(K17) -> 0
I17: ＝ | J17: =D17*G17 -> 0 | K17: =J17 -> 0
A18: Ⅲ．その他経費 | J18: =SUM(J19,J21,J23,J25) -> 0 | K18: =SUM(K19,K21,K23,K25) -> 0 | L18: =SUM(L19,L21,L23,L25) -> 0
A19: １．消耗品費 | J19: =SUM(J20:J20) -> 0 | K19: =SUM(K20:K20) -> 0
C20: ＠ | E20: 円 | F20: × | I20: ＝ | K20: =J20 -> 0
A21: ２．旅費 | J21: =SUM(J22:J22) -> 0 | K21: =SUM(K22:K22) -> 0
I22: ＝ | K22: =J22 -> 0
A23: ３．外注費 | J23: =SUM(J24) -> 0 | K23: =SUM(K24) -> 0
C24: ＠ | E24: 円 | F24: × | I24: ＝ | K24: =J24 -> 0
A25: ４．諸経費 | J25: =SUM(J26:J26) -> 0 | K25: =SUM(K26:K26) -> 0
C26: ＠ | E26: 円 | F26: × | I26: ＝ | J26: =D26*G26 -> 0 | K26: =J26 -> 0
A27: Ⅳ．委託費・共同研究費 | J27: =SUM(J29,J31) -> 0 | K27: =SUM(K29,K31) -> 0
A28: １．委託費・共同研究費
A30: ２．学術機関等に対する共同研究費
A32: 合計(Ⅰ＋Ⅱ＋Ⅲ＋Ⅳ） | J32: =SUM(J6,J13,J18,J27) -> 0 | K32: =SUM(K6,K13,K18,K27) -> 0 | L32: =SUM(L6,L13,L18,L27) -> 0
A35: ※補助先がＮＥＤＯへ計上する補助対象費用は、消費税抜き額になります。
M37: 2026年4月1日版

Sheet 2027
M1: 別紙２－②
A2: 電動車等費用 項目別明細表（補助先用）
A4: （４）●●●●株式会社 項目別明細表(2027年度）
A5: 積算基礎（円） | J5: 補助事業に要する経費 | K5: 補助対象費用 | L5: 補助金参考額（円） | M5: 補助方法
A6: Ⅰ．機械装置等費 | J6: =SUM(J7,J9,J11) -> 0 | K6: =SUM(K7,K9,K11) -> 0 | L6: =SUM(L7,L9,L11) -> 0
A7: １．土木・建築工事費 | J7: =SUM(J8) -> 0 | K7: =SUM(K8) -> 0
C8: ＠ | E8: 円 | F8: × | I8: ＝ | K8: =J8 -> 0
A9: ２．機械装置等製作・購入費 | J9: =SUM(J10:J10) -> 0 | K9: =SUM(K10:K10) -> 0
C10: ＠ | E10: 円 | F10: × | I10: ＝ | K10: =J10 -> 0
A11: ３．保守・改造修理費 | J11: =SUM(J12:J12) -> 0 | K11: =SUM(K12:K12) -> 0
C12: ＠ | E12: 円 | F12: × | I12: ＝ | K12: =J12 -> 0
A13: Ⅱ．労務費 | J13: =SUM(J14,J16) -> 0 | K13: =SUM(K14,K16) -> 0
A14: １．研究員費 | J14: =SUM(J15:J15) -> 0 | K14: =SUM(K15:K15) -> 0
I15: ＝ | J15: =D15*G15 -> 0 | K15: =J15 -> 0
A16: ２．補助員費 | J16: =SUM(J17) -> 0 | K16: =SUM(K17) -> 0
I17: ＝ | J17: =D17*G17 -> 0 | K17: =J17 -> 0
A18: Ⅲ．その他経費 | J18: =SUM(J19,J21,J23,J25) -> 0 | K18: =SUM(K19,K21,K23,K25) -> 0 | L18: =SUM(L19,L21,L23,L25) -> 0
A19: １．消耗品費 | J19: =SUM(J20:J20) -> 0 | K19: =SUM(K20:K20) -> 0
C20: ＠ | E20: 円 | F20: × | I20: ＝ | K20: =J20 -> 0
A21: ２．旅費 | J21: =SUM(J22:J22) -> 0 | K21: =SUM(K22:K22) -> 0
I22: ＝ | K22: =J22 -> 0
A23: ３．外注費 | J23: =SUM(J24) -> 0 | K23: =SUM(K24) -> 0
C24: ＠ | E24: 円 | F24: × | I24: ＝ | K24: =J24 -> 0
A25: ４．諸経費 | J25: =SUM(J26:J26) -> 0 | K25: =SUM(K26:K26) -> 0
C26: ＠ | E26: 円 | F26: × | I26: ＝ | J26: =D26*G26 -> 0 | K26: =J26 -> 0
A27: Ⅳ．委託費・共同研究費 | J27: =SUM(J29,J31) -> 0 | K27: =SUM(K29,K31) -> 0
A28: １．委託費・共同研究費
A30: ２．学術機関等に対する共同研究費
A32: 合計(Ⅰ＋Ⅱ＋Ⅲ＋Ⅳ） | J32: =SUM(J6,J13,J18,J27) -> 0 | K32: =SUM(K6,K13,K18,K27) -> 0 | L32: =SUM(L6,L13,L18,L27) -> 0
A35: ※補助先がＮＥＤＯへ計上する補助対象費用は、消費税抜き額になります。
M37: 2026年4月1日版

Sheet 2028
M1: 別紙２－②
A2: 電動車等費用 項目別明細表（補助先用）
A4: （４）●●●●株式会社 項目別明細表(2028年度）
A5: 積算基礎（円） | J5: 補助事業に要する経費 | K5: 補助対象費用 | L5: 補助金参考額（円） | M5: 補助方法
A6: Ⅰ．機械装置等費 | J6: =SUM(J7,J9,J11) -> 0 | K6: =SUM(K7,K9,K11) -> 0 | L6: =SUM(L7,L9,L11) -> 0
A7: １．土木・建築工事費 | J7: =SUM(J8) -> 0 | K7: =SUM(K8) -> 0
C8: ＠ | E8: 円 | F8: × | I8: ＝ | K8: =J8 -> 0
A9: ２．機械装置等製作・購入費 | J9: =SUM(J10:J10) -> 0 | K9: =SUM(K10:K10) -> 0
C10: ＠ | E10: 円 | F10: × | I10: ＝ | K10: =J10 -> 0
A11: ３．保守・改造修理費 | J11: =SUM(J12:J12) -> 0 | K11: =SUM(K12:K12) -> 0
C12: ＠ | E12: 円 | F12: × | I12: ＝ | K12: =J12 -> 0
A13: Ⅱ．労務費 | J13: =SUM(J14,J16) -> 0 | K13: =SUM(K14,K16) -> 0
A14: １．研究員費 | J14: =SUM(J15:J15) -> 0 | K14: =SUM(K15:K15) -> 0
I15: ＝ | J15: =D15*G15 -> 0 | K15: =J15 -> 0
A16: ２．補助員費 | J16: =SUM(J17) -> 0 | K16: =SUM(K17) -> 0
I17: ＝ | J17: =D17*G17 -> 0 | K17: =J17 -> 0
A18: Ⅲ．その他経費 | J18: =SUM(J19,J21,J23,J25) -> 0 | K18: =SUM(K19,K21,K23,K25) -> 0 | L18: =SUM(L19,L21,L23,L25) -> 0
A19: １．消耗品費 | J19: =SUM(J20:J20) -> 0 | K19: =SUM(K20:K20) -> 0
C20: ＠ | E20: 円 | F20: × | I20: ＝ | K20: =J20 -> 0
A21: ２．旅費 | J21: =SUM(J22:J22) -> 0 | K21: =SUM(K22:K22) -> 0
I22: ＝ | K22: =J22 -> 0
A23: ３．外注費 | J23: =SUM(J24) -> 0 | K23: =SUM(K24) -> 0
C24: ＠ | E24: 円 | F24: × | I24: ＝ | K24: =J24 -> 0
A25: ４．諸経費 | J25: =SUM(J26:J26) -> 0 | K25: =SUM(K26:K26) -> 0
C26: ＠ | E26: 円 | F26: × | I26: ＝ | J26: =D26*G26 -> 0 | K26: =J26 -> 0
A27: Ⅳ．委託費・共同研究費 | J27: =SUM(J29,J31) -> 0 | K27: =SUM(K29,K31) -> 0
A28: １．委託費・共同研究費
A30: ２．学術機関等に対する共同研究費
A32: 合計(Ⅰ＋Ⅱ＋Ⅲ＋Ⅳ） | J32: =SUM(J6,J13,J18,J27) -> 0 | K32: =SUM(K6,K13,K18,K27) -> 0 | L32: =SUM(L6,L13,L18,L27) -> 0
A35: ※補助先がＮＥＤＯへ計上する補助対象費用は、消費税抜き額になります。
M37: 2026年4月1日版

Sheet 2029
M1: 別紙２－②
A2: 電動車等費用 項目別明細表（補助先用）
A4: （４）●●●●株式会社 項目別明細表(2029年度）
A5: 積算基礎（円） | J5: 補助事業に要する経費 | K5: 補助対象費用 | L5: 補助金参考額（円） | M5: 補助方法
A6: Ⅰ．機械装置等費 | J6: =SUM(J7,J9,J11) -> 0 | K6: =SUM(K7,K9,K11) -> 0 | L6: =SUM(L7,L9,L11) -> 0
A7: １．土木・建築工事費 | J7: =SUM(J8) -> 0 | K7: =SUM(K8) -> 0
C8: ＠ | E8: 円 | F8: × | I8: ＝ | K8: =J8 -> 0
A9: ２．機械装置等製作・購入費 | J9: =SUM(J10:J10) -> 0 | K9: =SUM(K10:K10) -> 0
C10: ＠ | E10: 円 | F10: × | I10: ＝ | K10: =J10 -> 0
A11: ３．保守・改造修理費 | J11: =SUM(J12:J12) -> 0 | K11: =SUM(K12:K12) -> 0
C12: ＠ | E12: 円 | F12: × | I12: ＝ | K12: =J12 -> 0
A13: Ⅱ．労務費 | J13: =SUM(J14,J16) -> 0 | K13: =SUM(K14,K16) -> 0
A14: １．研究員費 | J14: =SUM(J15:J15) -> 0 | K14: =SUM(K15:K15) -> 0
I15: ＝ | J15: =D15*G15 -> 0 | K15: =J15 -> 0
A16: ２．補助員費 | J16: =SUM(J17) -> 0 | K16: =SUM(K17) -> 0
I17: ＝ | J17: =D17*G17 -> 0 | K17: =J17 -> 0
A18: Ⅲ．その他経費 | J18: =SUM(J19,J21,J23,J25) -> 0 | K18: =SUM(K19,K21,K23,K25) -> 0 | L18: =SUM(L19,L21,L23,L25) -> 0
A19: １．消耗品費 | J19: =SUM(J20:J20) -> 0 | K19: =SUM(K20:K20) -> 0
C20: ＠ | E20: 円 | F20: × | I20: ＝ | K20: =J20 -> 0
A21: ２．旅費 | J21: =SUM(J22:J22) -> 0 | K21: =SUM(K22:K22) -> 0
I22: ＝ | K22: =J22 -> 0
A23: ３．外注費 | J23: =SUM(J24) -> 0 | K23: =SUM(K24) -> 0
C24: ＠ | E24: 円 | F24: × | I24: ＝ | K24: =J24 -> 0
A25: ４．諸経費 | J25: =SUM(J26:J26) -> 0 | K25: =SUM(K26:K26) -> 0
C26: ＠ | E26: 円 | F26: × | I26: ＝ | J26: =D26*G26 -> 0 | K26: =J26 -> 0
A27: Ⅳ．委託費・共同研究費 | J27: =SUM(J29,J31) -> 0 | K27: =SUM(K29,K31) -> 0
A28: １．委託費・共同研究費
A30: ２．学術機関等に対する共同研究費
A32: 合計(Ⅰ＋Ⅱ＋Ⅲ＋Ⅳ） | J32: =SUM(J6,J13,J18,J27) -> 0 | K32: =SUM(K6,K13,K18,K27) -> 0 | L32: =SUM(L6,L13,L18,L27) -> 0
A35: ※補助先がＮＥＤＯへ計上する補助対象費用は、消費税抜き額になります。
M37: 2026年4月1日版

Sheet 2030
M1: 別紙２－②
A2: 電動車等費用 項目別明細表（補助先用）
A4: （４）●●●●株式会社 項目別明細表(2030年度）
A5: 積算基礎（円） | J5: 補助事業に要する経費 | K5: 補助対象費用 | L5: 補助金参考額（円） | M5: 補助方法
A6: Ⅰ．機械装置等費 | J6: =SUM(J7,J9,J11) -> 0 | K6: =SUM(K7,K9,K11) -> 0 | L6: =SUM(L7,L9,L11) -> 0
A7: １．土木・建築工事費 | J7: =SUM(J8) -> 0 | K7: =SUM(K8) -> 0
C8: ＠ | E8: 円 | F8: × | I8: ＝ | K8: =J8 -> 0
A9: ２．機械装置等製作・購入費 | J9: =SUM(J10:J10) -> 0 | K9: =SUM(K10:K10) -> 0
C10: ＠ | E10: 円 | F10: × | I10: ＝ | K10: =J10 -> 0
A11: ３．保守・改造修理費 | J11: =SUM(J12:J12) -> 0 | K11: =SUM(K12:K12) -> 0
C12: ＠ | E12: 円 | F12: × | I12: ＝ | K12: =J12 -> 0
A13: Ⅱ．労務費 | J13: =SUM(J14,J16) -> 0 | K13: =SUM(K14,K16) -> 0
A14: １．研究員費 | J14: =SUM(J15:J15) -> 0 | K14: =SUM(K15:K15) -> 0
I15: ＝ | J15: =D15*G15 -> 0 | K15: =J15 -> 0
A16: ２．補助員費 | J16: =SUM(J17) -> 0 | K16: =SUM(K17) -> 0
I17: ＝ | J17: =D17*G17 -> 0 | K17: =J17 -> 0
A18: Ⅲ．その他経費 | J18: =SUM(J19,J21,J23,J25) -> 0 | K18: =SUM(K19,K21,K23,K25) -> 0 | L18: =SUM(L19,L21,L23,L25) -> 0
A19: １．消耗品費 | J19: =SUM(J20:J20) -> 0 | K19: =SUM(K20:K20) -> 0
C20: ＠ | E20: 円 | F20: × | I20: ＝ | K20: =J20 -> 0
A21: ２．旅費 | J21: =SUM(J22:J22) -> 0 | K21: =SUM(K22:K22) -> 0
I22: ＝ | K22: =J22 -> 0
A23: ３．外注費 | J23: =SUM(J24) -> 0 | K23: =SUM(K24) -> 0
C24: ＠ | E24: 円 | F24: × | I24: ＝ | K24: =J24 -> 0
A25: ４．諸経費 | J25: =SUM(J26:J26) -> 0 | K25: =SUM(K26:K26) -> 0
C26: ＠ | E26: 円 | F26: × | I26: ＝ | J26: =D26*G26 -> 0 | K26: =J26 -> 0
A27: Ⅳ．委託費・共同研究費 | J27: =SUM(J29,J31) -> 0 | K27: =SUM(K29,K31) -> 0
A28: １．委託費・共同研究費
A30: ２．学術機関等に対する共同研究費
A32: 合計(Ⅰ＋Ⅱ＋Ⅲ＋Ⅳ） | J32: =SUM(J6,J13,J18,J27) -> 0 | K32: =SUM(K6,K13,K18,K27) -> 0 | L32: =SUM(L6,L13,L18,L27) -> 0
A35: ※補助先がＮＥＤＯへ計上する補助対象費用は、消費税抜き額になります。
M37: 2026年4月1日版
