Workbook

Sheet 補助先総括表
K1: 別紙２－①
A2: （参考）グリーンイノベーション基金事業全期間 補助先総括表（基本費用のみ）
A4: （２）補助先総括表（基本費用）
A5: テーマ名：○○○○○○
A6: ●●●●株式会社
A7: ※交付決定期間外の費用は参考値 | K7: （単位：円）
A8: 項目 | B8: 事業期間全体 | C8: 2022 | D8: 2023 | E8: 2024 | F8: 2025 | G8: 2026 | H8: 2027 | I8: 2028 | J8: 2029 | K8: 2030
A9: Ⅰ．機械装置等費 | B9: =SUM(C9:K9) -> 0 | C9: =SUM(C10:C12) -> 0 | D9: =SUM(D10:D12) -> 0 | E9: =SUM(E10:E12) -> 0 | F9: =SUM(F10:F12) -> 0 | G9: =SUM(G10:G12) -> 0 | H9: =SUM(H10:H12) -> 0 | I9: =SUM(I10:I12) -> 0 | J9: =SUM(J10:J12) -> 0 | K9: =SUM(K10:K12) -> 0
A10: １．土木・建築工事費 | B10: =SUM(C10:K10) -> 0 | C10: =補助先_2022!K7 -> 0 | D10: =補助先_2023!K7 -> 0 | E10: =補助先_2024!K7 -> 0 | F10: =補助先_2025!K7 -> 0 | G10: =補助先_2026!K7 -> 0 | H10: =補助先_2027!K7 -> 0 | I10: =補助先_2028!K7 -> 0 | J10: =補助先_2029!K7 -> 0 | K10: =補助先_2030!K7 -> 0
A11: ２．機械装置等製作・購入費 | B11: =SUM(C11:K11) -> 0 | C11: =補助先_2022!K10 -> 0 | D11: =補助先_2023!K10 -> 0 | E11: =補助先_2024!K10 -> 0 | F11: =補助先_2025!K10 -> 0 | G11: =補助先_2026!K10 -> 0 | H11: =補助先_2027!K10 -> 0 | I11: =補助先_2028!K10 -> 0 | J11: =補助先_2029!K10 -> 0 | K11: =補助先_2030!K10 -> 0
A12: ３．保守・改造修理費 | B12: =SUM(C12:K12) -> 0 | C12: =補助先_2022!K16 -> 0 | D12: =補助先_2023!K16 -> 0 | E12: =補助先_2024!K16 -> 0 | F12: =補助先_2025!K16 -> 0 | G12: =補助先_2026!K16 -> 0 | H12: =補助先_2027!K16 -> 0 | I12: =補助先_2028!K16 -> 0 | J12: =補助先_2029!K16 -> 0 | K12: =補助先_2030!K16 -> 0
A13: Ⅱ．労務費 | B13: =SUM(C13:K13) -> 0 | C13: =SUM(C14:C15) -> 0 | D13: =SUM(D14:D15) -> 0 | E13: =SUM(E14:E15) -> 0 | F13: =SUM(F14:F15) -> 0 | G13: =SUM(G14:G15) -> 0 | H13: =SUM(H14:H15) -> 0 | I13: =SUM(I14:I15) -> 0 | J13: =SUM(J14:J15) -> 0 | K13: =SUM(K14:K15) -> 0
A14: １．研究員費 | B14: =SUM(C14:K14) -> 0 | C14: =補助先_2022!K20 -> 0 | D14: =補助先_2023!K20 -> 0 | E14: =補助先_2024!K20 -> 0 | F14: =補助先_2025!K20 -> 0 | G14: =補助先_2026!K20 -> 0 | H14: =補助先_2027!K20 -> 0 | I14: =補助先_2028!K20 -> 0 | J14: =補助先_2029!K20 -> 0 | K14: =補助先_2030!K20 -> 0
A15: ２．補助員費 | B15: =SUM(C15:K15) -> 0 | C15: =補助先_2022!K23 -> 0 | D15: =補助先_2023!K23 -> 0 | E15: =補助先_2024!K23 -> 0 | F15: =補助先_2025!K23 -> 0 | G15: =補助先_2026!K23 -> 0 | H15: =補助先_2027!K23 -> 0 | I15: =補助先_2028!K23 -> 0 | J15: =補助先_2029!K23 -> 0 | K15: =補助先_2030!K23 -> 0
A16: Ⅲ．その他経費 | B16: =SUM(C16:K16) -> 0 | C16: =SUM(C17:C20) -> 0 | D16: =SUM(D17:D20) -> 0 | E16: =SUM(E17:E20) -> 0 | F16: =SUM(F17:F20) -> 0 | G16: =SUM(G17:G20) -> 0 | H16: =SUM(H17:H20) -> 0 | I16: =SUM(I17:I20) -> 0 | J16: =SUM(J17:J20) -> 0 | K16: =SUM(K17:K20) -> 0
A17: １．消耗品費 | B17: =SUM(C17:K17) -> 0 | C17: =補助先_2022!K26 -> 0 | D17: =補助先_2023!K26 -> 0 | E17: =補助先_2024!K26 -> 0 | F17: =補助先_2025!K26 -> 0 | G17: =補助先_2026!K26 -> 0 | H17: =補助先_2027!K26 -> 0 | I17: =補助先_2028!K26 -> 0 | J17: =補助先_2029!K26 -> 0 | K17: =補助先_2030!K26 -> 0
A18: ２．旅費 | B18: =SUM(C18:K18) -> 0 | C18: =補助先_2022!K29 -> 0 | D18: =補助先_2023!K29 -> 0 | E18: =補助先_2024!K29 -> 0 | F18: =補助先_2025!K29 -> 0 | G18: =補助先_2026!K29 -> 0 | H18: =補助先_2027!K29 -> 0 | I18: =補助先_2028!K29 -> 0 | J18: =補助先_2029!K29 -> 0 | K18: =補助先_2030!K29 -> 0
A19: ３．外注費 | B19: =SUM(C19:K19) -> 0 | C19: =補助先_2022!K33 -> 0 | D19: =補助先_2023!K33 -> 0 | E19: =補助先_2024!K33 -> 0 | F19: =補助先_2025!K33 -> 0 | G19: =補助先_2026!K33 -> 0 | H19: =補助先_2027!K33 -> 0 | I19: =補助先_2028!K33 -> 0 | J19: =補助先_2029!K33 -> 0 | K19: =補助先_2030!K33 -> 0
A20: ４．諸経費 | B20: =SUM(C20:K20) -> 0 | C20: =補助先_2022!K35 -> 0 | D20: =補助先_2023!K35 -> 0 | E20: =補助先_2024!K35 -> 0 | F20: =補助先_2025!K35 -> 0 | G20: =補助先_2026!K35 -> 0 | H20: =補助先_2027!K35 -> 0 | I20: =補助先_2028!K35 -> 0 | J20: =補助先_2029!K35 -> 0 | K20: =補助先_2030!K35 -> 0
A21: Ⅳ．委託費・共同研究費 | B21: =SUM(C21:K21) -> 0 | C21: =SUM(C22:C23) -> 0 | D21: =SUM(D22:D23) -> 0 | E21: =SUM(E22:E23) -> 0 | F21: =SUM(F22:F23) -> 0 | G21: =SUM(G22:G23) -> 0 | H21: =SUM(H22:H23) -> 0 | I21: =SUM(I22:I23) -> 0 | J21: =SUM(J22:J23) -> 0 | K21: =SUM(K22:K23) -> 0
A22: １．委託費・共同研究費 | B22: =SUM(C22:K22) -> 0 | C22: =委託・共同研究総括表!C23 -> 0 | D22: =委託・共同研究総括表!D23 -> 0 | E22: =委託・共同研究総括表!E23 -> 0 | F22: =委託・共同研究総括表!F23 -> 0 | G22: =委託・共同研究総括表!G23 -> 0 | H22: =委託・共同研究総括表!H23 -> 0 | I22: =委託・共同研究総括表!I23 -> 0 | J22: =委託・共同研究総括表!J23 -> 0 | K22: =委託・共同研究総括表!K23 -> 0
A23: ２．学術機関等に対する共同研究費 | B23: =SUM(C23:K23) -> 0
A24: 合計（Ⅰ＋Ⅱ＋Ⅲ＋Ⅳ） | B24: =SUM(C24:K24) -> 0 | C24: =SUM(C9,C13,C16,C21) -> 0 | D24: =SUM(D9,D13,D16,D21) -> 0 | E24: =SUM(E9,E13,E16,E21) -> 0 | F24: =SUM(F9,F13,F16,F21) -> 0 | G24: =SUM(G9,G13,G16,G21) -> 0 | H24: =SUM(H9,H13,H16,H21) -> 0 | I24: =SUM(I9,I13,I16,I21) -> 0 | J24: =SUM(J9,J13,J16,J21) -> 0 | K24: =SUM(K9,K13,K16,K21) -> 0
A25: ＊補助金の額 | B25: =SUM(C25:K25) -> 0 | C25: 0 | D25: 0 | E25: 0 | F25: 0 | G25: 0 | H25: 0 | I25: 0 | J25: 0 | K25: 0
A26: ＜＊補助率 ○／○＞
A28: ※項目毎に「補助対象費用」を記入してください。
A29: ※Ⅳ．委託費・共同研究費の補助先がＮＥＤＯへ計上する補助対象費用は、消費税抜き額になります。
K30: 2026年4月1日版

Sheet 委託・共同研究総括表
K1: 別紙２－①
A2: （参考）グリーンイノベーション基金事業全期間 委託先／共同研究先総括表
A4: （３）委託先、共同研究先総括表
A5: 補助事業の名称：・・・・・・技術開発
A6: 株式会社□□
A7: ※交付決定期間外の費用は参考値 | K7: （単位：円）
A8: 項目 | B8: 事業期間全体 | C8: 2022 | D8: 2023 | E8: 2024 | F8: 2025 | G8: 2026 | H8: 2027 | I8: 2028 | J8: 2029 | K8: 2030
A9: Ⅰ．機械装置等費 | B9: =SUM(C9:K9) -> 0 | C9: =SUM(C10:C12) -> 0 | D9: =SUM(D10:D12) -> 0 | E9: =SUM(E10:E12) -> 0 | F9: =SUM(F10:F12) -> 0 | G9: =SUM(G10:G12) -> 0 | H9: =SUM(H10:H12) -> 0 | I9: =SUM(I10:I12) -> 0 | J9: =SUM(J10:J12) -> 0 | K9: =SUM(K10:K12) -> 0
A10: １．土木・建築工事費 | B10: =SUM(C10:K10) -> 0 | C10: =委託・共研_2022!K7 -> 0 | D10: =委託・共研_2023!K7 -> 0 | E10: =委託・共研_2024!K7 -> 0 | F10: =委託・共研_2025!K7 -> 0 | G10: =委託・共研_2026!K7 -> 0 | H10: =委託・共研_2027!K7 -> 0 | I10: =委託・共研_2028!K7 -> 0 | J10: =委託・共研_2029!K7 -> 0 | K10: =委託・共研_2030!K7 -> 0
A11: ２．機械装置等製作・購入費 | B11: =SUM(C11:K11) -> 0 | C11: =委託・共研_2022!K10 -> 0 | D11: =委託・共研_2023!K10 -> 0 | E11: =委託・共研_2024!K10 -> 0 | F11: =委託・共研_2025!K10 -> 0 | G11: =委託・共研_2026!K10 -> 0 | H11: =委託・共研_2027!K10 -> 0 | I11: =委託・共研_2028!K10 -> 0 | J11: =委託・共研_2029!K10 -> 0 | K11: =委託・共研_2030!K10 -> 0
A12: ３．保守・改造修理費 | B12: =SUM(C12:K12) -> 0 | C12: =委託・共研_2022!K16 -> 0 | D12: =委託・共研_2023!K16 -> 0 | E12: =委託・共研_2024!K16 -> 0 | F12: =委託・共研_2025!K16 -> 0 | G12: =委託・共研_2026!K16 -> 0 | H12: =委託・共研_2027!K16 -> 0 | I12: =委託・共研_2028!K16 -> 0 | J12: =委託・共研_2029!K16 -> 0 | K12: =委託・共研_2030!K16 -> 0
A13: Ⅱ．労務費 | B13: =SUM(C13:K13) -> 0 | C13: =SUM(C14:C15) -> 0 | D13: =SUM(D14:D15) -> 0 | E13: =SUM(E14:E15) -> 0 | F13: =SUM(F14:F15) -> 0 | G13: =SUM(G14:G15) -> 0 | H13: =SUM(H14:H15) -> 0 | I13: =SUM(I14:I15) -> 0 | J13: =SUM(J14:J15) -> 0 | K13: =SUM(K14:K15) -> 0
A14: １．研究員費 | B14: =SUM(C14:K14) -> 0 | C14: =委託・共研_2022!K20 -> 0 | D14: =委託・共研_2023!K20 -> 0 | E14: =委託・共研_2024!K20 -> 0 | F14: =委託・共研_2025!K20 -> 0 | G14: =委託・共研_2026!K20 -> 0 | H14: =委託・共研_2027!K20 -> 0 | I14: =委託・共研_2028!K20 -> 0 | J14: =委託・共研_2029!K20 -> 0 | K14: =委託・共研_2030!K20 -> 0
A15: ２．補助員費 | B15: =SUM(C15:K15) -> 0 | C15: =委託・共研_2022!K23 -> 0 | D15: =委託・共研_2023!K23 -> 0 | E15: =委託・共研_2024!K23 -> 0 | F15: =委託・共研_2025!K23 -> 0 | G15: =委託・共研_2026!K23 -> 0 | H15: =委託・共研_2027!K23 -> 0 | I15: =委託・共研_2028!K23 -> 0 | J15: =委託・共研_2029!K23 -> 0 | K15: =委託・共研_2030!K23 -> 0
A16: Ⅲ．その他経費 | B16: =SUM(C16:K16) -> 0 | C16: =SUM(C17:C20) -> 0 | D16: =SUM(D17:D20) -> 0 | E16: =SUM(E17:E20) -> 0 | F16: =SUM(F17:F20) -> 0 | G16: =SUM(G17:G20) -> 0 | H16: =SUM(H17:H20) -> 0 | I16: =SUM(I17:I20) -> 0 | J16: =SUM(J17:J20) -> 0 | K16: =SUM(K17:K20) -> 0
A17: １．消耗品費 | B17: =SUM(C17:K17) -> 0 | C17: =委託・共研_2022!K26 -> 0 | D17: =委託・共研_2023!K26 -> 0 | E17: =委託・共研_2024!K26 -> 0 | F17: =委託・共研_2025!K26 -> 0 | G17: =委託・共研_2026!K26 -> 0 | H17: =委託・共研_2027!K26 -> 0 | I17: =委託・共研_2028!K26 -> 0 | J17: =委託・共研_2029!K26 -> 0 | K17: =委託・共研_2030!K26 -> 0
A18: ２．旅費 | B18: =SUM(C18:K18) -> 0 | C18: =委託・共研_2022!K29 -> 0 | D18: =委託・共研_2023!K29 -> 0 | E18: =委託・共研_2024!K29 -> 0 | F18: =委託・共研_2025!K29 -> 0 | G18: =委託・共研_2026!K29 -> 0 | H18: =委託・共研_2027!K29 -> 0 | I18: =委託・共研_2028!K29 -> 0 | J18: =委託・共研_2029!K29 -> 0 | K18: =委託・共研_2030!K29 -> 0
A19: ３．外注費 | B19: =SUM(C19:K19) -> 0 | C19: =委託・共研_2022!K33 -> 0 | D19: =委託・共研_2023!K33 -> 0 | E19: =委託・共研_2024!K33 -> 0 | F19: =委託・共研_2025!K33 -> 0 | G19: =委託・共研_2026!K33 -> 0 | H19: =委託・共研_2027!K33 -> 0 | I19: =委託・共研_2028!K33 -> 0 | J19: =委託・共研_2029!K33 -> 0 | K19: =委託・共研_2030!K33 -> 0
A20: ４．諸経費 | B20: =SUM(C20:K20) -> 0 | C20: =委託・共研_2022!K35 -> 0 | D20: =委託・共研_2023!K35 -> 0 | E20: =委託・共研_2024!K35 -> 0 | F20: =委託・共研_2025!K35 -> 0 | G20: =委託・共研_2026!K35 -> 0 | H20: =委託・共研_2027!K35 -> 0 | I20: =委託・共研_2028!K35 -> 0 | J20: =委託・共研_2029!K35 -> 0 | K20: =委託・共研_2030!K35 -> 0
A21: 小計（Ⅰ＋Ⅱ＋Ⅲ） | B21: =SUM(C21:K21) -> 0 | C21: =SUM(C9,C13,C16) -> 0 | D21: =SUM(D9,D13,D16) -> 0 | E21: =SUM(E9,E13,E16) -> 0 | F21: =SUM(F9,F13,F16) -> 0 | G21: =SUM(G9,G13,G16) -> 0 | H21: =SUM(H9,H13,H16) -> 0 | I21: =SUM(I9,I13,I16) -> 0 | J21: =SUM(J9,J13,J16) -> 0 | K21: =SUM(K9,K13,K16) -> 0
A22: Ⅳ．間接経費 | B22: =SUM(C22:K22) -> 0 | C22: =委託・共研_2022!K40 -> 0 | D22: =委託・共研_2023!K40 -> 0 | E22: =委託・共研_2024!K40 -> 0 | F22: =委託・共研_2025!K40 -> 0 | G22: =委託・共研_2026!K40 -> 0 | H22: =委託・共研_2027!K40 -> 0 | I22: =委託・共研_2028!K40 -> 0 | J22: =委託・共研_2029!K40 -> 0 | K22: =委託・共研_2030!K40 -> 0
A23: 合計（Ⅰ＋Ⅱ＋Ⅲ＋Ⅳ） | B23: =SUM(C23:K23) -> 0 | C23: =SUM(C21:C22) -> 0 | D23: =SUM(D21:D22) -> 0 | E23: =SUM(E21:E22) -> 0 | F23: =SUM(F21:F22) -> 0 | G23: =SUM(G21:G22) -> 0 | H23: =SUM(H21:H22) -> 0 | I23: =SUM(I21:I22) -> 0 | J23: =SUM(J21:J22) -> 0 | K23: =SUM(K21:K22) -> 0
A24: 消費税及び地方消費税 | B24: =SUM(C24:K24) -> 0 | C24: =委託・共研_2022!J42 -> 0 | D24: =委託・共研_2023!J42 -> 0 | E24: =委託・共研_2024!J42 -> 0 | F24: =委託・共研_2025!J42 -> 0 | G24: =委託・共研_2026!J42 -> 0 | H24: =委託・共研_2027!J42 -> 0 | I24: =委託・共研_2028!J42 -> 0 | J24: =委託・共研_2029!J42 -> 0 | K24: =委託・共研_2030!J42 -> 0
A25: 総計 | B25: =SUM(C25:K25) -> 0 | C25: =SUM(C23:C24) -> 0 | D25: =SUM(D23:D24) -> 0 | E25: =SUM(E23:E24) -> 0 | F25: =SUM(F23:F24) -> 0 | G25: =SUM(G23:G24) -> 0 | H25: =SUM(H23:H24) -> 0 | I25: =SUM(I23:I24) -> 0 | J25: =SUM(J23:J24) -> 0 | K25: =SUM(K23:K24) -> 0
A26: ＜補助率 ○／○＞
A28: ※学術機関等に対する委託費・共同研究費の場合は「間接経費」が積算可能です。
A29: ※補助先がＮＥＤＯへ計上する補助対象費用は、消費税抜き額になります。（ただし、委託契約は消費税の課税取引となりますので、補助先と委託先の関係では「総計」にて契約します。）
K30: 2026年4月1日版

Sheet 補助先_2022
L1: 別紙２－①
A2: 基本費用 項目別明細表（補助先用）
A4: （４）●●●●株式会社 項目別明細表(2022年度） | L4: =A45 -> 0.66666667
A5: 積算基礎（円） | J5: 補助事業に要する経費 | K5: 補助対象費用 | L5: 補助金の額（円）
A6: Ⅰ．機械装置等費 | J6: =SUM(J7,J10,J16) -> 0 | K6: =SUM(K7,K10,K16) -> 0
A7: １．土木・建築工事費 | J7: =SUM(J8:J9) -> 0 | K7: =SUM(K8:K9) -> 0
A8: ○土木・建築工事費 | C8: ＠ | E8: 円 | F8: × | H8: H | I8: ＝ | J8: =D8*G8 -> 0 | K8: =J8 -> 0
A9: ○土木・建築工事費 | C9: ＠ | E9: 円 | F9: × | H9: H | I9: ＝ | J9: =D9*G9 -> 0 | K9: =J9 -> 0
A10: ２．機械装置等製作・購入費 | J10: =SUM(J11:J15) -> 0 | K10: =SUM(K11:K15) -> 0
A11: ○○製作設計費 | C11: ＠ | E11: 円 | F11: × | H11: H | I11: ＝ | J11: =D11*G11 -> 0 | K11: =J11 -> 0
A12: ○○製作加工費 | C12: ＠ | E12: 円 | F12: × | H12: H | I12: ＝ | J12: =D12*G12 -> 0 | K12: =J12 -> 0
A13: ○○試験装置 一式 | I13: ＝ | K13: =J13 -> 0
A14: ○○評価装置 一式 | I14: ＝ | K14: =J14 -> 0
A15: ○○作成装置 一式 | I15: ＝ | K15: =J15 -> 0
A16: ３．保守・改造修理費 | J16: =SUM(J17:J18) -> 0 | K16: =SUM(K17:K18) -> 0
A17: ○○装置改造費 一式 | I17: ＝ | K17: =J17 -> 0
A18: ○○装置保守費 一式 | I18: ＝ | K18: =J18 -> 0
A19: Ⅱ．労務費 | J19: =SUM(J20,J23) -> 0 | K19: =SUM(K20,K23) -> 0
A20: １．研究員費 | J20: =SUM(J21:J22) -> 0 | K20: =SUM(K21:K22) -> 0
B21: 研究員A | C21: ＠ | E21: 円 | F21: × | H21: H | I21: ＝ | J21: =D21*G21 -> 0 | K21: =J21 -> 0
B22: 研究員B | C22: ＠ | E22: 円 | F22: × | H22: H | I22: ＝ | J22: =D22*G22 -> 0 | K22: =J22 -> 0
A23: ２．補助員費 | J23: =SUM(J24) -> 0 | K23: =SUM(K24) -> 0
B24: 補助員A | C24: ＠ | E24: 円 | F24: × | H24: H | I24: ＝ | K24: =J24 -> 0
A25: Ⅲ．その他経費 | J25: =SUM(J26,J29,J33,J35) -> 0 | K25: =SUM(K26,K29,K33,K35) -> 0
A26: １．消耗品費 | J26: =SUM(J27:J28) -> 0 | K26: =SUM(K27:K28) -> 0
A27: ○○薬品 一式 | I27: ＝ | K27: =J27 -> 0
A28: ○○実験器具 一式 | I28: ＝ | K28: =J28 -> 0
A29: ２．旅費 | J29: =SUM(J30:J32) -> 0 | K29: =SUM(K30:K32) -> 0
A30: (1)研究員旅費 | B30: 国内旅費一式 | I30: ＝ | K30: =J30 -> 0
B31: 海外旅費一式 | I31: ＝ | K31: =J31 -> 0
A32: (2)専門家旅費 | B32: 海外旅費一式 | I32: ＝ | K32: =J32 -> 0
A33: ３．外注費 | J33: =SUM(J34) -> 0 | K33: =SUM(K34) -> 0
A34: ○○ソフト開発外注 | I34: ＝ | J34: 0 | K34: =J34 -> 0
A35: ４．諸経費 | J35: =SUM(J36:J38) -> 0 | K35: =SUM(K36:K38) -> 0
A36: (1)機械リース料 | C36: ＠ | E36: 円 | F36: × | H36: ヶ月 | I36: ＝ | K36: =J36 -> 0
A37: (2)委員会費 | B37: 委員謝金一式 | I37: ＝ | K37: =J37 -> 0
B38: 委員旅費一式 | I38: ＝ | K38: =J38 -> 0
A39: Ⅳ．委託費・共同研究費 | J39: =SUM(J41,J43) -> 0 | K39: =SUM(K41,K43) -> 0
A40: １．委託費・共同研究費
B41: 株式会社□□ | I41: ＝ | J41: =委託・共研_2022!J41 -> 0 | K41: =委託・共研_2022!K41 -> 0
A42: ２．学術機関等に対する共同研究費
B43: 学校法人▽▽大学 | I43: ＝
A44: 合計(Ⅰ＋Ⅱ＋Ⅲ＋Ⅳ） | J44: =SUM(J6,J19,J25,J39) -> 0 | K44: =SUM(K6,K19,K25,K39) -> 0 | L44: =K44*A45 -> 0
A45: 0.66666667
A47: ※補助先がＮＥＤＯへ計上する補助対象費用は、消費税抜き額になります。
A48: ※補助金の額は、Ⅰ～Ⅳ１．委託費・共同研究費の合計に補助率を乗じ、千円未満を切り捨てた金額に、Ⅳ２．学術機関等に対する共同研究費を加算した額を記載してください。
L49: 2026年4月1日版

Sheet 補助先_2023
L1: 別紙２－①
A2: 基本費用 項目別明細表（補助先用）
A4: （４）●●●●株式会社 項目別明細表(2023年度） | L4: =A47 -> 0.66666667
A5: 積算基礎（円） | J5: 補助事業に要する経費 | K5: 補助対象費用 | L5: 補助金の額（円）
A6: Ⅰ．機械装置等費 | J6: =SUM(J7,J10,J16) -> 0 | K6: =SUM(K7,K10,K16) -> 0
A7: １．土木・建築工事費 | J7: =SUM(J8) -> 0 | K7: =SUM(K8) -> 0
A8: ○○土木・建築工事費 | C8: ＠ | E8: 円 | F8: × | H8: H | I8: ＝ | J8: =D8*G8 -> 0 | K8: =J8 -> 0
A10: ２．機械装置等製作・購入費 | J10: =SUM(J11:J15) -> 0 | K10: =SUM(K11:K15) -> 0
A11: ○○製作設計費 | C11: ＠ | E11: 円 | F11: × | H11: H | I11: ＝ | J11: =D11*G11 -> 0 | K11: =J11 -> 0
A12: ○○製作加工費 | C12: ＠ | E12: 円 | F12: × | H12: H | I12: ＝ | J12: =D12*G12 -> 0 | K12: =J12 -> 0
A13: ○○試験装置 一式 | I13: ＝ | K13: =J13 -> 0
A14: ○○評価装置 一式 | I14: ＝ | K14: =J14 -> 0
A15: ○○作成装置 一式 | I15: ＝ | K15: =J15 -> 0
A16: ３．保守・改造修理費 | J16: =SUM(J17:J18) -> 0 | K16: =SUM(K17:K18) -> 0
A17: ○○装置改造費 一式 | I17: ＝ | K17: =J17 -> 0
A18: ○○装置保守費 一式 | I18: ＝ | K18: =J18 -> 0
A19: Ⅱ．労務費 | J19: =SUM(J20,J23) -> 0 | K19: =SUM(K20,K23) -> 0
A20: １．研究員費 | J20: =SUM(J21:J22) -> 0 | K20: =SUM(K21:K22) -> 0
B21: 研究員A | C21: ＠ | E21: 円 | F21: × | H21: H | I21: ＝ | J21: =D21*G21 -> 0 | K21: =J21 -> 0
B22: 研究員B | C22: ＠ | E22: 円 | F22: × | H22: H | I22: ＝ | J22: =D22*G22 -> 0 | K22: =J22 -> 0
A23: ２．補助員費 | J23: =SUM(J24) -> 0 | K23: =SUM(K24) -> 0
C24: ＠ | E24: 円 | F24: × | H24: 日 | I24: ＝ | J24: =D24*G24 -> 0 | K24: =J24 -> 0
A25: Ⅲ．その他経費 | J25: =SUM(J26,J29,J33,J35) -> 0 | K25: =SUM(K26,K29,K33,K35) -> 0
A26: １．消耗品費 | J26: =SUM(J27:J28) -> 0 | K26: =SUM(K27:K28) -> 0
A27: ○○薬品 一式 | I27: ＝ | K27: =J27 -> 0
A28: ○○実験器具 一式 | I28: ＝ | K28: =J28 -> 0
A29: ２．旅費 | J29: =SUM(J30:J32) -> 0 | K29: =SUM(K30:K32) -> 0
A30: (1)研究員旅費 | B30: 国内旅費一式 | I30: ＝ | K30: =J30 -> 0
B31: 海外旅費一式 | I31: ＝ | K31: =J31 -> 0
A32: (2)専門家旅費 | B32: 海外旅費一式 | I32: ＝ | K32: =J32 -> 0
A33: ３．外注費 | J33: =SUM(J34) -> 0 | K33: =SUM(K34) -> 0
A34: ○○ソフト開発外注 | I34: ＝ | K34: =J34 -> 0
A35: ４．諸経費 | J35: =SUM(J36:J39) -> 0 | K35: =SUM(K36:K39) -> 0
A36: (1)機械リース料 | C36: ＠ | E36: 円 | F36: × | H36: ヶ月 | I36: ＝ | J36: =D36*G36 -> 0 | K36: =J36 -> 0
A37: (2)委員会費 | B37: 委員謝金一式 | I37: ＝ | K37: =J37 -> 0
B38: 委員旅費一式 | I38: ＝ | K38: =J38 -> 0
I39: ＝ | K39: =J39 -> 0
A40: Ⅳ．委託費・共同研究費 | J40: =SUM(J42,J44) -> 0 | K40: =SUM(K42,K44) -> 0
A41: １．委託費・共同研究費
B42: 株式会社□□ | I42: ＝ | J42: =委託・共研_2023!J41 -> 0 | K42: =J42 -> 0
A43: ２．学術機関等に対する共同研究費
B44: 学校法人▽▽大学 | I44: ＝
A46: 合計(Ⅰ＋Ⅱ＋Ⅲ＋Ⅳ） | J46: =SUM(J6,J19,J25,J40) -> 0 | K46: =SUM(K6,K19,K25,K40) -> 0 | L46: =K46*A47 -> 0
A47: 0.66666667
A49: ※補助先がＮＥＤＯへ計上する補助対象費用は、消費税抜き額になります。
A50: ※補助金の額は、Ⅰ～Ⅳ１．委託費・共同研究費の合計に補助率を乗じ、千円未満を切り捨てた金額に、Ⅳ２．学術機関等に対する共同研究費を加算した額を記載してください。
L51: 2026年4月1日版

Sheet 補助先_2024
L1: 別紙２－①
A2: 基本費用 項目別明細表（補助先用）
A4: （４）●●●●株式会社 項目別明細表(2024年度） | L4: =A47 -> 0.66666667
A5: 積算基礎（円） | J5: 補助事業に要する経費 | K5: 補助対象費用 | L5: 補助金の額（円）
A6: Ⅰ．機械装置等費 | J6: =SUM(J7,J10,J16) -> 0 | K6: =SUM(K7,K10,K16) -> 0
A7: １．土木・建築工事費 | J7: =SUM(J8) -> 0 | K7: =SUM(K8) -> 0
A8: ○○土木・建築工事費 | C8: ＠ | E8: 円 | F8: × | H8: H | I8: ＝ | J8: =D8*G8 -> 0 | K8: =J8 -> 0
A10: ２．機械装置等製作・購入費 | J10: =SUM(J11:J15) -> 0 | K10: =SUM(K11:K15) -> 0
A11: ○○製作設計費 | C11: ＠ | E11: 円 | F11: × | H11: H | I11: ＝ | J11: =D11*G11 -> 0 | K11: =J11 -> 0
A12: ○○製作加工費 | C12: ＠ | E12: 円 | F12: × | H12: H | I12: ＝ | J12: =D12*G12 -> 0 | K12: =J12 -> 0
A13: ○○試験装置 一式 | I13: ＝ | K13: =J13 -> 0
A14: ○○評価装置 一式 | I14: ＝ | K14: =J14 -> 0
A15: ○○作成装置 一式 | I15: ＝ | K15: =J15 -> 0
A16: ３．保守・改造修理費 | J16: =SUM(J17:J18) -> 0 | K16: =SUM(K17:K18) -> 0
A17: ○○装置改造費 一式 | I17: ＝ | K17: =J17 -> 0
A18: ○○装置保守費 一式 | I18: ＝ | K18: =J18 -> 0
A19: Ⅱ．労務費 | J19: =SUM(J20,J23) -> 0 | K19: =SUM(K20,K23) -> 0
A20: １．研究員費 | J20: =SUM(J21:J22) -> 0 | K20: =SUM(K21:K22) -> 0
B21: 研究員A | C21: ＠ | E21: 円 | F21: × | H21: H | I21: ＝ | J21: =D21*G21 -> 0 | K21: =J21 -> 0
B22: 研究員B | C22: ＠ | E22: 円 | F22: × | H22: H | I22: ＝ | J22: =D22*G22 -> 0 | K22: =J22 -> 0
A23: ２．補助員費 | J23: =SUM(J24) -> 0 | K23: =SUM(K24) -> 0
C24: ＠ | E24: 円 | F24: × | H24: 日 | I24: ＝ | J24: =D24*G24 -> 0 | K24: =J24 -> 0
A25: Ⅲ．その他経費 | J25: =SUM(J26,J29,J33,J35) -> 0 | K25: =SUM(K26,K29,K33,K35) -> 0
A26: １．消耗品費 | J26: =SUM(J27:J28) -> 0 | K26: =SUM(K27:K28) -> 0
A27: ○○薬品 一式 | I27: ＝ | K27: =J27 -> 0
A28: ○○実験器具 一式 | I28: ＝ | K28: =J28 -> 0
A29: ２．旅費 | J29: =SUM(J30:J32) -> 0 | K29: =SUM(K30:K32) -> 0
A30: (1)研究員旅費 | B30: 国内旅費一式 | I30: ＝ | K30: =J30 -> 0
B31: 海外旅費一式 | I31: ＝ | K31: =J31 -> 0
A32: (2)専門家旅費 | B32: 海外旅費一式 | I32: ＝ | K32: =J32 -> 0
A33: ３．外注費 | J33: =SUM(J34) -> 0 | K33: =SUM(K34) -> 0
A34: ○○ソフト開発外注 | I34: ＝ | K34: =J34 -> 0
A35: ４．諸経費 | J35: =SUM(J36:J39) -> 0 | K35: =SUM(K36:K39) -> 0
A36: (1)機械リース料 | C36: ＠ | E36: 円 | F36: × | H36: ヶ月 | I36: ＝ | J36: =D36*G36 -> 0 | K36: =J36 -> 0
A37: (2)委員会費 | B37: 委員謝金一式 | I37: ＝ | K37: =J37 -> 0
B38: 委員旅費一式 | I38: ＝ | K38: =J38 -> 0
I39: ＝ | K39: =J39 -> 0
A40: Ⅳ．委託費・共同研究費 | J40: =SUM(J42,J44) -> 0 | K40: =SUM(K42,K44) -> 0
A41: １．委託費・共同研究費
B42: 株式会社□□ | I42: ＝ | J42: =委託・共研_2024!J41 -> 0 | K42: =J42 -> 0
A43: ２．学術機関等に対する共同研究費
B44: 学校法人▽▽大学 | I44: ＝
A46: 合計(Ⅰ＋Ⅱ＋Ⅲ＋Ⅳ） | J46: =SUM(J6,J19,J25,J40) -> 0 | K46: =SUM(K6,K19,K25,K40) -> 0 | L46: =K46*A47 -> 0
A47: 0.66666667
A49: ※補助先がＮＥＤＯへ計上する補助対象費用は、消費税抜き額になります。
A50: ※補助金の額は、Ⅰ～Ⅳ１．委託費・共同研究費の合計に補助率を乗じ、千円未満を切り捨てた金額に、Ⅳ２．学術機関等に対する共同研究費を加算した額を記載してください。
L51: 2026年4月1日版

Sheet 補助先_2025
L1: 別紙２－①
A2: 基本費用 項目別明細表（補助先用）
A4: （４）●●●●株式会社 項目別明細表(2025年度） | L4: =A47 -> 0.66666667
A5: 積算基礎（円） | J5: 補助事業に要する経費 | K5: 補助対象費用 | L5: 補助金の額（円）
A6: Ⅰ．機械装置等費 | J6: =SUM(J7,J10,J16) -> 0 | K6: =SUM(K7,K10,K16) -> 0
A7: １．土木・建築工事費 | J7: =SUM(J8) -> 0 | K7: =SUM(K8) -> 0
A8: ○○土木・建築工事費 | C8: ＠ | E8: 円 | F8: × | H8: H | I8: ＝ | J8: =D8*G8 -> 0 | K8: =J8 -> 0
A10: ２．機械装置等製作・購入費 | J10: =SUM(J11:J15) -> 0 | K10: =SUM(K11:K15) -> 0
A11: ○○製作設計費 | C11: ＠ | E11: 円 | F11: × | H11: H | I11: ＝ | J11: =D11*G11 -> 0 | K11: =J11 -> 0
A12: ○○製作加工費 | C12: ＠ | E12: 円 | F12: × | H12: H | I12: ＝ | J12: =D12*G12 -> 0 | K12: =J12 -> 0
A13: ○○試験装置 一式 | I13: ＝ | K13: =J13 -> 0
A14: ○○評価装置 一式 | I14: ＝ | K14: =J14 -> 0
A15: ○○作成装置 一式 | I15: ＝ | K15: =J15 -> 0
A16: ３．保守・改造修理費 | J16: =SUM(J17:J18) -> 0 | K16: =SUM(K17:K18) -> 0
A17: ○○装置改造費 一式 | I17: ＝ | K17: =J17 -> 0
A18: ○○装置保守費 一式 | I18: ＝ | K18: =J18 -> 0
A19: Ⅱ．労務費 | J19: =SUM(J20,J23) -> 0 | K19: =SUM(K20,K23) -> 0
A20: １．研究員費 | J20: =SUM(J21:J22) -> 0 | K20: =SUM(K21:K22) -> 0
B21: 研究員A | C21: ＠ | E21: 円 | F21: × | H21: H | I21: ＝ | J21: =D21*G21 -> 0 | K21: =J21 -> 0
B22: 研究員B | C22: ＠ | E22: 円 | F22: × | H22: H | I22: ＝ | J22: =D22*G22 -> 0 | K22: =J22 -> 0
A23: ２．補助員費 | J23: =SUM(J24) -> 0 | K23: =SUM(K24) -> 0
C24: ＠ | E24: 円 | F24: × | H24: 日 | I24: ＝ | J24: =D24*G24 -> 0 | K24: =J24 -> 0
A25: Ⅲ．その他経費 | J25: =SUM(J26,J29,J33,J35) -> 0 | K25: =SUM(K26,K29,K33,K35) -> 0
A26: １．消耗品費 | J26: =SUM(J27:J28) -> 0 | K26: =SUM(K27:K28) -> 0
A27: ○○薬品 一式 | I27: ＝ | K27: =J27 -> 0
A28: ○○実験器具 一式 | I28: ＝ | K28: =J28 -> 0
A29: ２．旅費 | J29: =SUM(J30:J32) -> 0 | K29: =SUM(K30:K32) -> 0
A30: (1)研究員旅費 | B30: 国内旅費一式 | I30: ＝ | K30: =J30 -> 0
B31: 海外旅費一式 | I31: ＝ | K31: =J31 -> 0
A32: (2)専門家旅費 | B32: 海外旅費一式 | I32: ＝ | K32: =J32 -> 0
A33: ３．外注費 | J33: =SUM(J34) -> 0 | K33: =SUM(K34) -> 0
A34: ○○ソフト開発外注 | I34: ＝ | K34: =J34 -> 0
A35: ４．諸経費 | J35: =SUM(J36:J39) -> 0 | K35: =SUM(K36:K39) -> 0
A36: (1)機械リース料 | C36: ＠ | E36: 円 | F36: × | H36: ヶ月 | I36: ＝ | J36: =D36*G36 -> 0 | K36: =J36 -> 0
A37: (2)委員会費 | B37: 委員謝金一式 | I37: ＝ | K37: =J37 -> 0
B38: 委員旅費一式 | I38: ＝ | K38: =J38 -> 0
I39: ＝ | K39: =J39 -> 0
A40: Ⅳ．委託費・共同研究費 | J40: =SUM(J42,J44) -> 0 | K40: =SUM(K42,K44) -> 0
A41: １．委託費・共同研究費
B42: 株式会社□□ | I42: ＝ | J42: =委託・共研_2025!J41 -> 0 | K42: =J42 -> 0
A43: ２．学術機関等に対する共同研究費
B44: 学校法人▽▽大学 | I44: ＝
A46: 合計(Ⅰ＋Ⅱ＋Ⅲ＋Ⅳ） | J46: =SUM(J6,J19,J25,J40) -> 0 | K46: =SUM(K6,K19,K25,K40) -> 0 | L46: =K46*A47 -> 0
A47: 0.66666667
A49: ※補助先がＮＥＤＯへ計上する補助対象費用は、消費税抜き額になります。
A50: ※補助金の額は、Ⅰ～Ⅳ１．委託費・共同研究費の合計に補助率を乗じ、千円未満を切り捨てた金額に、Ⅳ２．学術機関等に対する共同研究費を加算した額を記載してください。
L51: 2026年4月1日版

Sheet 補助先_2026
L1: 別紙２－①
A2: 基本費用 項目別明細表（補助先用）
A4: （４）●●●●株式会社 項目別明細表(2026年度） | L4: =A47 -> 0.5
A5: 積算基礎（円） | J5: 補助事業に要する経費 | K5: 補助対象費用 | L5: 補助金の額（円）
A6: Ⅰ．機械装置等費 | J6: =SUM(J7,J10,J16) -> 0 | K6: =SUM(K7,K10,K16) -> 0
A7: １．土木・建築工事費 | J7: =SUM(J8) -> 0 | K7: =SUM(K8) -> 0
A8: ○○土木・建築工事費 | C8: ＠ | E8: 円 | F8: × | H8: H | I8: ＝ | J8: =D8*G8 -> 0 | K8: =J8 -> 0
A10: ２．機械装置等製作・購入費 | J10: =SUM(J11:J15) -> 0 | K10: =SUM(K11:K15) -> 0
A11: ○○製作設計費 | C11: ＠ | E11: 円 | F11: × | H11: H | I11: ＝ | J11: =D11*G11 -> 0 | K11: =J11 -> 0
A12: ○○製作加工費 | C12: ＠ | E12: 円 | F12: × | H12: H | I12: ＝ | J12: =D12*G12 -> 0 | K12: =J12 -> 0
A13: ○○試験装置 一式 | I13: ＝ | K13: =J13 -> 0
A14: ○○評価装置 一式 | I14: ＝ | K14: =J14 -> 0
A15: ○○作成装置 一式 | I15: ＝ | K15: =J15 -> 0
A16: ３．保守・改造修理費 | J16: =SUM(J17:J18) -> 0 | K16: =SUM(K17:K18) -> 0
A17: ○○装置改造費 一式 | I17: ＝ | K17: =J17 -> 0
A18: ○○装置保守費 一式 | I18: ＝ | K18: =J18 -> 0
A19: Ⅱ．労務費 | J19: =SUM(J20,J23) -> 0 | K19: =SUM(K20,K23) -> 0
A20: １．研究員費 | J20: =SUM(J21:J22) -> 0 | K20: =SUM(K21:K22) -> 0
B21: 研究員A | C21: ＠ | E21: 円 | F21: × | H21: H | I21: ＝ | J21: =D21*G21 -> 0 | K21: =J21 -> 0
B22: 研究員B | C22: ＠ | E22: 円 | F22: × | H22: H | I22: ＝ | J22: =D22*G22 -> 0 | K22: =J22 -> 0
A23: ２．補助員費 | J23: =SUM(J24) -> 0 | K23: =SUM(K24) -> 0
C24: ＠ | E24: 円 | F24: × | H24: 日 | I24: ＝ | J24: =D24*G24 -> 0 | K24: =J24 -> 0
A25: Ⅲ．その他経費 | J25: =SUM(J26,J29,J33,J35) -> 0 | K25: =SUM(K26,K29,K33,K35) -> 0
A26: １．消耗品費 | J26: =SUM(J27:J28) -> 0 | K26: =SUM(K27:K28) -> 0
A27: ○○薬品 一式 | I27: ＝ | K27: =J27 -> 0
A28: ○○実験器具 一式 | I28: ＝ | K28: =J28 -> 0
A29: ２．旅費 | J29: =SUM(J30:J32) -> 0 | K29: =SUM(K30:K32) -> 0
A30: (1)研究員旅費 | B30: 国内旅費一式 | I30: ＝ | K30: =J30 -> 0
B31: 海外旅費一式 | I31: ＝ | K31: =J31 -> 0
A32: (2)専門家旅費 | B32: 海外旅費一式 | I32: ＝ | K32: =J32 -> 0
A33: ３．外注費 | J33: =SUM(J34) -> 0 | K33: =SUM(K34) -> 0
A34: ○○ソフト開発外注 | I34: ＝ | K34: =J34 -> 0
A35: ４．諸経費 | J35: =SUM(J36:J39) -> 0 | K35: =SUM(K36:K39) -> 0
A36: (1)機械リース料 | C36: ＠ | E36: 円 | F36: × | H36: ヶ月 | I36: ＝ | J36: =D36*G36 -> 0 | K36: =J36 -> 0
A37: (2)委員会費 | B37: 委員謝金一式 | I37: ＝ | K37: =J37 -> 0
B38: 委員旅費一式 | I38: ＝ | K38: =J38 -> 0
I39: ＝ | K39: =J39 -> 0
A40: Ⅳ．委託費・共同研究費 | J40: =SUM(J42,J44) -> 0 | K40: =SUM(K42,K44) -> 0
A41: １．委託費・共同研究費
B42: 株式会社□□ | I42: ＝ | J42: =委託・共研_2026!J41 -> 0 | K42: =J42 -> 0
A43: ２．学術機関等に対する共同研究費
B44: 学校法人▽▽大学 | I44: ＝
A46: 合計(Ⅰ＋Ⅱ＋Ⅲ＋Ⅳ） | J46: =SUM(J6,J19,J25,J40) -> 0 | K46: =SUM(K6,K19,K25,K40) -> 0 | L46: =K46*A47 -> 0
A47: 0.5
A49: ※補助先がＮＥＤＯへ計上する補助対象費用は、消費税抜き額になります。
A50: ※補助金の額は、Ⅰ～Ⅳ１．委託費・共同研究費の合計に補助率を乗じ、千円未満を切り捨てた金額に、Ⅳ２．学術機関等に対する共同研究費を加算した額を記載してください。
L51: 2026年4月1日版

Sheet 補助先_2027
L1: 別紙２－①
A2: 基本費用 項目別明細表（補助先用）
A4: （４）●●●●株式会社 項目別明細表(2027年度） | L4: =A47 -> 0.33333333
A5: 積算基礎（円） | J5: 補助事業に要する経費 | K5: 補助対象費用 | L5: 補助金の額（円）
A6: Ⅰ．機械装置等費 | J6: =SUM(J7,J10,J16) -> 0 | K6: =SUM(K7,K10,K16) -> 0
A7: １．土木・建築工事費 | J7: =SUM(J8) -> 0 | K7: =SUM(K8) -> 0
A8: ○○土木・建築工事費 | C8: ＠ | E8: 円 | F8: × | H8: H | I8: ＝ | J8: =D8*G8 -> 0 | K8: =J8 -> 0
A10: ２．機械装置等製作・購入費 | J10: =SUM(J11:J15) -> 0 | K10: =SUM(K11:K15) -> 0
A11: ○○製作設計費 | C11: ＠ | E11: 円 | F11: × | H11: H | I11: ＝ | J11: =D11*G11 -> 0 | K11: =J11 -> 0
A12: ○○製作加工費 | C12: ＠ | E12: 円 | F12: × | H12: H | I12: ＝ | J12: =D12*G12 -> 0 | K12: =J12 -> 0
A13: ○○試験装置 一式 | I13: ＝ | K13: =J13 -> 0
A14: ○○評価装置 一式 | I14: ＝ | K14: =J14 -> 0
A15: ○○作成装置 一式 | I15: ＝ | K15: =J15 -> 0
A16: ３．保守・改造修理費 | J16: =SUM(J17:J18) -> 0 | K16: =SUM(K17:K18) -> 0
A17: ○○装置改造費 一式 | I17: ＝ | K17: =J17 -> 0
A18: ○○装置保守費 一式 | I18: ＝ | K18: =J18 -> 0
A19: Ⅱ．労務費 | J19: =SUM(J20,J23) -> 0 | K19: =SUM(K20,K23) -> 0
A20: １．研究員費 | J20: =SUM(J21:J22) -> 0 | K20: =SUM(K21:K22) -> 0
B21: 研究員A | C21: ＠ | E21: 円 | F21: × | H21: H | I21: ＝ | J21: =D21*G21 -> 0 | K21: =J21 -> 0
B22: 研究員B | C22: ＠ | E22: 円 | F22: × | H22: H | I22: ＝ | J22: =D22*G22 -> 0 | K22: =J22 -> 0
A23: ２．補助員費 | J23: =SUM(J24) -> 0 | K23: =SUM(K24) -> 0
C24: ＠ | E24: 円 | F24: × | H24: 日 | I24: ＝ | J24: =D24*G24 -> 0 | K24: =J24 -> 0
A25: Ⅲ．その他経費 | J25: =SUM(J26,J29,J33,J35) -> 0 | K25: =SUM(K26,K29,K33,K35) -> 0
A26: １．消耗品費 | J26: =SUM(J27:J28) -> 0 | K26: =SUM(K27:K28) -> 0
A27: ○○薬品 一式 | I27: ＝ | K27: =J27 -> 0
A28: ○○実験器具 一式 | I28: ＝ | K28: =J28 -> 0
A29: ２．旅費 | J29: =SUM(J30:J32) -> 0 | K29: =SUM(K30:K32) -> 0
A30: (1)研究員旅費 | B30: 国内旅費一式 | I30: ＝ | K30: =J30 -> 0
B31: 海外旅費一式 | I31: ＝ | K31: =J31 -> 0
A32: (2)専門家旅費 | B32: 海外旅費一式 | I32: ＝ | K32: =J32 -> 0
A33: ３．外注費 | J33: =SUM(J34) -> 0 | K33: =SUM(K34) -> 0
A34: ○○ソフト開発外注 | I34: ＝ | K34: =J34 -> 0
A35: ４．諸経費 | J35: =SUM(J36:J39) -> 0 | K35: =SUM(K36:K39) -> 0
A36: (1)機械リース料 | C36: ＠ | E36: 円 | F36: × | H36: ヶ月 | I36: ＝ | J36: =D36*G36 -> 0 | K36: =J36 -> 0
A37: (2)委員会費 | B37: 委員謝金一式 | I37: ＝ | K37: =J37 -> 0
B38: 委員旅費一式 | I38: ＝ | K38: =J38 -> 0
I39: ＝ | K39: =J39 -> 0
A40: Ⅳ．委託費・共同研究費 | J40: =SUM(J42,J44) -> 0 | K40: =SUM(K42,K44) -> 0
A41: １．委託費・共同研究費
B42: 株式会社□□ | I42: ＝ | J42: =委託・共研_2027!J41 -> 0 | K42: =J42 -> 0
A43: ２．学術機関等に対する共同研究費
B44: 学校法人▽▽大学 | I44: ＝
A46: 合計(Ⅰ＋Ⅱ＋Ⅲ＋Ⅳ） | J46: =SUM(J6,J19,J25,J40) -> 0 | K46: =SUM(K6,K19,K25,K40) -> 0 | L46: =K46*A47 -> 0
A47: 0.33333333
A49: ※補助先がＮＥＤＯへ計上する補助対象費用は、消費税抜き額になります。
A50: ※補助金の額は、Ⅰ～Ⅳ１．委託費・共同研究費の合計に補助率を乗じ、千円未満を切り捨てた金額に、Ⅳ２．学術機関等に対する共同研究費を加算した額を記載してください。
L51: 2026年4月1日版

Sheet 補助先_2028
L1: 別紙２－①
A2: 基本費用 項目別明細表（補助先用）
A4: （４）●●●●株式会社 項目別明細表(2028年度） | L4: =A47 -> 0.33333333
A5: 積算基礎（円） | J5: 補助事業に要する経費 | K5: 補助対象費用 | L5: 補助金の額（円）
A6: Ⅰ．機械装置等費 | J6: =SUM(J7,J10,J16) -> 0 | K6: =SUM(K7,K10,K16) -> 0
A7: １．土木・建築工事費 | J7: =SUM(J8) -> 0 | K7: =SUM(K8) -> 0
A8: ○○土木・建築工事費 | C8: ＠ | E8: 円 | F8: × | H8: H | I8: ＝ | J8: =D8*G8 -> 0 | K8: =J8 -> 0
A10: ２．機械装置等製作・購入費 | J10: =SUM(J11:J15) -> 0 | K10: =SUM(K11:K15) -> 0
A11: ○○製作設計費 | C11: ＠ | E11: 円 | F11: × | H11: H | I11: ＝ | J11: =D11*G11 -> 0 | K11: =J11 -> 0
A12: ○○製作加工費 | C12: ＠ | E12: 円 | F12: × | H12: H | I12: ＝ | J12: =D12*G12 -> 0 | K12: =J12 -> 0
A13: ○○試験装置 一式 | I13: ＝ | K13: =J13 -> 0
A14: ○○評価装置 一式 | I14: ＝ | K14: =J14 -> 0
A15: ○○作成装置 一式 | I15: ＝ | K15: =J15 -> 0
A16: ３．保守・改造修理費 | J16: =SUM(J17:J18) -> 0 | K16: =SUM(K17:K18) -> 0
A17: ○○装置改造費 一式 | I17: ＝ | K17: =J17 -> 0
A18: ○○装置保守費 一式 | I18: ＝ | K18: =J18 -> 0
A19: Ⅱ．労務費 | J19: =SUM(J20,J23) -> 0 | K19: =SUM(K20,K23) -> 0
A20: １．研究員費 | J20: =SUM(J21:J22) -> 0 | K20: =SUM(K21:K22) -> 0
B21: 研究員A | C21: ＠ | E21: 円 | F21: × | H21: H | I21: ＝ | J21: =D21*G21 -> 0 | K21: =J21 -> 0
B22: 研究員B | C22: ＠ | E22: 円 | F22: × | H22: H | I22: ＝ | J22: =D22*G22 -> 0 | K22: =J22 -> 0
A23: ２．補助員費 | J23: =SUM(J24) -> 0 | K23: =SUM(K24) -> 0
C24: ＠ | E24: 円 | F24: × | H24: 日 | I24: ＝ | J24: =D24*G24 -> 0 | K24: =J24 -> 0
A25: Ⅲ．その他経費 | J25: =SUM(J26,J29,J33,J35) -> 0 | K25: =SUM(K26,K29,K33,K35) -> 0
A26: １．消耗品費 | J26: =SUM(J27:J28) -> 0 | K26: =SUM(K27:K28) -> 0
A27: ○○薬品 一式 | I27: ＝ | K27: =J27 -> 0
A28: ○○実験器具 一式 | I28: ＝ | K28: =J28 -> 0
A29: ２．旅費 | J29: =SUM(J30:J32) -> 0 | K29: =SUM(K30:K32) -> 0
A30: (1)研究員旅費 | B30: 国内旅費一式 | I30: ＝ | K30: =J30 -> 0
B31: 海外旅費一式 | I31: ＝ | K31: =J31 -> 0
A32: (2)専門家旅費 | B32: 海外旅費一式 | I32: ＝ | K32: =J32 -> 0
A33: ３．外注費 | J33: =SUM(J34) -> 0 | K33: =SUM(K34) -> 0
A34: ○○ソフト開発外注 | I34: ＝ | K34: =J34 -> 0
A35: ４．諸経費 | J35: =SUM(J36:J39) -> 0 | K35: =SUM(K36:K39) -> 0
A36: (1)機械リース料 | C36: ＠ | E36: 円 | F36: × | H36: ヶ月 | I36: ＝ | J36: =D36*G36 -> 0 | K36: =J36 -> 0
A37: (2)委員会費 | B37: 委員謝金一式 | I37: ＝ | K37: =J37 -> 0
B38: 委員旅費一式 | I38: ＝ | K38: =J38 -> 0
I39: ＝ | K39: =J39 -> 0
A40: Ⅳ．委託費・共同研究費 | J40: =SUM(J42,J44) -> 0 | K40: =SUM(K42,K44) -> 0
A41: １．委託費・共同研究費
B42: 株式会社□□ | I42: ＝ | J42: =委託・共研_2028!J41 -> 0 | K42: =J42 -> 0
A43: ２．学術機関等に対する共同研究費
B44: 学校法人▽▽大学 | I44: ＝
A46: 合計(Ⅰ＋Ⅱ＋Ⅲ＋Ⅳ） | J46: =SUM(J6,J19,J25,J40) -> 0 | K46: =SUM(K6,K19,K25,K40) -> 0 | L46: =K46*A47 -> 0
A47: 0.33333333
A49: ※補助先がＮＥＤＯへ計上する補助対象費用は、消費税抜き額になります。
A50: ※補助金の額は、Ⅰ～Ⅳ１．委託費・共同研究費の合計に補助率を乗じ、千円未満を切り捨てた金額に、Ⅳ２．学術機関等に対する共同研究費を加算した額を記載してください。
L51: 2026年4月1日版

Sheet 補助先_2029
L1: 別紙２－①
A2: 基本費用 項目別明細表（補助先用）
A4: （４）●●●●株式会社 項目別明細表(2029年度） | L4: =A47 -> 0.33333333
A5: 積算基礎（円） | J5: 補助事業に要する経費 | K5: 補助対象費用 | L5: 補助金の額（円）
A6: Ⅰ．機械装置等費 | J6: =SUM(J7,J10,J16) -> 0 | K6: =SUM(K7,K10,K16) -> 0
A7: １．土木・建築工事費 | J7: =SUM(J8) -> 0 | K7: =SUM(K8) -> 0
A8: ○○土木・建築工事費 | C8: ＠ | E8: 円 | F8: × | H8: H | I8: ＝ | J8: =D8*G8 -> 0 | K8: =J8 -> 0
A10: ２．機械装置等製作・購入費 | J10: =SUM(J11:J15) -> 0 | K10: =SUM(K11:K15) -> 0
A11: ○○製作設計費 | C11: ＠ | E11: 円 | F11: × | H11: H | I11: ＝ | J11: =D11*G11 -> 0 | K11: =J11 -> 0
A12: ○○製作加工費 | C12: ＠ | E12: 円 | F12: × | H12: H | I12: ＝ | J12: =D12*G12 -> 0 | K12: =J12 -> 0
A13: ○○試験装置 一式 | I13: ＝ | K13: =J13 -> 0
A14: ○○評価装置 一式 | I14: ＝ | K14: =J14 -> 0
A15: ○○作成装置 一式 | I15: ＝ | K15: =J15 -> 0
A16: ３．保守・改造修理費 | J16: =SUM(J17:J18) -> 0 | K16: =SUM(K17:K18) -> 0
A17: ○○装置改造費 一式 | I17: ＝ | K17: =J17 -> 0
A18: ○○装置保守費 一式 | I18: ＝ | K18: =J18 -> 0
A19: Ⅱ．労務費 | J19: =SUM(J20,J23) -> 0 | K19: =SUM(K20,K23) -> 0
A20: １．研究員費 | J20: =SUM(J21:J22) -> 0 | K20: =SUM(K21:K22) -> 0
B21: 研究員A | C21: ＠ | E21: 円 | F21: × | H21: H | I21: ＝ | J21: =D21*G21 -> 0 | K21: =J21 -> 0
B22: 研究員B | C22: ＠ | E22: 円 | F22: × | H22: H | I22: ＝ | J22: =D22*G22 -> 0 | K22: =J22 -> 0
A23: ２．補助員費 | J23: =SUM(J24) -> 0 | K23: =SUM(K24) -> 0
C24: ＠ | E24: 円 | F24: × | H24: 日 | I24: ＝ | J24: =D24*G24 -> 0 | K24: =J24 -> 0
A25: Ⅲ．その他経費 | J25: =SUM(J26,J29,J33,J35) -> 0 | K25: =SUM(K26,K29,K33,K35) -> 0
A26: １．消耗品費 | J26: =SUM(J27:J28) -> 0 | K26: =SUM(K27:K28) -> 0
A27: ○○薬品 一式 | I27: ＝ | K27: =J27 -> 0
A28: ○○実験器具 一式 | I28: ＝ | K28: =J28 -> 0
A29: ２．旅費 | J29: =SUM(J30:J32) -> 0 | K29: =SUM(K30:K32) -> 0
A30: (1)研究員旅費 | B30: 国内旅費一式 | I30: ＝ | K30: =J30 -> 0
B31: 海外旅費一式 | I31: ＝ | K31: =J31 -> 0
A32: (2)専門家旅費 | B32: 海外旅費一式 | I32: ＝ | K32: =J32 -> 0
A33: ３．外注費 | J33: =SUM(J34) -> 0 | K33: =SUM(K34) -> 0
A34: ○○ソフト開発外注 | I34: ＝ | K34: =J34 -> 0
A35: ４．諸経費 | J35: =SUM(J36:J39) -> 0 | K35: =SUM(K36:K39) -> 0
A36: (1)機械リース料 | C36: ＠ | E36: 円 | F36: × | H36: ヶ月 | I36: ＝ | J36: =D36*G36 -> 0 | K36: =J36 -> 0
A37: (2)委員会費 | B37: 委員謝金一式 | I37: ＝ | K37: =J37 -> 0
B38: 委員旅費一式 | I38: ＝ | K38: =J38 -> 0
I39: ＝ | K39: =J39 -> 0
A40: Ⅳ．委託費・共同研究費 | J40: =SUM(J42,J44) -> 0 | K40: =SUM(K42,K44) -> 0
A41: １．委託費・共同研究費
B42: 株式会社□□ | I42: ＝ | J42: =委託・共研_2029!J41 -> 0 | K42: =J42 -> 0
A43: ２．学術機関等に対する共同研究費
B44: 学校法人▽▽大学 | I44: ＝
A46: 合計(Ⅰ＋Ⅱ＋Ⅲ＋Ⅳ） | J46: =SUM(J6,J19,J25,J40) -> 0 | K46: =SUM(K6,K19,K25,K40) -> 0 | L46: =K46*A47 -> 0
A47: 0.33333333
A49: ※補助先がＮＥＤＯへ計上する補助対象費用は、消費税抜き額になります。
A50: ※補助金の額は、Ⅰ～Ⅳ１．委託費・共同研究費の合計に補助率を乗じ、千円未満を切り捨てた金額に、Ⅳ２．学術機関等に対する共同研究費を加算した額を記載してください。
L51: 2026年4月1日版

Sheet 補助先_2030
L1: 別紙２－①
A2: 基本費用 項目別明細表（補助先用）
A4: （４）●●●●株式会社 項目別明細表(2030年度） | L4: =A47 -> 0.33333333
A5: 積算基礎（円） | J5: 補助事業に要する経費 | K5: 補助対象費用 | L5: 補助金の額（円）
A6: Ⅰ．機械装置等費 | J6: =SUM(J7,J10,J16) -> 0 | K6: =SUM(K7,K10,K16) -> 0
A7: １．土木・建築工事費 | J7: =SUM(J8) -> 0 | K7: =SUM(K8) -> 0
A8: ○○土木・建築工事費 | C8: ＠ | E8: 円 | F8: × | H8: H | I8: ＝ | J8: =D8*G8 -> 0 | K8: =J8 -> 0
A10: ２．機械装置等製作・購入費 | J10: =SUM(J11:J15) -> 0 | K10: =SUM(K11:K15) -> 0
A11: ○○製作設計費 | C11: ＠ | E11: 円 | F11: × | H11: H | I11: ＝ | J11: =D11*G11 -> 0 | K11: =J11 -> 0
A12: ○○製作加工費 | C12: ＠ | E12: 円 | F12: × | H12: H | I12: ＝ | J12: =D12*G12 -> 0 | K12: =J12 -> 0
A13: ○○試験装置 一式 | I13: ＝ | K13: =J13 -> 0
A14: ○○評価装置 一式 | I14: ＝ | K14: =J14 -> 0
A15: ○○作成装置 一式 | I15: ＝ | K15: =J15 -> 0
A16: ３．保守・改造修理費 | J16: =SUM(J17:J18) -> 0 | K16: =SUM(K17:K18) -> 0
A17: ○○装置改造費 一式 | I17: ＝ | K17: =J17 -> 0
A18: ○○装置保守費 一式 | I18: ＝ | K18: =J18 -> 0
A19: Ⅱ．労務費 | J19: =SUM(J20,J23) -> 0 | K19: =SUM(K20,K23) -> 0
A20: １．研究員費 | J20: =SUM(J21:J22) -> 0 | K20: =SUM(K21:K22) -> 0
B21: 研究員A | C21: ＠ | E21: 円 | F21: × | H21: H | I21: ＝ | J21: =D21*G21 -> 0 | K21: =J21 -> 0
B22: 研究員B | C22: ＠ | E22: 円 | F22: × | H22: H | I22: ＝ | J22: =D22*G22 -> 0 | K22: =J22 -> 0
A23: ２．補助員費 | J23: =SUM(J24) -> 0 | K23: =SUM(K24) -> 0
C24: ＠ | E24: 円 | F24: × | H24: 日 | I24: ＝ | J24: =D24*G24 -> 0 | K24: =J24 -> 0
A25: Ⅲ．その他経費 | J25: =SUM(J26,J29,J33,J35) -> 0 | K25: =SUM(K26,K29,K33,K35) -> 0
A26: １．消耗品費 | J26: =SUM(J27:J28) -> 0 | K26: =SUM(K27:K28) -> 0
A27: ○○薬品 一式 | I27: ＝ | K27: =J27 -> 0
A28: ○○実験器具 一式 | I28: ＝ | K28: =J28 -> 0
A29: ２．旅費 | J29: =SUM(J30:J32) -> 0 | K29: =SUM(K30:K32) -> 0
A30: (1)研究員旅費 | B30: 国内旅費一式 | I30: ＝ | K30: =J30 -> 0
B31: 海外旅費一式 | I31: ＝ | K31: =J31 -> 0
A32: (2)専門家旅費 | B32: 海外旅費一式 | I32: ＝ | K32: =J32 -> 0
A33: ３．外注費 | J33: =SUM(J34) -> 0 | K33: =SUM(K34) -> 0
A34: ○○ソフト開発外注 | I34: ＝ | K34: =J34 -> 0
A35: ４．諸経費 | J35: =SUM(J36:J39) -> 0 | K35: =SUM(K36:K39) -> 0
A36: (1)機械リース料 | C36: ＠ | E36: 円 | F36: × | H36: ヶ月 | I36: ＝ | J36: =D36*G36 -> 0 | K36: =J36 -> 0
A37: (2)委員会費 | B37: 委員謝金一式 | I37: ＝ | K37: =J37 -> 0
B38: 委員旅費一式 | I38: ＝ | K38: =J38 -> 0
I39: ＝ | K39: =J39 -> 0
A40: Ⅳ．委託費・共同研究費 | J40: =SUM(J42,J44) -> 0 | K40: =SUM(K42,K44) -> 0
A41: １．委託費・共同研究費
B42: 株式会社□□ | I42: ＝ | J42: =委託・共研_2030!J41 -> 0 | K42: =J42 -> 0
A43: ２．学術機関等に対する共同研究費
B44: 学校法人▽▽大学 | I44: ＝
A46: 合計(Ⅰ＋Ⅱ＋Ⅲ＋Ⅳ） | J46: =SUM(J6,J19,J25,J40) -> 0 | K46: =SUM(K6,K19,K25,K40) -> 0 | L46: =K46*A47 -> 0
A47: 0.33333333
A49: ※補助先がＮＥＤＯへ計上する補助対象費用は、消費税抜き額になります。
A50: ※補助金の額は、Ⅰ～Ⅳ１．委託費・共同研究費の合計に補助率を乗じ、千円未満を切り捨てた金額に、Ⅳ２．学術機関等に対する共同研究費を加算した額を記載してください。
L51: 2026年4月1日版

Sheet 委託・共研_2022
L1: 別紙２－①
A2: 項目別明細表（委託・共同研究先用）
A4: （４）株式会社□□ 項目別明細表(2022年度）
A5: 積算基礎（円） | J5: 補助事業に要する経費 | K5: 補助対象費用 | L5: 補助金の額（円）
A6: Ⅰ．機械装置等費 | J6: =SUM(J7,J10,J16) -> 0 | K6: =SUM(K7,K10,K16) -> 0
A7: １．土木・建築工事費 | J7: =SUM(J8) -> 0 | K7: =SUM(K8) -> 0
B8: ○○土木・建築工事費 | C8: ＠ | E8: 円 | F8: × | H8: H | I8: ＝ | J8: =D8*G8 -> 0 | K8: =J8 -> 0
A10: ２．機械装置等製作・購入費 | J10: =SUM(J11:J15) -> 0 | K10: =SUM(K11:K15) -> 0
B11: ○○製作設計費 | C11: ＠ | E11: 円 | F11: × | H11: H | I11: ＝ | J11: =D11*G11 -> 0 | K11: =J11 -> 0
B12: ○○製作加工費 | C12: ＠ | E12: 円 | F12: × | H12: H | I12: ＝ | J12: =D12*G12 -> 0 | K12: =J12 -> 0
B13: ○○試験装置 一式 | I13: ＝ | K13: =J13 -> 0
B14: ○○評価装置 一式 | I14: ＝ | K14: =J14 -> 0
B15: ○○作成装置 一式 | I15: ＝ | K15: =J15 -> 0
A16: ３．保守・改造修理費 | J16: =SUM(J17:J18) -> 0 | K16: =SUM(K17:K18) -> 0
B17: ○○装置改造費 一式 | I17: ＝ | K17: =J17 -> 0
B18: ○○装置保守費 一式 | I18: ＝ | K18: =J18 -> 0
A19: Ⅱ．労務費 | J19: =SUM(J20,J23) -> 0 | K19: =SUM(K20,K23) -> 0
A20: １．研究員費 | J20: =SUM(J21:J22) -> 0 | K20: =SUM(K21:K22) -> 0
B21: 研究員A | C21: ＠ | E21: 円 | F21: × | H21: H | I21: ＝ | J21: =D21*G21 -> 0 | K21: =J21 -> 0
B22: 研究員B | C22: ＠ | E22: 円 | F22: × | H22: H | I22: ＝ | J22: =D22*G22 -> 0 | K22: =J22 -> 0
A23: ２．補助員費 | J23: =SUM(J24) -> 0 | K23: =SUM(K24) -> 0
C24: ＠ | E24: 円 | F24: × | H24: 日 | I24: ＝ | J24: =D24*G24 -> 0 | K24: =J24 -> 0
A25: Ⅲ．その他経費 | J25: =SUM(J26,J29,J33,J35) -> 0 | K25: =SUM(K26,K29,K33,K35) -> 0
A26: １．消耗品費 | J26: =SUM(J27:J28) -> 0 | K26: =SUM(K27:K28) -> 0
B27: ○○薬品 一式 | I27: ＝ | K27: =J27 -> 0
B28: ○○実験器具 一式 | I28: ＝ | K28: =J28 -> 0
A29: ２．旅費 | J29: =SUM(J30:J32) -> 0 | K29: =SUM(K30:K32) -> 0
A30: (1)研究員旅費 | B30: 国内旅費一式 | I30: ＝ | K30: =J30 -> 0
B31: 海外旅費一式 | I31: ＝ | K31: =J31 -> 0
A32: (2)専門家旅費 | B32: 海外旅費一式 | I32: ＝ | K32: =J32 -> 0
A33: ３．外注費 | J33: =SUM(J34) -> 0 | K33: =SUM(K34) -> 0
B34: ○○ソフト開発外注 | I34: ＝ | K34: =J34 -> 0
A35: ４．諸経費 | J35: =SUM(J36:J39) -> 0 | K35: =SUM(K36:K39) -> 0
A36: (1)機械リース料 | C36: ＠ | E36: 円 | F36: × | H36: ヶ月 | I36: ＝ | J36: =D36*G36 -> 0 | K36: =J36 -> 0
A37: (2)委員会費 | B37: 委員謝金一式 | I37: ＝ | K37: =J37 -> 0
B38: 委員旅費一式 | I38: ＝ | K38: =J38 -> 0
I39: ＝ | K39: =J39 -> 0
A40: Ⅳ．間接経費 | B40: 0 | J40: =ROUNDDOWN((J6+J19+J25)*B40%,-3) -> 0 | K40: =ROUNDDOWN((K6+K19+K25)*B40%,-3) -> 0
A41: 合計Ａ(Ⅰ＋Ⅱ＋Ⅲ＋Ⅳ） | J41: =SUM(J6,J19,J25,J40) -> 0 | K41: =SUM(K6,K19,K25,K40) -> 0 | L41: =K41*A44 -> 0
A42: 消費税及び地方消費税 | B42: 10 | J42: =ROUNDDOWN(J41*B42%,0) -> 0
A43: 合計Ｂ（Ａ+消費税及び地方消費税） | J43: =SUM(J41:J42) -> 0
A44: 0.66666667
A46: ※学術機関等に対する委託費・共同研究費の場合は「間接経費」が積算可能です。
A47: ※補助先がＮＥＤＯへ計上する補助対象費用は、消費税抜き額になります。（ただし、委託契約は消費税の課税取引となりますので、補助先と委託先の関係では合計Ｂにて契約します。）
A48: ※「補助金の額」には、様式第１に記述の補助率に従い、「補助対象費用の合計Ａ」に補助率を乗じて千円未満を切り捨てた金額を記入してください。ただし、学術機関等に対する共同研究費の場合は、「補助金の額」に「補助対象費用の合計Ａ」と同額の金額を記入してください。
L50: 2026年4月1日版

Sheet 委託・共研_2023
L1: 別紙２－①
A2: 項目別明細表（委託・共同研究先用）
A4: （４）株式会社□□ 項目別明細表(2023年度）
A5: 積算基礎（円） | J5: 補助事業に要する経費 | K5: 補助対象費用 | L5: 補助金の額（円）
A6: Ⅰ．機械装置等費 | J6: =SUM(J7,J10,J16) -> 0 | K6: =SUM(K7,K10,K16) -> 0
A7: １．土木・建築工事費 | J7: =SUM(J8) -> 0 | K7: =SUM(K8) -> 0
B8: ○○土木・建築工事費 | C8: ＠ | E8: 円 | F8: × | H8: H | I8: ＝ | J8: =D8*G8 -> 0 | K8: =J8 -> 0
A10: ２．機械装置等製作・購入費 | J10: =SUM(J11:J15) -> 0 | K10: =SUM(K11:K15) -> 0
B11: ○○製作設計費 | C11: ＠ | E11: 円 | F11: × | H11: H | I11: ＝ | J11: =D11*G11 -> 0 | K11: =J11 -> 0
B12: ○○製作加工費 | C12: ＠ | E12: 円 | F12: × | H12: H | I12: ＝ | J12: =D12*G12 -> 0 | K12: =J12 -> 0
B13: ○○試験装置 一式 | I13: ＝ | K13: =J13 -> 0
B14: ○○評価装置 一式 | I14: ＝ | K14: =J14 -> 0
B15: ○○作成装置 一式 | I15: ＝ | K15: =J15 -> 0
A16: ３．保守・改造修理費 | J16: =SUM(J17:J18) -> 0 | K16: =SUM(K17:K18) -> 0
B17: ○○装置改造費 一式 | I17: ＝ | K17: =J17 -> 0
B18: ○○装置保守費 一式 | I18: ＝ | K18: =J18 -> 0
A19: Ⅱ．労務費 | J19: =SUM(J20,J23) -> 0 | K19: =SUM(K20,K23) -> 0
A20: １．研究員費 | J20: =SUM(J21:J22) -> 0 | K20: =SUM(K21:K22) -> 0
B21: 研究員A | C21: ＠ | E21: 円 | F21: × | H21: H | I21: ＝ | J21: =D21*G21 -> 0 | K21: =J21 -> 0
B22: 研究員B | C22: ＠ | E22: 円 | F22: × | H22: H | I22: ＝ | J22: =D22*G22 -> 0 | K22: =J22 -> 0
A23: ２．補助員費 | J23: =SUM(J24) -> 0 | K23: =SUM(K24) -> 0
C24: ＠ | E24: 円 | F24: × | H24: 日 | I24: ＝ | J24: =D24*G24 -> 0 | K24: =J24 -> 0
A25: Ⅲ．その他経費 | J25: =SUM(J26,J29,J33,J35) -> 0 | K25: =SUM(K26,K29,K33,K35) -> 0
A26: １．消耗品費 | J26: =SUM(J27:J28) -> 0 | K26: =SUM(K27:K28) -> 0
B27: ○○薬品 一式 | I27: ＝ | K27: =J27 -> 0
B28: ○○実験器具 一式 | I28: ＝ | K28: =J28 -> 0
A29: ２．旅費 | J29: =SUM(J30:J32) -> 0 | K29: =SUM(K30:K32) -> 0
A30: (1)研究員旅費 | B30: 国内旅費一式 | I30: ＝ | K30: =J30 -> 0
B31: 海外旅費一式 | I31: ＝ | K31: =J31 -> 0
A32: (2)専門家旅費 | B32: 海外旅費一式 | I32: ＝ | K32: =J32 -> 0
A33: ３．外注費 | J33: =SUM(J34) -> 0 | K33: =SUM(K34) -> 0
B34: ○○ソフト開発外注 | I34: ＝ | K34: =J34 -> 0
A35: ４．諸経費 | J35: =SUM(J36:J39) -> 0 | K35: =SUM(K36:K39) -> 0
A36: (1)機械リース料 | C36: ＠ | E36: 円 | F36: × | H36: ヶ月 | I36: ＝ | J36: =D36*G36 -> 0 | K36: =J36 -> 0
A37: (2)委員会費 | B37: 委員謝金一式 | I37: ＝ | K37: =J37 -> 0
B38: 委員旅費一式 | I38: ＝ | K38: =J38 -> 0
I39: ＝ | K39: =J39 -> 0
A40: Ⅳ．間接経費 | B40: 0 | J40: =ROUNDDOWN((J6+J19+J25)*B40%,-3) -> 0 | K40: =ROUNDDOWN((K6+K19+K25)*B40%,-3) -> 0
A41: 合計Ａ(Ⅰ＋Ⅱ＋Ⅲ＋Ⅳ） | J41: =SUM(J6,J19,J25,J40) -> 0 | K41: =SUM(K6,K19,K25,K40) -> 0 | L41: =K41*A44 -> 0
A42: 消費税及び地方消費税 | B42: 10 | J42: =ROUNDDOWN(J41*B42%,0) -> 0
A43: 合計Ｂ（Ａ+消費税及び地方消費税） | J43: =SUM(J41:J42) -> 0
A44: 0.66666667
A46: ※学術機関等に対する委託費・共同研究費の場合は「間接経費」が積算可能です。
A47: ※補助先がＮＥＤＯへ計上する補助対象費用は、消費税抜き額になります。（ただし、委託契約は消費税の課税取引となりますので、補助先と委託先の関係では合計Ｂにて契約します。）
A48: ※「補助金の額」には、様式第１に記述の補助率に従い、「補助対象費用の合計Ａ」に補助率を乗じて千円未満を切り捨てた金額を記入してください。ただし、学術機関等に対する共同研究費の場合は、「補助金の額」に「補助対象費用の合計Ａ」と同額の金額を記入してください。
L50: 2026年4月1日版

Sheet 委託・共研_2024
L1: 別紙２－①
A2: 項目別明細表（委託・共同研究先用）
A4: （４）株式会社□□ 項目別明細表(2024年度）
A5: 積算基礎（円） | J5: 補助事業に要する経費 | K5: 補助対象費用 | L5: 補助金の額（円）
A6: Ⅰ．機械装置等費 | J6: =SUM(J7,J10,J16) -> 0 | K6: =SUM(K7,K10,K16) -> 0
A7: １．土木・建築工事費 | J7: =SUM(J8) -> 0 | K7: =SUM(K8) -> 0
B8: ○○土木・建築工事費 | C8: ＠ | E8: 円 | F8: × | H8: H | I8: ＝ | J8: =D8*G8 -> 0 | K8: =J8 -> 0
A10: ２．機械装置等製作・購入費 | J10: =SUM(J11:J15) -> 0 | K10: =SUM(K11:K15) -> 0
B11: ○○製作設計費 | C11: ＠ | E11: 円 | F11: × | H11: H | I11: ＝ | J11: =D11*G11 -> 0 | K11: =J11 -> 0
B12: ○○製作加工費 | C12: ＠ | E12: 円 | F12: × | H12: H | I12: ＝ | J12: =D12*G12 -> 0 | K12: =J12 -> 0
B13: ○○試験装置 一式 | I13: ＝ | K13: =J13 -> 0
B14: ○○評価装置 一式 | I14: ＝ | K14: =J14 -> 0
B15: ○○作成装置 一式 | I15: ＝ | K15: =J15 -> 0
A16: ３．保守・改造修理費 | J16: =SUM(J17:J18) -> 0 | K16: =SUM(K17:K18) -> 0
B17: ○○装置改造費 一式 | I17: ＝ | K17: =J17 -> 0
B18: ○○装置保守費 一式 | I18: ＝ | K18: =J18 -> 0
A19: Ⅱ．労務費 | J19: =SUM(J20,J23) -> 0 | K19: =SUM(K20,K23) -> 0
A20: １．研究員費 | J20: =SUM(J21:J22) -> 0 | K20: =SUM(K21:K22) -> 0
B21: 研究員A | C21: ＠ | E21: 円 | F21: × | H21: H | I21: ＝ | J21: =D21*G21 -> 0 | K21: =J21 -> 0
B22: 研究員B | C22: ＠ | E22: 円 | F22: × | H22: H | I22: ＝ | J22: =D22*G22 -> 0 | K22: =J22 -> 0
A23: ２．補助員費 | J23: =SUM(J24) -> 0 | K23: =SUM(K24) -> 0
C24: ＠ | E24: 円 | F24: × | H24: 日 | I24: ＝ | J24: =D24*G24 -> 0 | K24: =J24 -> 0
A25: Ⅲ．その他経費 | J25: =SUM(J26,J29,J33,J35) -> 0 | K25: =SUM(K26,K29,K33,K35) -> 0
A26: １．消耗品費 | J26: =SUM(J27:J28) -> 0 | K26: =SUM(K27:K28) -> 0
B27: ○○薬品 一式 | I27: ＝ | K27: =J27 -> 0
B28: ○○実験器具 一式 | I28: ＝ | K28: =J28 -> 0
A29: ２．旅費 | J29: =SUM(J30:J32) -> 0 | K29: =SUM(K30:K32) -> 0
A30: (1)研究員旅費 | B30: 国内旅費一式 | I30: ＝ | K30: =J30 -> 0
B31: 海外旅費一式 | I31: ＝ | K31: =J31 -> 0
A32: (2)専門家旅費 | B32: 海外旅費一式 | I32: ＝ | K32: =J32 -> 0
A33: ３．外注費 | J33: =SUM(J34) -> 0 | K33: =SUM(K34) -> 0
B34: ○○ソフト開発外注 | I34: ＝ | K34: =J34 -> 0
A35: ４．諸経費 | J35: =SUM(J36:J39) -> 0 | K35: =SUM(K36:K39) -> 0
A36: (1)機械リース料 | C36: ＠ | E36: 円 | F36: × | H36: ヶ月 | I36: ＝ | J36: =D36*G36 -> 0 | K36: =J36 -> 0
A37: (2)委員会費 | B37: 委員謝金一式 | I37: ＝ | K37: =J37 -> 0
B38: 委員旅費一式 | I38: ＝ | K38: =J38 -> 0
I39: ＝ | K39: =J39 -> 0
A40: Ⅳ．間接経費 | B40: 0 | J40: =ROUNDDOWN((J6+J19+J25)*B40%,-3) -> 0 | K40: =ROUNDDOWN((K6+K19+K25)*B40%,-3) -> 0
A41: 合計Ａ(Ⅰ＋Ⅱ＋Ⅲ＋Ⅳ） | J41: =SUM(J6,J19,J25,J40) -> 0 | K41: =SUM(K6,K19,K25,K40) -> 0 | L41: =K41*A44 -> 0
A42: 消費税及び地方消費税 | B42: 10 | J42: =ROUNDDOWN(J41*B42%,0) -> 0
A43: 合計Ｂ（Ａ+消費税及び地方消費税） | J43: =SUM(J41:J42) -> 0
A44: 0.66666667
A46: ※学術機関等に対する委託費・共同研究費の場合は「間接経費」が積算可能です。
A47: ※補助先がＮＥＤＯへ計上する補助対象費用は、消費税抜き額になります。（ただし、委託契約は消費税の課税取引となりますので、補助先と委託先の関係では合計Ｂにて契約します。）
A48: ※「補助金の額」には、様式第１に記述の補助率に従い、「補助対象費用の合計Ａ」に補助率を乗じて千円未満を切り捨てた金額を記入してください。ただし、学術機関等に対する共同研究費の場合は、「補助金の額」に「補助対象費用の合計Ａ」と同額の金額を記入してください。
L50: 2026年4月1日版

Sheet 委託・共研_2025
L1: 別紙２－①
A2: 項目別明細表（委託・共同研究先用）
A4: （４）株式会社□□ 項目別明細表(2025年度）
A5: 積算基礎（円） | J5: 補助事業に要する経費 | K5: 補助対象費用 | L5: 補助金の額（円）
A6: Ⅰ．機械装置等費 | J6: =SUM(J7,J10,J16) -> 0 | K6: =SUM(K7,K10,K16) -> 0
A7: １．土木・建築工事費 | J7: =SUM(J8) -> 0 | K7: =SUM(K8) -> 0
B8: ○○土木・建築工事費 | C8: ＠ | E8: 円 | F8: × | H8: H | I8: ＝ | J8: =D8*G8 -> 0 | K8: =J8 -> 0
A10: ２．機械装置等製作・購入費 | J10: =SUM(J11:J15) -> 0 | K10: =SUM(K11:K15) -> 0
B11: ○○製作設計費 | C11: ＠ | E11: 円 | F11: × | H11: H | I11: ＝ | J11: =D11*G11 -> 0 | K11: =J11 -> 0
B12: ○○製作加工費 | C12: ＠ | E12: 円 | F12: × | H12: H | I12: ＝ | J12: =D12*G12 -> 0 | K12: =J12 -> 0
B13: ○○試験装置 一式 | I13: ＝ | K13: =J13 -> 0
B14: ○○評価装置 一式 | I14: ＝ | K14: =J14 -> 0
B15: ○○作成装置 一式 | I15: ＝ | K15: =J15 -> 0
A16: ３．保守・改造修理費 | J16: =SUM(J17:J18) -> 0 | K16: =SUM(K17:K18) -> 0
B17: ○○装置改造費 一式 | I17: ＝ | K17: =J17 -> 0
B18: ○○装置保守費 一式 | I18: ＝ | K18: =J18 -> 0
A19: Ⅱ．労務費 | J19: =SUM(J20,J23) -> 0 | K19: =SUM(K20,K23) -> 0
A20: １．研究員費 | J20: =SUM(J21:J22) -> 0 | K20: =SUM(K21:K22) -> 0
B21: 研究員A | C21: ＠ | E21: 円 | F21: × | H21: H | I21: ＝ | J21: =D21*G21 -> 0 | K21: =J21 -> 0
B22: 研究員B | C22: ＠ | E22: 円 | F22: × | H22: H | I22: ＝ | J22: =D22*G22 -> 0 | K22: =J22 -> 0
A23: ２．補助員費 | J23: =SUM(J24) -> 0 | K23: =SUM(K24) -> 0
C24: ＠ | E24: 円 | F24: × | H24: 日 | I24: ＝ | J24: =D24*G24 -> 0 | K24: =J24 -> 0
A25: Ⅲ．その他経費 | J25: =SUM(J26,J29,J33,J35) -> 0 | K25: =SUM(K26,K29,K33,K35) -> 0
A26: １．消耗品費 | J26: =SUM(J27:J28) -> 0 | K26: =SUM(K27:K28) -> 0
B27: ○○薬品 一式 | I27: ＝ | K27: =J27 -> 0
B28: ○○実験器具 一式 | I28: ＝ | K28: =J28 -> 0
A29: ２．旅費 | J29: =SUM(J30:J32) -> 0 | K29: =SUM(K30:K32) -> 0
A30: (1)研究員旅費 | B30: 国内旅費一式 | I30: ＝ | K30: =J30 -> 0
B31: 海外旅費一式 | I31: ＝ | K31: =J31 -> 0
A32: (2)専門家旅費 | B32: 海外旅費一式 | I32: ＝ | K32: =J32 -> 0
A33: ３．外注費 | J33: =SUM(J34) -> 0 | K33: =SUM(K34) -> 0
B34: ○○ソフト開発外注 | I34: ＝ | K34: =J34 -> 0
A35: ４．諸経費 | J35: =SUM(J36:J39) -> 0 | K35: =SUM(K36:K39) -> 0
A36: (1)機械リース料 | C36: ＠ | E36: 円 | F36: × | H36: ヶ月 | I36: ＝ | J36: =D36*G36 -> 0 | K36: =J36 -> 0
A37: (2)委員会費 | B37: 委員謝金一式 | I37: ＝ | K37: =J37 -> 0
B38: 委員旅費一式 | I38: ＝ | K38: =J38 -> 0
I39: ＝ | K39: =J39 -> 0
A40: Ⅳ．間接経費 | B40: 0 | J40: =ROUNDDOWN((J6+J19+J25)*B40%,-3) -> 0 | K40: =ROUNDDOWN((K6+K19+K25)*B40%,-3) -> 0
A41: 合計Ａ(Ⅰ＋Ⅱ＋Ⅲ＋Ⅳ） | J41: =SUM(J6,J19,J25,J40) -> 0 | K41: =SUM(K6,K19,K25,K40) -> 0 | L41: =K41*A44 -> 0
A42: 消費税及び地方消費税 | B42: 10 | J42: =ROUNDDOWN(J41*B42%,0) -> 0
A43: 合計Ｂ（Ａ+消費税及び地方消費税） | J43: =SUM(J41:J42) -> 0
A44: 0.66666667
A46: ※学術機関等に対する委託費・共同研究費の場合は「間接経費」が積算可能です。
A47: ※補助先がＮＥＤＯへ計上する補助対象費用は、消費税抜き額になります。（ただし、委託契約は消費税の課税取引となりますので、補助先と委託先の関係では合計Ｂにて契約します。）
A48: ※「補助金の額」には、様式第１に記述の補助率に従い、「補助対象費用の合計Ａ」に補助率を乗じて千円未満を切り捨てた金額を記入してください。ただし、学術機関等に対する共同研究費の場合は、「補助金の額」に「補助対象費用の合計Ａ」と同額の金額を記入してください。
L50: 2026年4月1日版

Sheet 委託・共研_2026
L1: 別紙２－①
A2: 項目別明細表（委託・共同研究先用）
A4: （４）株式会社□□ 項目別明細表(2026年度）
A5: 積算基礎（円） | J5: 補助事業に要する経費 | K5: 補助対象費用 | L5: 補助金の額（円）
A6: Ⅰ．機械装置等費 | J6: =SUM(J7,J10,J16) -> 0 | K6: =SUM(K7,K10,K16) -> 0
A7: １．土木・建築工事費 | J7: =SUM(J8) -> 0 | K7: =SUM(K8) -> 0
B8: ○○土木・建築工事費 | C8: ＠ | E8: 円 | F8: × | H8: H | I8: ＝ | J8: =D8*G8 -> 0 | K8: =J8 -> 0
A10: ２．機械装置等製作・購入費 | J10: =SUM(J11:J15) -> 0 | K10: =SUM(K11:K15) -> 0
B11: ○○製作設計費 | C11: ＠ | E11: 円 | F11: × | H11: H | I11: ＝ | J11: =D11*G11 -> 0 | K11: =J11 -> 0
B12: ○○製作加工費 | C12: ＠ | E12: 円 | F12: × | H12: H | I12: ＝ | J12: =D12*G12 -> 0 | K12: =J12 -> 0
B13: ○○試験装置 一式 | I13: ＝ | K13: =J13 -> 0
B14: ○○評価装置 一式 | I14: ＝ | K14: =J14 -> 0
B15: ○○作成装置 一式 | I15: ＝ | K15: =J15 -> 0
A16: ３．保守・改造修理費 | J16: =SUM(J17:J18) -> 0 | K16: =SUM(K17:K18) -> 0
B17: ○○装置改造費 一式 | I17: ＝ | K17: =J17 -> 0
B18: ○○装置保守費 一式 | I18: ＝ | K18: =J18 -> 0
A19: Ⅱ．労務費 | J19: =SUM(J20,J23) -> 0 | K19: =SUM(K20,K23) -> 0
A20: １．研究員費 | J20: =SUM(J21:J22) -> 0 | K20: =SUM(K21:K22) -> 0
B21: 研究員A | C21: ＠ | E21: 円 | F21: × | H21: H | I21: ＝ | J21: =D21*G21 -> 0 | K21: =J21 -> 0
B22: 研究員B | C22: ＠ | E22: 円 | F22: × | H22: H | I22: ＝ | J22: =D22*G22 -> 0 | K22: =J22 -> 0
A23: ２．補助員費 | J23: =SUM(J24) -> 0 | K23: =SUM(K24) -> 0
C24: ＠ | E24: 円 | F24: × | H24: 日 | I24: ＝ | J24: =D24*G24 -> 0 | K24: =J24 -> 0
A25: Ⅲ．その他経費 | J25: =SUM(J26,J29,J33,J35) -> 0 | K25: =SUM(K26,K29,K33,K35) -> 0
A26: １．消耗品費 | J26: =SUM(J27:J28) -> 0 | K26: =SUM(K27:K28) -> 0
B27: ○○薬品 一式 | I27: ＝ | K27: =J27 -> 0
B28: ○○実験器具 一式 | I28: ＝ | K28: =J28 -> 0
A29: ２．旅費 | J29: =SUM(J30:J32) -> 0 | K29: =SUM(K30:K32) -> 0
A30: (1)研究員旅費 | B30: 国内旅費一式 | I30: ＝ | K30: =J30 -> 0
B31: 海外旅費一式 | I31: ＝ | K31: =J31 -> 0
A32: (2)専門家旅費 | B32: 海外旅費一式 | I32: ＝ | K32: =J32 -> 0
A33: ３．外注費 | J33: =SUM(J34) -> 0 | K33: =SUM(K34) -> 0
B34: ○○ソフト開発外注 | I34: ＝ | K34: =J34 -> 0
A35: ４．諸経費 | J35: =SUM(J36:J39) -> 0 | K35: =SUM(K36:K39) -> 0
A36: (1)機械リース料 | C36: ＠ | E36: 円 | F36: × | H36: ヶ月 | I36: ＝ | J36: =D36*G36 -> 0 | K36: =J36 -> 0
A37: (2)委員会費 | B37: 委員謝金一式 | I37: ＝ | K37: =J37 -> 0
B38: 委員旅費一式 | I38: ＝ | K38: =J38 -> 0
I39: ＝ | K39: =J39 -> 0
A40: Ⅳ．間接経費 | B40: 0 | J40: =ROUNDDOWN((J6+J19+J25)*B40%,-3) -> 0 | K40: =ROUNDDOWN((K6+K19+K25)*B40%,-3) -> 0
A41: 合計Ａ(Ⅰ＋Ⅱ＋Ⅲ＋Ⅳ） | J41: =SUM(J6,J19,J25,J40) -> 0 | K41: =SUM(K6,K19,K25,K40) -> 0 | L41: =K41*A44 -> 0
A42: 消費税及び地方消費税 | B42: 10 | J42: =ROUNDDOWN(J41*B42%,0) -> 0
A43: 合計Ｂ（Ａ+消費税及び地方消費税） | J43: =SUM(J41:J42) -> 0
A44: 0.5
A46: ※学術機関等に対する委託費・共同研究費の場合は「間接経費」が積算可能です。
A47: ※補助先がＮＥＤＯへ計上する補助対象費用は、消費税抜き額になります。（ただし、委託契約は消費税の課税取引となりますので、補助先と委託先の関係では合計Ｂにて契約します。）
A48: ※「補助金の額」には、様式第１に記述の補助率に従い、「補助対象費用の合計Ａ」に補助率を乗じて千円未満を切り捨てた金額を記入してください。ただし、学術機関等に対する共同研究費の場合は、「補助金の額」に「補助対象費用の合計Ａ」と同額の金額を記入してください。
L50: 2026年4月1日版

Sheet 委託・共研_2027
L1: 別紙２－①
A2: 項目別明細表（委託・共同研究先用）
A4: （４）株式会社□□ 項目別明細表(2027年度）
A5: 積算基礎（円） | J5: 補助事業に要する経費 | K5: 補助対象費用 | L5: 補助金の額（円）
A6: Ⅰ．機械装置等費 | J6: =SUM(J7,J10,J16) -> 0 | K6: =SUM(K7,K10,K16) -> 0
A7: １．土木・建築工事費 | J7: =SUM(J8) -> 0 | K7: =SUM(K8) -> 0
B8: ○○土木・建築工事費 | C8: ＠ | E8: 円 | F8: × | H8: H | I8: ＝ | J8: =D8*G8 -> 0 | K8: =J8 -> 0
A10: ２．機械装置等製作・購入費 | J10: =SUM(J11:J15) -> 0 | K10: =SUM(K11:K15) -> 0
B11: ○○製作設計費 | C11: ＠ | E11: 円 | F11: × | H11: H | I11: ＝ | J11: =D11*G11 -> 0 | K11: =J11 -> 0
B12: ○○製作加工費 | C12: ＠ | E12: 円 | F12: × | H12: H | I12: ＝ | J12: =D12*G12 -> 0 | K12: =J12 -> 0
B13: ○○試験装置 一式 | I13: ＝ | K13: =J13 -> 0
B14: ○○評価装置 一式 | I14: ＝ | K14: =J14 -> 0
B15: ○○作成装置 一式 | I15: ＝ | K15: =J15 -> 0
A16: ３．保守・改造修理費 | J16: =SUM(J17:J18) -> 0 | K16: =SUM(K17:K18) -> 0
B17: ○○装置改造費 一式 | I17: ＝ | K17: =J17 -> 0
B18: ○○装置保守費 一式 | I18: ＝ | K18: =J18 -> 0
A19: Ⅱ．労務費 | J19: =SUM(J20,J23) -> 0 | K19: =SUM(K20,K23) -> 0
A20: １．研究員費 | J20: =SUM(J21:J22) -> 0 | K20: =SUM(K21:K22) -> 0
B21: 研究員A | C21: ＠ | E21: 円 | F21: × | H21: H | I21: ＝ | J21: =D21*G21 -> 0 | K21: =J21 -> 0
B22: 研究員B | C22: ＠ | E22: 円 | F22: × | H22: H | I22: ＝ | J22: =D22*G22 -> 0 | K22: =J22 -> 0
A23: ２．補助員費 | J23: =SUM(J24) -> 0 | K23: =SUM(K24) -> 0
C24: ＠ | E24: 円 | F24: × | H24: 日 | I24: ＝ | J24: =D24*G24 -> 0 | K24: =J24 -> 0
A25: Ⅲ．その他経費 | J25: =SUM(J26,J29,J33,J35) -> 0 | K25: =SUM(K26,K29,K33,K35) -> 0
A26: １．消耗品費 | J26: =SUM(J27:J28) -> 0 | K26: =SUM(K27:K28) -> 0
B27: ○○薬品 一式 | I27: ＝ | K27: =J27 -> 0
B28: ○○実験器具 一式 | I28: ＝ | K28: =J28 -> 0
A29: ２．旅費 | J29: =SUM(J30:J32) -> 0 | K29: =SUM(K30:K32) -> 0
A30: (1)研究員旅費 | B30: 国内旅費一式 | I30: ＝ | K30: =J30 -> 0
B31: 海外旅費一式 | I31: ＝ | K31: =J31 -> 0
A32: (2)専門家旅費 | B32: 海外旅費一式 | I32: ＝ | K32: =J32 -> 0
A33: ３．外注費 | J33: =SUM(J34) -> 0 | K33: =SUM(K34) -> 0
B34: ○○ソフト開発外注 | I34: ＝ | K34: =J34 -> 0
A35: ４．諸経費 | J35: =SUM(J36:J39) -> 0 | K35: =SUM(K36:K39) -> 0
A36: (1)機械リース料 | C36: ＠ | E36: 円 | F36: × | H36: ヶ月 | I36: ＝ | J36: =D36*G36 -> 0 | K36: =J36 -> 0
A37: (2)委員会費 | B37: 委員謝金一式 | I37: ＝ | K37: =J37 -> 0
B38: 委員旅費一式 | I38: ＝ | K38: =J38 -> 0
I39: ＝ | K39: =J39 -> 0
A40: Ⅳ．間接経費 | B40: 0 | J40: =ROUNDDOWN((J6+J19+J25)*B40%,-3) -> 0 | K40: =ROUNDDOWN((K6+K19+K25)*B40%,-3) -> 0
A41: 合計Ａ(Ⅰ＋Ⅱ＋Ⅲ＋Ⅳ） | J41: =SUM(J6,J19,J25,J40) -> 0 | K41: =SUM(K6,K19,K25,K40) -> 0 | L41: =K41*A44 -> 0
A42: 消費税及び地方消費税 | B42: 10 | J42: =ROUNDDOWN(J41*B42%,0) -> 0
A43: 合計Ｂ（Ａ+消費税及び地方消費税） | J43: =SUM(J41:J42) -> 0
A44: 0.33333333
A46: ※学術機関等に対する委託費・共同研究費の場合は「間接経費」が積算可能です。
A47: ※補助先がＮＥＤＯへ計上する補助対象費用は、消費税抜き額になります。（ただし、委託契約は消費税の課税取引となりますので、補助先と委託先の関係では合計Ｂにて契約します。）
A48: ※「補助金の額」には、様式第１に記述の補助率に従い、「補助対象費用の合計Ａ」に補助率を乗じて千円未満を切り捨てた金額を記入してください。ただし、学術機関等に対する共同研究費の場合は、「補助金の額」に「補助対象費用の合計Ａ」と同額の金額を記入してください。
L50: 2026年4月1日版

Sheet 委託・共研_2028
L1: 別紙２－①
A2: 項目別明細表（委託・共同研究先用）
A4: （４）株式会社□□ 項目別明細表(2028年度）
A5: 積算基礎（円） | J5: 補助事業に要する経費 | K5: 補助対象費用 | L5: 補助金の額（円）
A6: Ⅰ．機械装置等費 | J6: =SUM(J7,J10,J16) -> 0 | K6: =SUM(K7,K10,K16) -> 0
A7: １．土木・建築工事費 | J7: =SUM(J8) -> 0 | K7: =SUM(K8) -> 0
B8: ○○土木・建築工事費 | C8: ＠ | E8: 円 | F8: × | H8: H | I8: ＝ | J8: =D8*G8 -> 0 | K8: =J8 -> 0
A10: ２．機械装置等製作・購入費 | J10: =SUM(J11:J15) -> 0 | K10: =SUM(K11:K15) -> 0
B11: ○○製作設計費 | C11: ＠ | E11: 円 | F11: × | H11: H | I11: ＝ | J11: =D11*G11 -> 0 | K11: =J11 -> 0
B12: ○○製作加工費 | C12: ＠ | E12: 円 | F12: × | H12: H | I12: ＝ | J12: =D12*G12 -> 0 | K12: =J12 -> 0
B13: ○○試験装置 一式 | I13: ＝ | K13: =J13 -> 0
B14: ○○評価装置 一式 | I14: ＝ | K14: =J14 -> 0
B15: ○○作成装置 一式 | I15: ＝ | K15: =J15 -> 0
A16: ３．保守・改造修理費 | J16: =SUM(J17:J18) -> 0 | K16: =SUM(K17:K18) -> 0
B17: ○○装置改造費 一式 | I17: ＝ | K17: =J17 -> 0
B18: ○○装置保守費 一式 | I18: ＝ | K18: =J18 -> 0
A19: Ⅱ．労務費 | J19: =SUM(J20,J23) -> 0 | K19: =SUM(K20,K23) -> 0
A20: １．研究員費 | J20: =SUM(J21:J22) -> 0 | K20: =SUM(K21:K22) -> 0
B21: 研究員A | C21: ＠ | E21: 円 | F21: × | H21: H | I21: ＝ | J21: =D21*G21 -> 0 | K21: =J21 -> 0
B22: 研究員B | C22: ＠ | E22: 円 | F22: × | H22: H | I22: ＝ | J22: =D22*G22 -> 0 | K22: =J22 -> 0
A23: ２．補助員費 | J23: =SUM(J24) -> 0 | K23: =SUM(K24) -> 0
C24: ＠ | E24: 円 | F24: × | H24: 日 | I24: ＝ | J24: =D24*G24 -> 0 | K24: =J24 -> 0
A25: Ⅲ．その他経費 | J25: =SUM(J26,J29,J33,J35) -> 0 | K25: =SUM(K26,K29,K33,K35) -> 0
A26: １．消耗品費 | J26: =SUM(J27:J28) -> 0 | K26: =SUM(K27:K28) -> 0
B27: ○○薬品 一式 | I27: ＝ | K27: =J27 -> 0
B28: ○○実験器具 一式 | I28: ＝ | K28: =J28 -> 0
A29: ２．旅費 | J29: =SUM(J30:J32) -> 0 | K29: =SUM(K30:K32) -> 0
A30: (1)研究員旅費 | B30: 国内旅費一式 | I30: ＝ | K30: =J30 -> 0
B31: 海外旅費一式 | I31: ＝ | K31: =J31 -> 0
A32: (2)専門家旅費 | B32: 海外旅費一式 | I32: ＝ | K32: =J32 -> 0
A33: ３．外注費 | J33: =SUM(J34) -> 0 | K33: =SUM(K34) -> 0
B34: ○○ソフト開発外注 | I34: ＝ | K34: =J34 -> 0
A35: ４．諸経費 | J35: =SUM(J36:J39) -> 0 | K35: =SUM(K36:K39) -> 0
A36: (1)機械リース料 | C36: ＠ | E36: 円 | F36: × | H36: ヶ月 | I36: ＝ | J36: =D36*G36 -> 0 | K36: =J36 -> 0
A37: (2)委員会費 | B37: 委員謝金一式 | I37: ＝ | K37: =J37 -> 0
B38: 委員旅費一式 | I38: ＝ | K38: =J38 -> 0
I39: ＝ | K39: =J39 -> 0
A40: Ⅳ．間接経費 | B40: 0 | J40: =ROUNDDOWN((J6+J19+J25)*B40%,-3) -> 0 | K40: =ROUNDDOWN((K6+K19+K25)*B40%,-3) -> 0
A41: 合計Ａ(Ⅰ＋Ⅱ＋Ⅲ＋Ⅳ） | J41: =SUM(J6,J19,J25,J40) -> 0 | K41: =SUM(K6,K19,K25,K40) -> 0 | L41: =K41*A44 -> 0
A42: 消費税及び地方消費税 | B42: 10 | J42: =ROUNDDOWN(J41*B42%,0) -> 0
A43: 合計Ｂ（Ａ+消費税及び地方消費税） | J43: =SUM(J41:J42) -> 0
A44: 0.33333333
A46: ※学術機関等に対する委託費・共同研究費の場合は「間接経費」が積算可能です。
A47: ※補助先がＮＥＤＯへ計上する補助対象費用は、消費税抜き額になります。（ただし、委託契約は消費税の課税取引となりますので、補助先と委託先の関係では合計Ｂにて契約します。）
A48: ※「補助金の額」には、様式第１に記述の補助率に従い、「補助対象費用の合計Ａ」に補助率を乗じて千円未満を切り捨てた金額を記入してください。ただし、学術機関等に対する共同研究費の場合は、「補助金の額」に「補助対象費用の合計Ａ」と同額の金額を記入してください。
L50: 2026年4月1日版

Sheet 委託・共研_2029
L1: 別紙２－①
A2: 項目別明細表（委託・共同研究先用）
A4: （４）株式会社□□ 項目別明細表(2029年度）
A5: 積算基礎（円） | J5: 補助事業に要する経費 | K5: 補助対象費用 | L5: 補助金の額（円）
A6: Ⅰ．機械装置等費 | J6: =SUM(J7,J10,J16) -> 0 | K6: =SUM(K7,K10,K16) -> 0
A7: １．土木・建築工事費 | J7: =SUM(J8) -> 0 | K7: =SUM(K8) -> 0
B8: ○○土木・建築工事費 | C8: ＠ | E8: 円 | F8: × | H8: H | I8: ＝ | J8: =D8*G8 -> 0 | K8: =J8 -> 0
A10: ２．機械装置等製作・購入費 | J10: =SUM(J11:J15) -> 0 | K10: =SUM(K11:K15) -> 0
B11: ○○製作設計費 | C11: ＠ | E11: 円 | F11: × | H11: H | I11: ＝ | J11: =D11*G11 -> 0 | K11: =J11 -> 0
B12: ○○製作加工費 | C12: ＠ | E12: 円 | F12: × | H12: H | I12: ＝ | J12: =D12*G12 -> 0 | K12: =J12 -> 0
B13: ○○試験装置 一式 | I13: ＝ | K13: =J13 -> 0
B14: ○○評価装置 一式 | I14: ＝ | K14: =J14 -> 0
B15: ○○作成装置 一式 | I15: ＝ | K15: =J15 -> 0
A16: ３．保守・改造修理費 | J16: =SUM(J17:J18) -> 0 | K16: =SUM(K17:K18) -> 0
B17: ○○装置改造費 一式 | I17: ＝ | K17: =J17 -> 0
B18: ○○装置保守費 一式 | I18: ＝ | K18: =J18 -> 0
A19: Ⅱ．労務費 | J19: =SUM(J20,J23) -> 0 | K19: =SUM(K20,K23) -> 0
A20: １．研究員費 | J20: =SUM(J21:J22) -> 0 | K20: =SUM(K21:K22) -> 0
B21: 研究員A | C21: ＠ | E21: 円 | F21: × | H21: H | I21: ＝ | J21: =D21*G21 -> 0 | K21: =J21 -> 0
B22: 研究員B | C22: ＠ | E22: 円 | F22: × | H22: H | I22: ＝ | J22: =D22*G22 -> 0 | K22: =J22 -> 0
A23: ２．補助員費 | J23: =SUM(J24) -> 0 | K23: =SUM(K24) -> 0
C24: ＠ | E24: 円 | F24: × | H24: 日 | I24: ＝ | J24: =D24*G24 -> 0 | K24: =J24 -> 0
A25: Ⅲ．その他経費 | J25: =SUM(J26,J29,J33,J35) -> 0 | K25: =SUM(K26,K29,K33,K35) -> 0
A26: １．消耗品費 | J26: =SUM(J27:J28) -> 0 | K26: =SUM(K27:K28) -> 0
B27: ○○薬品 一式 | I27: ＝ | K27: =J27 -> 0
B28: ○○実験器具 一式 | I28: ＝ | K28: =J28 -> 0
A29: ２．旅費 | J29: =SUM(J30:J32) -> 0 | K29: =SUM(K30:K32) -> 0
A30: (1)研究員旅費 | B30: 国内旅費一式 | I30: ＝ | K30: =J30 -> 0
B31: 海外旅費一式 | I31: ＝ | K31: =J31 -> 0
A32: (2)専門家旅費 | B32: 海外旅費一式 | I32: ＝ | K32: =J32 -> 0
A33: ３．外注費 | J33: =SUM(J34) -> 0 | K33: =SUM(K34) -> 0
B34: ○○ソフト開発外注 | I34: ＝ | K34: =J34 -> 0
A35: ４．諸経費 | J35: =SUM(J36:J39) -> 0 | K35: =SUM(K36:K39) -> 0
A36: (1)機械リース料 | C36: ＠ | E36: 円 | F36: × | H36: ヶ月 | I36: ＝ | J36: =D36*G36 -> 0 | K36: =J36 -> 0
A37: (2)委員会費 | B37: 委員謝金一式 | I37: ＝ | K37: =J37 -> 0
B38: 委員旅費一式 | I38: ＝ | K38: =J38 -> 0
I39: ＝ | K39: =J39 -> 0
A40: Ⅳ．間接経費 | B40: 0 | J40: =ROUNDDOWN((J6+J19+J25)*B40%,-3) -> 0 | K40: =ROUNDDOWN((K6+K19+K25)*B40%,-3) -> 0
A41: 合計Ａ(Ⅰ＋Ⅱ＋Ⅲ＋Ⅳ） | J41: =SUM(J6,J19,J25,J40) -> 0 | K41: =SUM(K6,K19,K25,K40) -> 0 | L41: =K41*A44 -> 0
A42: 消費税及び地方消費税 | B42: 10 | J42: =ROUNDDOWN(J41*B42%,0) -> 0
A43: 合計Ｂ（Ａ+消費税及び地方消費税） | J43: =SUM(J41:J42) -> 0
A44: 0.33333333
A46: ※学術機関等に対する委託費・共同研究費の場合は「間接経費」が積算可能です。
A47: ※補助先がＮＥＤＯへ計上する補助対象費用は、消費税抜き額になります。（ただし、委託契約は消費税の課税取引となりますので、補助先と委託先の関係では合計Ｂにて契約します。）
A48: ※「補助金の額」には、様式第１に記述の補助率に従い、「補助対象費用の合計Ａ」に補助率を乗じて千円未満を切り捨てた金額を記入してください。ただし、学術機関等に対する共同研究費の場合は、「補助金の額」に「補助対象費用の合計Ａ」と同額の金額を記入してください。
L50: 2026年4月1日版

Sheet 委託・共研_2030
L1: 別紙２－①
A2: 項目別明細表（委託・共同研究先用）
A4: （４）株式会社□□ 項目別明細表(2030年度）
A5: 積算基礎（円） | J5: 補助事業に要する経費 | K5: 補助対象費用 | L5: 補助金の額（円）
A6: Ⅰ．機械装置等費 | J6: =SUM(J7,J10,J16) -> 0 | K6: =SUM(K7,K10,K16) -> 0
A7: １．土木・建築工事費 | J7: =SUM(J8) -> 0 | K7: =SUM(K8) -> 0
B8: ○○土木・建築工事費 | C8: ＠ | E8: 円 | F8: × | H8: H | I8: ＝ | J8: =D8*G8 -> 0 | K8: =J8 -> 0
A10: ２．機械装置等製作・購入費 | J10: =SUM(J11:J15) -> 0 | K10: =SUM(K11:K15) -> 0
B11: ○○製作設計費 | C11: ＠ | E11: 円 | F11: × | H11: H | I11: ＝ | J11: =D11*G11 -> 0 | K11: =J11 -> 0
B12: ○○製作加工費 | C12: ＠ | E12: 円 | F12: × | H12: H | I12: ＝ | J12: =D12*G12 -> 0 | K12: =J12 -> 0
B13: ○○試験装置 一式 | I13: ＝ | K13: =J13 -> 0
B14: ○○評価装置 一式 | I14: ＝ | K14: =J14 -> 0
B15: ○○作成装置 一式 | I15: ＝ | K15: =J15 -> 0
A16: ３．保守・改造修理費 | J16: =SUM(J17:J18) -> 0 | K16: =SUM(K17:K18) -> 0
B17: ○○装置改造費 一式 | I17: ＝ | K17: =J17 -> 0
B18: ○○装置保守費 一式 | I18: ＝ | K18: =J18 -> 0
A19: Ⅱ．労務費 | J19: =SUM(J20,J23) -> 0 | K19: =SUM(K20,K23) -> 0
A20: １．研究員費 | J20: =SUM(J21:J22) -> 0 | K20: =SUM(K21:K22) -> 0
B21: 研究員A | C21: ＠ | E21: 円 | F21: × | H21: H | I21: ＝ | J21: =D21*G21 -> 0 | K21: =J21 -> 0
B22: 研究員B | C22: ＠ | E22: 円 | F22: × | H22: H | I22: ＝ | J22: =D22*G22 -> 0 | K22: =J22 -> 0
A23: ２．補助員費 | J23: =SUM(J24) -> 0 | K23: =SUM(K24) -> 0
C24: ＠ | E24: 円 | F24: × | H24: 日 | I24: ＝ | J24: =D24*G24 -> 0 | K24: =J24 -> 0
A25: Ⅲ．その他経費 | J25: =SUM(J26,J29,J33,J35) -> 0 | K25: =SUM(K26,K29,K33,K35) -> 0
A26: １．消耗品費 | J26: =SUM(J27:J28) -> 0 | K26: =SUM(K27:K28) -> 0
B27: ○○薬品 一式 | I27: ＝ | K27: =J27 -> 0
B28: ○○実験器具 一式 | I28: ＝ | K28: =J28 -> 0
A29: ２．旅費 | J29: =SUM(J30:J32) -> 0 | K29: =SUM(K30:K32) -> 0
A30: (1)研究員旅費 | B30: 国内旅費一式 | I30: ＝ | K30: =J30 -> 0
B31: 海外旅費一式 | I31: ＝ | K31: =J31 -> 0
A32: (2)専門家旅費 | B32: 海外旅費一式 | I32: ＝ | K32: =J32 -> 0
A33: ３．外注費 | J33: =SUM(J34) -> 0 | K33: =SUM(K34) -> 0
B34: ○○ソフト開発外注 | I34: ＝ | K34: =J34 -> 0
A35: ４．諸経費 | J35: =SUM(J36:J39) -> 0 | K35: =SUM(K36:K39) -> 0
A36: (1)機械リース料 | C36: ＠ | E36: 円 | F36: × | H36: ヶ月 | I36: ＝ | J36: =D36*G36 -> 0 | K36: =J36 -> 0
A37: (2)委員会費 | B37: 委員謝金一式 | I37: ＝ | K37: =J37 -> 0
B38: 委員旅費一式 | I38: ＝ | K38: =J38 -> 0
I39: ＝ | K39: =J39 -> 0
A40: Ⅳ．間接経費 | B40: 0 | J40: =ROUNDDOWN((J6+J19+J25)*B40%,-3) -> 0 | K40: =ROUNDDOWN((K6+K19+K25)*B40%,-3) -> 0
A41: 合計Ａ(Ⅰ＋Ⅱ＋Ⅲ＋Ⅳ） | J41: =SUM(J6,J19,J25,J40) -> 0 | K41: =SUM(K6,K19,K25,K40) -> 0 | L41: =K41*A44 -> 0
A42: 消費税及び地方消費税 | B42: 10 | J42: =ROUNDDOWN(J41*B42%,0) -> 0
A43: 合計Ｂ（Ａ+消費税及び地方消費税） | J43: =SUM(J41:J42) -> 0
A44: 0.33333333
A46: ※学術機関等に対する委託費・共同研究費の場合は「間接経費」が積算可能です。
A47: ※補助先がＮＥＤＯへ計上する補助対象費用は、消費税抜き額になります。（ただし、委託契約は消費税の課税取引となりますので、補助先と委託先の関係では合計Ｂにて契約します。）
A48: ※「補助金の額」には、様式第１に記述の補助率に従い、「補助対象費用の合計Ａ」に補助率を乗じて千円未満を切り捨てた金額を記入してください。ただし、学術機関等に対する共同研究費の場合は、「補助金の額」に「補助対象費用の合計Ａ」と同額の金額を記入してください。
L50: 2026年4月1日版
