Workbook

Sheet はじめにご確認ください
G31: ｙ

Sheet 記入サンプルA(電動車等費用)
C1: 20 年度 | D1: 月別項目別明細表 | J1: 別紙４
G2: 事業番号： | I2: □□□□□□□□－□
C3: 件 名： | D3: グリーンイノベーション基金事業／スマートモビリティ社会の構築 | K3: TRL
D4: 商用利用される電気自動車・燃料電池自動車の大規模導入を実現するために必要となる運輸事業者における運行管理と一体的なエネルギーマネジメント等に関する研究開発 | K4: 5
D5: ○○○○○ | K5: 定率
C6: 委託・共同研究項目： | K6: {=_xlfn.IFS($J$4<=5,2/3,$J$4=6,1/2,$J$4<=7,1/3)} -> 0.66666667
C7: 補助先等名称： | D7: ○○○○○
C8: 対象項目名： | D8: 機械装置等製作・購入費（電動車等費用分）
C9: № | D9: =IF(COUNTIF(D8,"*旅費*"),"件名、出張日（期間）、出張者、目的地","品 名 等") -> 品 名 等 | E9: 契約先名称 | F9: 法人番号 (赤字は入力ミス) | G9: 検収日 | H9: =IF(COUNTIF(D8,"*旅費*"),"精算日"&CHAR(10)&"（支払日）","支払日") -> 支払日 | I9: 経費発生額 | K9: 電動車等費用 補助金参考額 | L9: 補助方法
I10: 消費税抜額 | J10: 消費税込額
C11: 1 | D11: 充電器の基礎工事 ※本来は別シートに記入 | E11: 〇〇建築 | F11: xxxxxxxxxxxxx0 | G11: 45018 | H11: 45046 | I11: 10000000 | J11: 11000000 | K11: 6666667 | L11: 定率補助
C12: 機1 | D12: (車両名)購入 1台 | E12: OEM | F12: xxxxxxxxxxxxx1 | G12: 45036 | H12: 45046 | I12: 30000000 | J12: 33000000 | K12: 15000000 | L12: 差額補助
C13: 機2-1 | D13: △kW 充電器購入 X台 | E13: ○○株式会社 | F13: xxxxxxxxxxxxx2 | G13: 45041 | H13: 45046 | I13: 6000000 | J13: 6600000 | K13: 4000000 | L13: 定率補助
D14: ４月計 | I14: =SUM(I11:I13) -> 46000000 | J14: =SUM(J11:J13) -> 50600000 | K14: =ROUNDDOWN(SUM(K11:K13),0) -> 25666667
C15: 機2-2 | D15: △kW 充電器 X台 保守費 ※本来は別シートに記入 | E15: xx株式会社 | F15: xxxxxxxxxxxxx3 | G15: 45051 | H15: 45077 | I15: 300000 | J15: 330000 | K15: 200000 | L15: 定率補助
C16: 機3 | D16: △kW 充電器購入 Y台 | E16: ○○株式会社 | F16: xxxxxxxxxxxxx2 | G16: 45061 | H16: 45077 | I16: 9000000 | J16: 9900000 | K16: 6000000 | L16: 定率補助
D18: ５月計 | I18: =SUM(I15:I17) -> 9300000 | J18: =SUM(J15:J17) -> 10230000 | K18: =ROUNDDOWN(SUM(K15:K17),0) -> 6200000
C19: 機2,3 | D19: △kW 充電器 X+Y台 保守費 ※本来は別シートに記入 | E19: xx株式会社 | F19: xxxxxxxxxxxxx3 | G19: 45087 | H19: 45104 | I19: 750000 | J19: 825000 | K19: 450000 | L19: 定率補助
D22: ６月計 | I22: =SUM(I19:I21) -> 750000 | J22: =SUM(J19:J21) -> 825000 | K22: =ROUNDDOWN(SUM(K19:K21),0) -> 450000
D23: 第１四半期計（電動車等費用） | I23: =SUM(I14,I18,I22) -> 56050000 | J23: =SUM(J14,J18,J22) -> 61655000 | K23: =SUM(K14,K18,K22) -> 32316667
D27: ７月計 | I27: =SUM(I24:I26) -> 0 | J27: =SUM(J24:J26) -> 0 | K27: =ROUNDDOWN(SUM(K24:K26),0) -> 0
D31: ８月計 | I31: =SUM(I28:I30) -> 0 | J31: =SUM(J28:J30) -> 0 | K31: =ROUNDDOWN(SUM(K28:K30),0) -> 0
D35: ９月計 | I35: =SUM(I32:I34) -> 0 | J35: =SUM(J32:J34) -> 0 | K35: =ROUNDDOWN(SUM(K32:K34),0) -> 0
D36: 第２四半期計（電動車等費用） | I36: =SUM(I27,I32,I35) -> 0 | J36: =SUM(J27,J32,J35) -> 0 | K36: =SUM(K27,K32,K35) -> 0
C37: A1-1 | D37: 車種A 3台 リース(10月分) ※本来は別シートに記入 | E37: **リース | F37: xxxxxxxxxxxxx4 | G37: 45200 | H37: 45230 | I37: 30000 | J37: 33000 | K37: 20000 | L37: 定率補助
C38: A2-1 | D38: 車種B 2台 リース(10月分) ※本来は別シートに記入 | E38: **リース | F38: xxxxxxxxxxxxx4 | G38: 45200 | H38: 45230 | I38: 30000 | J38: 33000 | K38: 20000 | L38: 定率補助
C39: B1 | D39: 燃料 ○kg ※本来は別シートに記入 | E39: **石油 | F39: xxxxxxxxxxxxx5 | G39: 45219 | H39: 45230 | I39: 10000 | J39: 11000 | K39: 6667 | L39: 定率補助
D40: １０月計 | I40: =SUM(I37:I39) -> 70000 | J40: =SUM(J37:J39) -> 77000 | K40: =ROUNDDOWN(SUM(K37:K39),0) -> 46667
C41: A1-2 | D41: 車種A 3台 リース(11月分) ※本来は別シートに記入 | E41: **リース | F41: xxxxxxxxxxxxx4 | G41: 45231 | H41: 45260 | I41: 30000 | J41: 33000 | K41: 20000 | L41: 定率補助
C42: A2-2 | D42: 車種B 2台 リース(11月分) ※本来は別シートに記入 | E42: **リース | F42: xxxxxxxxxxxxx4 | G42: 45231 | H42: 45260 | I42: 30000 | J42: 33000 | K42: 20000 | L42: 定率補助
D44: １１月計 | I44: =SUM(I41:I43) -> 60000 | J44: =SUM(J41:J43) -> 66000 | K44: =ROUNDDOWN(SUM(K41:K43),0) -> 40000
C45: A1-3 | D45: 車種A 3台 リース(12月分) ※本来は別シートに記入 | E45: **リース | F45: xxxxxxxxxxxxx4 | G45: 45261 | H45: 45291 | I45: 30000 | J45: 33000 | K45: 20000 | L45: 定率補助
C46: A2-3 | D46: 車種B 2台 リース(12月分) ※本来は別シートに記入 | E46: **リース | F46: xxxxxxxxxxxxx4 | G46: 45261 | H46: 45291 | I46: 30000 | J46: 33000 | K46: 20000 | L46: 定率補助
D48: １２月計 | I48: =SUM(I45:I47) -> 60000 | J48: =SUM(J45:J47) -> 66000 | K48: =ROUNDDOWN(SUM(K45:K47),0) -> 40000
D49: 第３四半期計（電動車等費用） | I49: =SUM(I40,I44,I48) -> 190000 | J49: =SUM(J40,J44,J48) -> 209000 | K49: =SUM(K40,K44,K48) -> 126667
C50: A1-4 | D50: 車種A 3台 リース(1月分) ※本来は別シートに記入 | E50: **リース | F50: xxxxxxxxxxxxx4 | G50: 44927 | H50: 44957 | I50: 30000 | J50: 33000 | K50: 20000 | L50: 定率補助
C51: A2-4 | D51: 車種B 2台 リース(1月分) ※本来は別シートに記入 | E51: **リース | F51: xxxxxxxxxxxxx4 | G51: 44927 | H51: 44957 | I51: 30000 | J51: 33000 | K51: 20000 | L51: 定率補助
D53: １月計 | I53: =SUM(I50:I52) -> 60000 | J53: =SUM(J50:J52) -> 66000 | K53: =ROUNDDOWN(SUM(K50:K52),0) -> 40000
C54: A1-5 | D54: 車種A 3台 リース(2月分) ※本来は別シートに記入 | E54: **リース | F54: xxxxxxxxxxxxx4 | G54: 44958 | H54: 44985 | I54: 30000 | J54: 33000 | K54: 20000 | L54: 定率補助
C55: A2-5 | D55: 車種B 2台 リース(2月分) ※本来は別シートに記入 | E55: **リース | F55: xxxxxxxxxxxxx4 | G55: 44958 | H55: 44985 | I55: 30000 | J55: 33000 | K55: 20000 | L55: 定率補助
D57: ２月計 | I57: =SUM(I54:I56) -> 60000 | J57: =SUM(J54:J56) -> 66000 | K57: =ROUNDDOWN(SUM(K54:K56),0) -> 40000
C58: A1-6 | D58: 車種A 3台 リース(3月分) ※本来は別シートに記入 | E58: **リース | F58: xxxxxxxxxxxxx4 | G58: 44986 | H58: 45016 | I58: 30000 | J58: 33000 | K58: 20000 | L58: 定率補助
C59: A2-6 | D59: 車種B 2台 リース(3月分) ※本来は別シートに記入 | E59: **リース | F59: xxxxxxxxxxxxx4 | G59: 44986 | H59: 45016 | I59: 30000 | J59: 33000 | K59: 20000 | L59: 定率補助
D61: ３月計 | I61: =SUM(I58:I60) -> 60000 | J61: =SUM(J58:J60) -> 66000 | K61: =ROUNDDOWN(SUM(K58:K60),0) -> 40000
D62: 第４四半期計（電動車等費用） | I62: =SUM(I53,I57,I61) -> 180000 | J62: =SUM(J53,J57,J61) -> 198000 | K62: =SUM(K53,K57,K61) -> 120000
D63: 合計（電動車等費用） | I63: =SUM(I62,I49,I36,I23) -> 56420000 | J63: =SUM(J62,J49,J36,J23) -> 62062000 | K63: =SUM(K62,K49,K36,K23) -> 32563334
L64: （GI基金事業／スマートモビリティ社会の構築） 2026年4月1日版

Sheet 記入サンプルA(基本費用・合計額)
B1: 20 年度 | C1: 月別項目別明細表 | I1: 別紙４
F2: 事業番号： | H2: □□□□□□□□－□
B3: 件 名： | C3: グリーンイノベーション基金事業／スマートモビリティ社会の構築 | J3: TRL
C4: 商用利用される電気自動車・燃料電池自動車の大規模導入を実現するために必要となる運輸事業者における運行管理と一体的なエネルギーマネジメント等に関する研究開発
C5: ○○○○○ | J5: 定率
B6: 委託・共同研究項目： | J6: {=_xlfn.IFS($J$4<=5,2/3,$J$4=6,1/2,$J$4<=7,1/3)} -> 0.66666667
B7: 補助先等名称： | C7: ○○○○○
B8: 対象項目名： | C8: 機械装置等製作・購入費
B9: № | C9: =IF(COUNTIF(C8,"*旅費*"),"件名、出張日（期間）、出張者、目的地","品 名 等") -> 品 名 等 | D9: 契約先名称 | E9: 法人番号 (赤字は入力ミス) | F9: 検収日 | G9: =IF(COUNTIF(C8,"*旅費*"),"精算日"&CHAR(10)&"（支払日）","支払日") -> 支払日 | H9: 経費発生額 | J9: 補助金参考額
H10: 消費税抜額 | I10: 消費税込額
B11: 1 | C11: データロガー 1個 | D11: 〇〇電機 | E11: xxxxxxxxxxxxx6 | F11: 45031 | G11: 45046 | H11: 100000 | I11: 110000
C14: ４月計 | H14: =SUM(H11:H13) -> 100000 | I14: =SUM(I11:I13) -> 110000
C18: ５月計 | H18: =SUM(H15:H17) -> 0 | I18: =SUM(I15:I17) -> 0
C22: ６月計 | H22: =SUM(H19:H21) -> 0 | I22: =SUM(I19:I21) -> 0
C23: 第１四半期計（基本費用分） | H23: =SUM(H14,H18,H22) -> 100000 | I23: =SUM(I14,I18,I22) -> 110000 | J23: =ROUNDDOWN(H23*$J$6,0) -> 66666
C24: 第１四半期計（電動車等費用） | H24: ='記入サンプルA(電動車等費用)'!I23 -> 56050000 | I24: ='記入サンプルA(電動車等費用)'!J23 -> 61655000 | J24: ='記入サンプルA(電動車等費用)'!K23 -> 32316667
C25: 第１四半期計（合計） | H25: =SUM(H23,H24) -> 56150000 | I25: =SUM(I23,I24) -> 61765000 | J25: =ROUND(J23+J24,0) -> 32383333
C29: ７月計 | H29: =SUM(H26:H28) -> 0 | I29: =SUM(I26:I28) -> 0
C33: ８月計 | H33: =SUM(H30:H32) -> 0 | I33: =SUM(I30:I32) -> 0
C37: ９月計 | H37: =SUM(H34:H36) -> 0 | I37: =SUM(I34:I36) -> 0
C38: 第２四半期計（基本費用分） | H38: =SUM(H29,H33,H37) -> 0 | I38: =SUM(I29,I33,I37) -> 0 | J38: =ROUNDDOWN(H38*$J$6,0) -> 0
C39: 第２四半期計（電動車等費用） | H39: ='★外注費（電動車等費用）'!H36 -> 0 | I39: ='★外注費（電動車等費用）'!I36 -> 0 | J39: ='★外注費（電動車等費用）'!J36 -> 0
C40: 第２四半期計（合計） | H40: =SUM(H38,H39) -> 0 | I40: =SUM(I38,I39) -> 0 | J40: =ROUND(J38+J39,0) -> 0
C44: １０月計 | H44: =SUM(H41:H43) -> 0 | I44: =SUM(I41:I43) -> 0
C48: １１月計 | H48: =SUM(H45:H47) -> 0 | I48: =SUM(I45:I47) -> 0
C52: １２月計 | H52: =SUM(H49:H49) -> 0 | I52: =SUM(I49:I49) -> 0
C53: 第３四半期計（基本費用分） | H53: =SUM(H44,H48,H52) -> 0 | I53: =SUM($I52,$I44,$I48) -> 0 | J53: =ROUNDDOWN(H53*2/3,0) -> 0
C54: 第３四半期計（電動車等費用） | H54: ='記入サンプルA(電動車等費用)'!I49 -> 190000 | I54: ='記入サンプルA(電動車等費用)'!J49 -> 209000 | J54: ='記入サンプルA(電動車等費用)'!K49 -> 126667
C55: 第３四半期計（合計） | H55: =SUM(H53,H54) -> 190000 | I55: =SUM(I53,I54) -> 209000 | J55: =ROUND(J53+J54,0) -> 126667
C59: １月計 | H59: =SUM(H56:H58) -> 0 | I59: =SUM(I56:I58) -> 0
C63: ２月計 | H63: =SUM(H60:H62) -> 0 | I63: =SUM(I60:I62) -> 0
C67: ３月計 | H67: =SUM(H64:H66) -> 0 | I67: =SUM(I64:I66) -> 0
C68: 第４四半期計（基本費用分） | H68: =SUM(H59,H63,H67) -> 0 | I68: =SUM(I59,I63,I67) -> 0 | J68: =ROUNDDOWN(H68*$J$6,0) -> 0
C69: 第４四半期計（電動車等費用） | H69: ='記入サンプルA(電動車等費用)'!I62 -> 180000 | I69: ='記入サンプルA(電動車等費用)'!J62 -> 198000 | J69: ='記入サンプルA(電動車等費用)'!K62 -> 120000
C70: 第４四半期計（合計） | H70: =SUM(H68,H69) -> 180000 | I70: =SUM(I68,I69) -> 198000 | J70: =ROUND(J68+J69,0) -> 120000
C71: 合計（基本費用） | H71: =SUM(H23,H38,H53,H68) -> 100000 | I71: =SUM(I23,I38,I53,I68) -> 110000 | J71: =SUM(J23,J38,J53,J68) -> 66666
C72: 合計（電動車等費用） | H72: =SUM(H24,H39,H54,H69) -> 56420000 | I72: =SUM(I24,I39,I54,I69) -> 62062000 | J72: =SUM(J24,J39,J54,J69) -> 32563334
C73: 合計 | H73: =SUM(H71,H72) -> 56520000 | I73: =SUM(I71,I72) -> 62172000 | J73: =SUM(J71,J72) -> 32630000
J74: （GI基金事業／スマートモビリティ社会の構築） 2026年4月1日版

Sheet 記入サンプルB(電動車等費用)
C1: 20 年度 | D1: 月別項目別明細表 | J1: 別紙４
G2: 事業番号： | I2: □□□□□□□□－□
C3: 件 名： | D3: グリーンイノベーション基金事業／スマートモビリティ社会の構築 | K3: TRL
C4: （GI基金事業／スマートモビリティ社会の構築） フォーマット更新月：2025年11月 | D4: 商用利用される電気自動車・燃料電池自動車の大規模導入を実現するために必要となる運輸事業者における運行管理と一体的なエネルギーマネジメント等に関する研究開発
D5: ○○○○○ | K5: 定率
C6: 委託・共同研究項目： | K6: {=_xlfn.IFS($J$4<=5,2/3,$J$4=6,1/2,$J$4<=7,1/3)} -> 0.66666667
C7: 補助先等名称： | D7: ○○○○○
C8: 対象項目名： | D8: 外注費（電動車等費用分）
C9: № | D9: =IF(COUNTIF(D8,"*旅費*"),"件名、出張日（期間）、出張者、目的地","品 名 等") -> 品 名 等 | E9: 契約先名称 | F9: 法人番号 (赤字は入力ミス) | G9: 検収日 | H9: =IF(COUNTIF(D8,"*旅費*"),"精算日"&CHAR(10)&"（支払日）","支払日") -> 支払日 | I9: 経費発生額 | K9: 電動車等費用 補助金参考額 | L9: 補助方法 | M9: （参考） 補助事業に 要する費用
I10: 消費税抜額 | J10: 消費税込額
C11: A1-1 | D11: 車種A 3台 リース(4月分) | E11: **交通 | F11: xxxxxxxxxxxxx1 | G11: 45017 | H11: 45046 | I11: 30000 | J11: 33000 | K11: 30000 | L11: 定額補助（定率補助） | M11: 60000
C12: A2-1 | D12: 車種B 2台 リース(4月分) | E12: **交通 | F12: xxxxxxxxxxxxx1 | G12: 45017 | H12: 45046 | I12: 30000 | J12: 33000 | K12: 30000 | L12: 定額補助（差額補助） | M12: 60000
C13: A3-1 | D13: 車種C 1台 リース(4月分) | E13: **交通 | F13: xxxxxxxxxxxxx1 | G13: 45017 | H13: 45046 | I13: 20000 | J13: 22000 | K13: 20000 | L13: 定額補助（定率補助） | M13: 40000
D14: ４月計 | I14: =SUM(I11:I13) -> 80000 | J14: =SUM(J11:J13) -> 88000 | K14: =ROUNDDOWN(SUM(K11:K13),0) -> 80000 | M14: =SUM(M11:M13) -> 160000
C15: A1-2 | D15: 車種A 3台 リース(5月分) | E15: **交通 | F15: xxxxxxxxxxxxx1 | G15: 45047 | H15: 45077 | I15: 30000 | J15: 33000 | K15: 30000 | L15: 定額補助（定率補助） | M15: 60000
C16: A2-2 | D16: 車種B 2台 リース(5月分) | E16: **交通 | F16: xxxxxxxxxxxxx1 | G16: 45047 | H16: 45077 | I16: 30000 | J16: 33000 | K16: 30000 | L16: 定額補助（差額補助） | M16: 60000
C17: A3-2 | D17: 車種C 1台 リース(5月分) | E17: **交通 | F17: xxxxxxxxxxxxx1 | G17: 45047 | H17: 45077 | I17: 20000 | J17: 22000 | K17: 20000 | L17: 定額補助（定率補助） | M17: 40000
C18: B1 | D18: 車種A 3台 購入 | E18: ##運輸 | F18: xxxxxxxxxxxxx2 | G18: 45058 | H18: 45077 | I18: 90000000 | J18: 99000000 | K18: 90000000 | L18: 定額補助 | M18: 180000000
C19: B2 | D19: 車種D 2台 購入 | E19: ##運輸 | F19: xxxxxxxxxxxxx2 | G19: 45058 | H19: 45077 | I19: 20000000 | J19: 22000000 | K19: 20000000 | L19: 定額補助 | M19: 40000000
D20: ５月計 | I20: =SUM(I15:I19) -> 110080000 | J20: =SUM(J15:J19) -> 121088000 | K20: =ROUNDDOWN(SUM(K15:K19),0) -> 110080000 | M20: =SUM(M15:M19) -> 220160000
C21: A1-3 | D21: 車種A 3台 リース(6月分) | E21: **交通 | F21: xxxxxxxxxxxxx1 | G21: 45078 | H21: 45107 | I21: 30000 | J21: 33000 | K21: 30000 | L21: 定額補助（定率補助） | M21: 60000
C22: A2-3 | D22: 車種B 2台 リース(6月分) | E22: **交通 | F22: xxxxxxxxxxxxx1 | G22: 45078 | H22: 45107 | I22: 30000 | J22: 33000 | K22: 30000 | L22: 定額補助（差額補助） | M22: 60000
C23: A3-3 | D23: 車種C 1台 リース(6月分) | E23: **交通 | F23: xxxxxxxxxxxxx1 | G23: 45078 | H23: 45107 | I23: 20000 | J23: 22000 | K23: 20000 | L23: 定額補助（定率補助） | M23: 40000
D24: ６月計 | I24: =SUM(I21:I23) -> 80000 | J24: =SUM(J21:J23) -> 88000 | K24: =ROUNDDOWN(SUM(K21:K23),0) -> 80000 | M24: =SUM(M21:M23) -> 160000
D25: 第１四半期計（電動車等費用） | I25: =SUM(I14,I20,I24) -> 110240000 | J25: =SUM(J14,J20,J24) -> 121264000 | K25: =SUM(K14,K20,K24) -> 110240000 | M25: =SUM(M14,M20,M24) -> 220480000
C26: A1-4 | D26: 車種A 3台 リース(7月分) | E26: **交通 | F26: xxxxxxxxxxxxx1 | G26: 45108 | H26: 45138 | I26: 30000 | J26: 33000 | K26: 30000 | L26: 定額補助（定率補助） | M26: 60000
C27: A2-4 | D27: 車種B 2台 リース(7月分) | E27: **交通 | F27: xxxxxxxxxxxxx1 | G27: 45108 | H27: 45138 | I27: 30000 | J27: 33000 | K27: 30000 | L27: 定額補助（差額補助） | M27: 60000
C28: A3-4 | D28: 車種C 1台 リース(7月分) | E28: **交通 | F28: xxxxxxxxxxxxx1 | G28: 45108 | H28: 45138 | I28: 20000 | J28: 22000 | K28: 20000 | L28: 定額補助（定率補助） | M28: 40000
C29: C | D29: 燃料 ○kg | E29: ##運輸 | F29: xxxxxxxxxxxxx2 | G29: 45127 | H29: 45138 | I29: 10000 | J29: 11000 | K29: 10000 | L29: 定額補助（差額補助） | M29: 30000
D30: ７月計 | I30: =SUM(I26:I29) -> 90000 | J30: =SUM(J26:J29) -> 99000 | K30: =ROUNDDOWN(SUM(K26:K29),0) -> 90000 | M30: =SUM(M26:M29) -> 190000
C31: A1-5 | D31: 車種A 3台 リース(8月分) | E31: **交通 | F31: xxxxxxxxxxxxx1 | G31: 45139 | H31: 45169 | I31: 30000 | J31: 33000 | K31: 30000 | L31: 定額補助（定率補助） | M31: 60000
C32: A2-5 | D32: 車種B 2台 リース(8月分) | E32: **交通 | F32: xxxxxxxxxxxxx1 | G32: 45139 | H32: 45169 | I32: 30000 | J32: 33000 | K32: 30000 | L32: 定額補助（差額補助） | M32: 60000
C33: A3-5 | D33: 車種C 1台 リース(8月分) | E33: **交通 | F33: xxxxxxxxxxxxx1 | G33: 45139 | H33: 45169 | I33: 20000 | J33: 22000 | K33: 20000 | L33: 定額補助（定率補助） | M33: 40000
C34: D1 | D34: △kW 充電器購入 X台 | E34: ○○株式会社 | F34: xxxxxxxxxxxxx3 | G34: 45163 | H34: 45169 | I34: 6000000 | J34: 6600000 | K34: 6000000 | L34: 定額補助 | M34: 12000000
D35: ８月計 | I35: =SUM(I31:I34) -> 6080000 | J35: =SUM(J31:J34) -> 6688000 | K35: =ROUNDDOWN(SUM(K31:K34),0) -> 6080000 | M35: =SUM(M31:M34) -> 12160000
C36: A1-6 | D36: 車種A 3台 リース(9月分) | E36: **交通 | F36: xxxxxxxxxxxxx1 | G36: 45170 | H36: 45199 | I36: 30000 | J36: 33000 | K36: 30000 | L36: 定額補助（定率補助） | M36: 60000
C37: A2-6 | D37: 車種B 2台 リース(9月分) | E37: **交通 | F37: xxxxxxxxxxxxx1 | G37: 45170 | H37: 45199 | I37: 30000 | J37: 33000 | K37: 30000 | L37: 定額補助（差額補助） | M37: 60000
C38: A3-6 | D38: 車種C 1台 リース(9月分) | E38: **交通 | F38: xxxxxxxxxxxxx1 | G38: 45170 | H38: 45199 | I38: 20000 | J38: 22000 | K38: 20000 | L38: 定額補助（定率補助） | M38: 40000
C39: D2 | D39: △kW 充電器 X台 保守費 | E39: xx株式会社 | F39: xxxxxxxxxxxxx4 | G39: 45194 | H39: 45199 | I39: 300000 | J39: 330000 | K39: 300000 | L39: 定額補助
D40: ９月計 | I40: =SUM(I36:I39) -> 380000 | J40: =SUM(J36:J39) -> 418000 | K40: =ROUNDDOWN(SUM(K36:K39),0) -> 380000 | M40: =SUM(M36:M39) -> 160000
D41: 第２四半期計（電動車等費用） | I41: =SUM(I30,I35,I40) -> 6550000 | J41: =SUM(J30,J35,J40) -> 7205000 | K41: =SUM(K30,K35,K40) -> 6550000 | M41: =SUM(M30,M35,M40) -> 12510000
C42: A1-7 | D42: 車種A 3台 リース(10月分) | E42: **交通 | F42: xxxxxxxxxxxxx1 | G42: 45200 | H42: 45230 | I42: 30000 | J42: 33000 | K42: 30000 | L42: 定額補助（定率補助） | M42: 60000
C43: A2-7 | D43: 車種B 2台 リース(10月分) | E43: **交通 | F43: xxxxxxxxxxxxx1 | G43: 45200 | H43: 45230 | I43: 30000 | J43: 33000 | K43: 30000 | L43: 定額補助（差額補助） | M43: 60000
C44: A3-7 | D44: 車種C 1台 リース(10月分) | E44: **交通 | F44: xxxxxxxxxxxxx1 | G44: 45200 | H44: 45230 | I44: 20000 | J44: 22000 | K44: 20000 | L44: 定額補助（定率補助） | M44: 40000
D45: １０月計 | I45: =SUM(I42:I44) -> 80000 | J45: =SUM(J42:J44) -> 88000 | K45: =ROUNDDOWN(SUM(K42:K44),0) -> 80000 | M45: =SUM(M42:M44) -> 160000
C46: A1-8 | D46: 車種A 3台 リース(11月分) | E46: **交通 | F46: xxxxxxxxxxxxx1 | G46: 45231 | H46: 45260 | I46: 30000 | J46: 33000 | K46: 30000 | L46: 定額補助（定率補助） | M46: 60000
C47: A2-8 | D47: 車種B 2台 リース(11月分) | E47: **交通 | F47: xxxxxxxxxxxxx1 | G47: 45231 | H47: 45260 | I47: 30000 | J47: 33000 | K47: 30000 | L47: 定額補助（差額補助） | M47: 60000
C48: A3-8 | D48: 車種C 1台 リース(11月分) | E48: **交通 | F48: xxxxxxxxxxxxx1 | G48: 45231 | H48: 45260 | I48: 20000 | J48: 22000 | K48: 20000 | L48: 定額補助（定率補助） | M48: 40000
D49: １１月計 | I49: =SUM(I46:I48) -> 80000 | J49: =SUM(J46:J48) -> 88000 | K49: =ROUNDDOWN(SUM(K46:K48),0) -> 80000 | M49: =SUM(M46:M48) -> 160000
C50: A1-9 | D50: 車種A 3台 リース(12月分) | E50: **交通 | F50: xxxxxxxxxxxxx1 | G50: 45261 | H50: 45291 | I50: 30000 | J50: 33000 | K50: 30000 | L50: 定額補助（定率補助） | M50: 60000
C51: A2-9 | D51: 車種B 2台 リース(12月分) | E51: **交通 | F51: xxxxxxxxxxxxx1 | G51: 45261 | H51: 45291 | I51: 30000 | J51: 33000 | K51: 30000 | L51: 定額補助（差額補助） | M51: 60000
C52: A3-9 | D52: 車種C 1台 リース(12月分) | E52: **交通 | F52: xxxxxxxxxxxxx1 | G52: 45261 | H52: 45291 | I52: 20000 | J52: 22000 | K52: 20000 | L52: 定額補助（定率補助） | M52: 40000
D53: １２月計 | I53: =SUM(I50:I52) -> 80000 | J53: =SUM(J50:J52) -> 88000 | K53: =ROUNDDOWN(SUM(K50:K52),0) -> 80000 | M53: =SUM(M50:M52) -> 160000
D54: 第３四半期計（電動車等費用） | I54: =SUM(I45,I49,I53) -> 240000 | J54: =SUM(J45,J49,J53) -> 264000 | K54: =SUM(K45,K49,K53) -> 240000 | M54: =SUM(M45,M49,M53) -> 480000
C55: A1-10 | D55: 車種A 3台 リース(1月分) | E55: **交通 | F55: xxxxxxxxxxxxx1 | G55: 44927 | H55: 44957 | I55: 30000 | J55: 33000 | K55: 30000 | L55: 定額補助（定率補助） | M55: 60000
C56: A2-10 | D56: 車種B 2台 リース(1月分) | E56: **交通 | F56: xxxxxxxxxxxxx1 | G56: 44927 | H56: 44957 | I56: 30000 | J56: 33000 | K56: 30000 | L56: 定額補助（差額補助） | M56: 60000
C57: A3-10 | D57: 車種C 1台 リース(1月分) | E57: **交通 | F57: xxxxxxxxxxxxx1 | G57: 44927 | H57: 44957 | I57: 20000 | J57: 22000 | K57: 20000 | L57: 定額補助（定率補助） | M57: 40000
D58: １月計 | I58: =SUM(I55:I57) -> 80000 | J58: =SUM(J55:J57) -> 88000 | K58: =ROUNDDOWN(SUM(K55:K57),0) -> 80000 | M58: =SUM(M55:M57) -> 160000
C59: A1-11 | D59: 車種A 3台 リース(2月分) | E59: **交通 | F59: xxxxxxxxxxxxx1 | G59: 44958 | H59: 44985 | I59: 30000 | J59: 33000 | K59: 30000 | L59: 定額補助（定率補助） | M59: 60000
C60: A2-11 | D60: 車種B 2台 リース(2月分) | E60: **交通 | F60: xxxxxxxxxxxxx1 | G60: 44958 | H60: 44985 | I60: 30000 | J60: 33000 | K60: 30000 | L60: 定額補助（差額補助） | M60: 60000
C61: A3-11 | D61: 車種C 1台 リース(2月分) | E61: **交通 | F61: xxxxxxxxxxxxx1 | G61: 44958 | H61: 44985 | I61: 20000 | J61: 22000 | K61: 20000 | L61: 定額補助（定率補助） | M61: 40000
D62: ２月計 | I62: =SUM(I59:I61) -> 80000 | J62: =SUM(J59:J61) -> 88000 | K62: =ROUNDDOWN(SUM(K59:K61),0) -> 80000 | M62: =SUM(M59:M61) -> 160000
C63: A1-12 | D63: 車種A 3台 リース(3月分) | E63: **交通 | F63: xxxxxxxxxxxxx1 | G63: 44986 | H63: 45016 | I63: 30000 | J63: 33000 | K63: 30000 | L63: 定額補助（定率補助） | M63: 60000
C64: A2-12 | D64: 車種B 2台 リース(3月分) | E64: **交通 | F64: xxxxxxxxxxxxx1 | G64: 44986 | H64: 45016 | I64: 30000 | J64: 33000 | K64: 30000 | L64: 定額補助（差額補助） | M64: 60000
C65: A3-12 | D65: 車種C 1台 リース(3月分) | E65: **交通 | F65: xxxxxxxxxxxxx1 | G65: 44986 | H65: 45016 | I65: 20000 | J65: 22000 | K65: 20000 | L65: 定額補助（定率補助） | M65: 40000
D66: ３月計 | I66: =SUM(I63:I65) -> 80000 | J66: =SUM(J63:J65) -> 88000 | K66: =ROUNDDOWN(SUM(K63:K65),0) -> 80000 | M66: =SUM(M63:M65) -> 160000
D67: 第４四半期計（電動車等費用） | I67: =SUM(I58,I62,I66) -> 240000 | J67: =SUM(J58,J62,J66) -> 264000 | K67: =SUM(K58,K62,K66) -> 240000 | M67: =SUM(M58,M62,M66) -> 480000
D68: 合計（電動車等費用） | I68: =SUM(I67,I54,I41,I25) -> 117270000 | J68: =SUM(J67,J54,J41,J25) -> 128997000 | K68: =SUM(K67,K54,K41,K25) -> 117270000 | M68: =SUM(M67,M54,M41,M25) -> 233950000
L69: （GI基金事業／スマートモビリティ社会の構築） 2026年4月1日版

Sheet 記入サンプルB(基本費用・合計額)
B1: 20 年度 | C1: 月別項目別明細表 | I1: 別紙４
F2: 事業番号： | H2: □□□□□□□□－□
B3: 件 名： | C3: グリーンイノベーション基金事業／スマートモビリティ社会の構築 | J3: TRL
C4: 商用利用される電気自動車・燃料電池自動車の大規模導入を実現するために必要となる運輸事業者における運行管理と一体的なエネルギーマネジメント等に関する研究開発
C5: ○○○○○ | J5: 定率
B6: 委託・共同研究項目： | J6: {=_xlfn.IFS($J$4<=5,2/3,$J$4=6,1/2,$J$4<=7,1/3)} -> 0.66666667
B7: 補助先等名称： | C7: ○○○○○
B8: 対象項目名： | C8: 外注費
B9: № | C9: =IF(COUNTIF(C8,"*旅費*"),"件名、出張日（期間）、出張者、目的地","品 名 等") -> 品 名 等 | D9: 契約先名称 | E9: 法人番号 (赤字は入力ミス) | F9: 検収日 | G9: =IF(COUNTIF(C8,"*旅費*"),"精算日"&CHAR(10)&"（支払日）","支払日") -> 支払日 | H9: 経費発生額 | J9: 補助金参考額
H10: 消費税抜額 | I10: 消費税込額
B11: 1 | C11: EVデータ取得 基本費用 | D11: **交通 | E11: xxxxxxxxxxxxx1 | F11: 45041 | G11: 45046 | H11: 100000 | I11: 110000
C14: ４月計 | H14: =SUM(H11:H13) -> 100000 | I14: =SUM(I11:I13) -> 110000
C18: ５月計 | H18: =SUM(H15:H17) -> 0 | I18: =SUM(I15:I17) -> 0
C22: ６月計 | H22: =SUM(H19:H21) -> 0 | I22: =SUM(I19:I21) -> 0
C23: 第１四半期計（基本費用分） | H23: =SUM(H14,H18,H22) -> 100000 | I23: =SUM(I14,I18,I22) -> 110000 | J23: =ROUNDDOWN(H23*$J$6,0) -> 66666
C24: 第１四半期計（電動車等費用） | H24: ='記入サンプルB(電動車等費用)'!I25 -> 110240000 | I24: ='記入サンプルB(電動車等費用)'!J25 -> 121264000 | J24: ='記入サンプルB(電動車等費用)'!K25 -> 110240000
C25: 第１四半期計（合計） | H25: =SUM(H23,H24) -> 110340000 | I25: =SUM(I23,I24) -> 121374000 | J25: =ROUND(J23+J24,0) -> 110306666
C29: ７月計 | H29: =SUM(H26:H28) -> 0 | I29: =SUM(I26:I28) -> 0
C33: ８月計 | H33: =SUM(H30:H32) -> 0 | I33: =SUM(I30:I32) -> 0
C37: ９月計 | H37: =SUM(H34:H36) -> 0 | I37: =SUM(I34:I36) -> 0
C38: 第２四半期計（基本費用分） | H38: =SUM(H29,H33,H37) -> 0 | I38: =SUM(I29,I33,I37) -> 0 | J38: =ROUNDDOWN(H38*$J$6,0) -> 0
C39: 第２四半期計（電動車等費用） | H39: ='記入サンプルB(電動車等費用)'!I41 -> 6550000 | I39: ='記入サンプルB(電動車等費用)'!J41 -> 7205000 | J39: ='記入サンプルB(電動車等費用)'!K41 -> 6550000
C40: 第２四半期計（合計） | H40: =SUM(H38,H39) -> 6550000 | I40: =SUM(I38,I39) -> 7205000 | J40: =ROUND(J38+J39,0) -> 6550000
C44: １０月計 | H44: =SUM(H41:H43) -> 0 | I44: =SUM(I41:I43) -> 0
C48: １１月計 | H48: =SUM(H45:H47) -> 0 | I48: =SUM(I45:I47) -> 0
C52: １２月計 | H52: =SUM(H49:H49) -> 0 | I52: =SUM(I49:I49) -> 0
C53: 第３四半期計（基本費用分） | H53: =SUM(H44,H48,H52) -> 0 | I53: =SUM($I52,$I44,$I48) -> 0 | J53: =ROUNDDOWN(H53*$J$6,0) -> 0
C54: 第３四半期計（電動車等費用） | H54: ='記入サンプルB(電動車等費用)'!I54 -> 240000 | I54: ='記入サンプルB(電動車等費用)'!J54 -> 264000 | J54: ='記入サンプルB(電動車等費用)'!K54 -> 240000
C55: 第３四半期計（合計） | H55: =SUM(H53,H54) -> 240000 | I55: =SUM(I53,I54) -> 264000 | J55: =ROUND(J53+J54,0) -> 240000
C59: １月計 | H59: =SUM(H56:H58) -> 0 | I59: =SUM(I56:I58) -> 0
C63: ２月計 | H63: =SUM(H60:H62) -> 0 | I63: =SUM(I60:I62) -> 0
C67: ３月計 | H67: =SUM(H64:H66) -> 0 | I67: =SUM(I64:I66) -> 0
C68: 第４四半期計（基本費用分） | H68: =SUM(H59,H63,H67) -> 0 | I68: =SUM(I59,I63,I67) -> 0 | J68: =ROUNDDOWN(H68*$J$6,0) -> 0
C69: 第４四半期計（電動車等費用） | H69: ='記入サンプルB(電動車等費用)'!I67 -> 240000 | I69: ='記入サンプルB(電動車等費用)'!J67 -> 264000 | J69: ='記入サンプルB(電動車等費用)'!K67 -> 240000
C70: 第４四半期計（合計） | H70: =SUM(H68,H69) -> 240000 | I70: =SUM(I68,I69) -> 264000 | J70: =ROUND(J68+J69,0) -> 240000
C71: 合計（基本費用） | H71: =SUM(H23,H38,H53,H68) -> 100000 | I71: =SUM(I23,I38,I53,I68) -> 110000 | J71: =SUM(J23,J38,J53,J68) -> 66666
C72: 合計（電動車等費用） | H72: =SUM(H24,H39,H54,H69) -> 117270000 | I72: =SUM(I24,I39,I54,I69) -> 128997000 | J72: =SUM(J24,J39,J54,J69) -> 117270000
C73: 合計 | H73: =SUM(H71,H72) -> 117370000 | I73: =SUM(I71,I72) -> 129107000 | J73: =SUM(J71,J72) -> 117336666
J74: （GI基金事業／スマートモビリティ社会の構築） 2026年4月1日版

Sheet 土木・建築工事費（電動車等費用）
B1: 20 年度 | C1: 月別項目別明細表 | I1: 別紙４
F2: 事業番号：
B3: 件 名： | C3: グリーンイノベーション基金事業／スマートモビリティ社会の構築 | J3: TRL
C4: 商用利用される電気自動車・燃料電池自動車の大規模導入を実現するために必要となる運輸事業者における運行管理と一体的なエネルギーマネジメント等に関する研究開発
J5: 定率
B6: 委託・共同研究項目： | J6: {=_xlfn.IFS($J$4<=5,2/3,$J$4=6,1/2,$J$4<=7,1/3)} -> 0.66666667
B7: 補助先等名称：
B8: 対象項目名： | C8: 土木・建築工事費 （電動車等費用分）
B9: № | C9: =IF(COUNTIF(C8,"*旅費*"),"件名、出張日（期間）、出張者、目的地","品 名 等") -> 品 名 等 | D9: 契約先名称 | E9: 法人番号 (赤字は入力ミス) | F9: 検収日 | G9: =IF(COUNTIF(C8,"*旅費*"),"精算日"&CHAR(10)&"（支払日）","支払日") -> 支払日 | H9: 経費発生額 | J9: 電動車等費用 補助金参考額 | K9: 補助方法
H10: 消費税抜額 | I10: 消費税込額
C14: ４月計 | H14: =SUM(H11:H13) -> 0 | I14: =SUM(I11:I13) -> 0 | J14: =ROUNDDOWN(SUM(J11:J13),0) -> 0
C18: ５月計 | H18: =SUM(H15:H17) -> 0 | I18: =SUM(I15:I17) -> 0 | J18: =ROUNDDOWN(SUM(J15:J17),0) -> 0
C22: ６月計 | H22: =SUM(H19:H21) -> 0 | I22: =SUM(I19:I21) -> 0 | J22: =ROUNDDOWN(SUM(J19:J21),0) -> 0
C23: 第１四半期計（電動車等費用） | H23: =SUM(H14,H18,H22) -> 0 | I23: =SUM(I14,I18,I22) -> 0 | J23: =SUM(J14,J18,J22) -> 0
C27: ７月計 | H27: =SUM(H24:H26) -> 0 | I27: =SUM(I24:I26) -> 0 | J27: =ROUNDDOWN(SUM(J24:J26),0) -> 0
C31: ８月計 | H31: =SUM(H28:H30) -> 0 | I31: =SUM(I28:I30) -> 0 | J31: =ROUNDDOWN(SUM(J28:J30),0) -> 0
C35: ９月計 | H35: =SUM(H32:H34) -> 0 | I35: =SUM(I32:I34) -> 0 | J35: =ROUNDDOWN(SUM(J32:J34),0) -> 0
C36: 第２四半期計（電動車等費用） | H36: =SUM(H27,H31,H35) -> 0 | I36: =SUM(I27,I31,I35) -> 0 | J36: =SUM(J27,J31,J35) -> 0
C40: １０月計 | H40: =SUM(H37:H39) -> 0 | I40: =SUM(I37:I39) -> 0 | J40: =ROUNDDOWN(SUM(J37:J39),0) -> 0
C44: １１月計 | H44: =SUM(H41:H43) -> 0 | I44: =SUM(I41:I43) -> 0 | J44: =ROUNDDOWN(SUM(J41:J43),0) -> 0
C48: １２月計 | H48: =SUM(H45:H47) -> 0 | I48: =SUM(I45:I47) -> 0 | J48: =ROUNDDOWN(SUM(J45:J47),0) -> 0
C49: 第３四半期計（電動車等費用） | H49: =SUM(H40,H44,H48) -> 0 | I49: =SUM(I40,I44,I48) -> 0 | J49: =SUM(J40,J44,J48) -> 0
C53: １月計 | H53: =SUM(H50:H52) -> 0 | I53: =SUM(I50:I52) -> 0 | J53: =ROUNDDOWN(SUM(J50:J52),0) -> 0
C57: ２月計 | H57: =SUM(H54:H56) -> 0 | I57: =SUM(I54:I56) -> 0 | J57: =ROUNDDOWN(SUM(J54:J56),0) -> 0
C61: ３月計 | H61: =SUM(H58:H60) -> 0 | I61: =SUM(I58:I60) -> 0 | J61: =ROUNDDOWN(SUM(J58:J60),0) -> 0
C62: 第４四半期計（電動車等費用） | H62: =SUM(H53,H57,H61) -> 0 | I62: =SUM(I53,I57,I61) -> 0 | J62: =SUM(J53,J57,J61) -> 0
C63: 合計（電動車等費用） | H63: =SUM(H62,H49,H36,H23) -> 0 | I63: =SUM(I62,I49,I36,I23) -> 0 | J63: =SUM(J62,J49,J36,J23) -> 0
K64: （GI基金事業／スマートモビリティ社会の構築） 2026年4月1日版

Sheet 土木・建築工事費（基本費用・合計額）
B1: 20 年度 | C1: 月別項目別明細表 | I1: 別紙４
F2: 事業番号：
B3: 件 名： | C3: グリーンイノベーション基金事業／スマートモビリティ社会の構築 | J3: TRL
C4: 商用利用される電気自動車・燃料電池自動車の大規模導入を実現するために必要となる運輸事業者における運行管理と一体的なエネルギーマネジメント等に関する研究開発
J5: 定率
B6: 委託・共同研究項目： | J6: {=_xlfn.IFS($J$4<=5,2/3,$J$4=6,1/2,$J$4<=7,1/3)} -> 0.66666667
B7: 補助先等名称：
B8: 対象項目名： | C8: 土木・建築工事費
B9: № | C9: =IF(COUNTIF(C8,"*旅費*"),"件名、出張日（期間）、出張者、目的地","品 名 等") -> 品 名 等 | D9: 契約先名称 | E9: 法人番号 (赤字は入力ミス) | F9: 検収日 | G9: =IF(COUNTIF(C8,"*旅費*"),"精算日"&CHAR(10)&"（支払日）","支払日") -> 支払日 | H9: 経費発生額 | J9: 補助金参考額
H10: 消費税抜額 | I10: 消費税込額
C14: ４月計 | H14: =SUM(H11:H13) -> 0 | I14: =SUM(I11:I13) -> 0
C18: ５月計 | H18: =SUM(H15:H17) -> 0 | I18: =SUM(I15:I17) -> 0
C22: ６月計 | H22: =SUM(H19:H21) -> 0 | I22: =SUM(I19:I21) -> 0
C23: 第１四半期計（基本費用分） | H23: =SUM(H14,H18,H22) -> 0 | I23: =SUM(I14,I18,I22) -> 0 | J23: =ROUNDDOWN(H23*$J$6,0) -> 0
C24: 第１四半期計（電動車等費用） | H24: ='土木・建築工事費（電動車等費用）'!H23 -> 0 | I24: ='土木・建築工事費（電動車等費用）'!I23 -> 0 | J24: ='土木・建築工事費（電動車等費用）'!J23 -> 0
C25: 第１四半期計（合計） | H25: =SUM(H23,H24) -> 0 | I25: =SUM(I23,I24) -> 0 | J25: =ROUND(J23+J24,0) -> 0
C29: ７月計 | H29: =SUM(H26:H28) -> 0 | I29: =SUM(I26:I28) -> 0
C33: ８月計 | H33: =SUM(H30:H32) -> 0 | I33: =SUM(I30:I32) -> 0
C37: ９月計 | H37: =SUM(H34:H36) -> 0 | I37: =SUM(I34:I36) -> 0
C38: 第２四半期計（基本費用分） | H38: =SUM(H29,H33,H37) -> 0 | I38: =SUM(I29,I33,I37) -> 0 | J38: =ROUNDDOWN(H38*$J$6,0) -> 0
C39: 第２四半期計（電動車等費用） | H39: ='土木・建築工事費（電動車等費用）'!H36 -> 0 | I39: ='土木・建築工事費（電動車等費用）'!I36 -> 0 | J39: ='土木・建築工事費（電動車等費用）'!J36 -> 0
C40: 第２四半期計（合計） | H40: =SUM(H38,H39) -> 0 | I40: =SUM(I38,I39) -> 0 | J40: =ROUND(J38+J39,0) -> 0
C44: １０月計 | H44: =SUM(H41:H43) -> 0 | I44: =SUM(I41:I43) -> 0
C48: １１月計 | H48: =SUM(H45:H47) -> 0 | I48: =SUM(I45:I47) -> 0
C52: １２月計 | H52: =SUM(H49:H49) -> 0 | I52: =SUM(I49:I49) -> 0
C53: 第３四半期計（基本費用分） | H53: =SUM(H44,H48,H52) -> 0 | I53: =SUM($I52,$I44,$I48) -> 0 | J53: =ROUNDDOWN(H53*$J$6,0) -> 0
C54: 第３四半期計（電動車等費用） | H54: ='土木・建築工事費（電動車等費用）'!H49 -> 0 | I54: ='土木・建築工事費（電動車等費用）'!I49 -> 0 | J54: ='土木・建築工事費（電動車等費用）'!J49 -> 0
C55: 第３四半期計（合計） | H55: =SUM(H53,H54) -> 0 | I55: =SUM(I53,I54) -> 0 | J55: =ROUND(J53+J54,0) -> 0
C59: １月計 | H59: =SUM(H56:H58) -> 0 | I59: =SUM(I56:I58) -> 0
C63: ２月計 | H63: =SUM(H60:H62) -> 0 | I63: =SUM(I60:I62) -> 0
C67: ３月計 | H67: =SUM(H64:H66) -> 0 | I67: =SUM(I64:I66) -> 0
C68: 第４四半期計（基本費用分） | H68: =SUM(H59,H63,H67) -> 0 | I68: =SUM(I59,I63,I67) -> 0 | J68: =ROUNDDOWN(H68*$J$6,0) -> 0
C69: 第４四半期計（電動車等費用） | H69: ='土木・建築工事費（電動車等費用）'!H62 -> 0 | I69: ='土木・建築工事費（電動車等費用）'!I62 -> 0 | J69: ='土木・建築工事費（電動車等費用）'!J62 -> 0
C70: 第４四半期計（合計） | H70: =SUM(H68,H69) -> 0 | I70: =SUM(I68,I69) -> 0 | J70: =ROUND(J68+J69,0) -> 0
C71: 合計（基本費用） | H71: =SUM(H23,H38,H53,H68) -> 0 | I71: =SUM(I23,I38,I53,I68) -> 0 | J71: =SUM(J23,J38,J53,J68) -> 0
C72: 合計（電動車等費用） | H72: =SUM(H24,H39,H54,H69) -> 0 | I72: =SUM(I24,I39,I54,I69) -> 0 | J72: =SUM(J24,J39,J54,J69) -> 0
C73: 合計 | H73: =SUM(H71,H72) -> 0 | I73: =SUM(I71,I72) -> 0 | J73: =SUM(J71,J72) -> 0
J74: （GI基金事業／スマートモビリティ社会の構築） 2026年4月1日版

Sheet 機械装置等製作・購入費（電動車等費用）
B1: 20 年度 | C1: 月別項目別明細表 | I1: 別紙４
F2: 事業番号：
B3: 件 名： | C3: グリーンイノベーション基金事業／スマートモビリティ社会の構築 | J3: TRL
C4: 商用利用される電気自動車・燃料電池自動車の大規模導入を実現するために必要となる運輸事業者における運行管理と一体的なエネルギーマネジメント等に関する研究開発
J5: 定率
B6: 委託・共同研究項目： | J6: {=_xlfn.IFS($J$4<=5,2/3,$J$4=6,1/2,$J$4<=7,1/3)} -> 0.66666667
B7: 補助先等名称：
B8: 対象項目名： | C8: 機械装置等製作・購入費 （電動車等費用分）
B9: № | C9: =IF(COUNTIF(C8,"*旅費*"),"件名、出張日（期間）、出張者、目的地","品 名 等") -> 品 名 等 | D9: 契約先名称 | E9: 法人番号 (赤字は入力ミス) | F9: 検収日 | G9: =IF(COUNTIF(C8,"*旅費*"),"精算日"&CHAR(10)&"（支払日）","支払日") -> 支払日 | H9: 経費発生額 | J9: 電動車等費用 補助金参考額 | K9: 補助方法
H10: 消費税抜額 | I10: 消費税込額
C14: ４月計 | H14: =SUM(H11:H13) -> 0 | I14: =SUM(I11:I13) -> 0 | J14: =ROUNDDOWN(SUM(J11:J13),0) -> 0
C18: ５月計 | H18: =SUM(H15:H17) -> 0 | I18: =SUM(I15:I17) -> 0 | J18: =ROUNDDOWN(SUM(J15:J17),0) -> 0
C22: ６月計 | H22: =SUM(H19:H21) -> 0 | I22: =SUM(I19:I21) -> 0 | J22: =ROUNDDOWN(SUM(J19:J21),0) -> 0
C23: 第１四半期計（電動車等費用） | H23: =SUM(H14,H18,H22) -> 0 | I23: =SUM(I14,I18,I22) -> 0 | J23: =SUM(J14,J18,J22) -> 0
C27: ７月計 | H27: =SUM(H24:H26) -> 0 | I27: =SUM(I24:I26) -> 0 | J27: =ROUNDDOWN(SUM(J24:J26),0) -> 0
C31: ８月計 | H31: =SUM(H28:H30) -> 0 | I31: =SUM(I28:I30) -> 0 | J31: =ROUNDDOWN(SUM(J28:J30),0) -> 0
C35: ９月計 | H35: =SUM(H32:H34) -> 0 | I35: =SUM(I32:I34) -> 0 | J35: =ROUNDDOWN(SUM(J32:J34),0) -> 0
C36: 第２四半期計（電動車等費用） | H36: =SUM(H27,H31,H35) -> 0 | I36: =SUM(I27,I31,I35) -> 0 | J36: =SUM(J27,J31,J35) -> 0
C40: １０月計 | H40: =SUM(H37:H39) -> 0 | I40: =SUM(I37:I39) -> 0 | J40: =ROUNDDOWN(SUM(J37:J39),0) -> 0
C44: １１月計 | H44: =SUM(H41:H43) -> 0 | I44: =SUM(I41:I43) -> 0 | J44: =ROUNDDOWN(SUM(J41:J43),0) -> 0
C48: １２月計 | H48: =SUM(H45:H47) -> 0 | I48: =SUM(I45:I47) -> 0 | J48: =ROUNDDOWN(SUM(J45:J47),0) -> 0
C49: 第３四半期計（電動車等費用） | H49: =SUM(H40,H44,H48) -> 0 | I49: =SUM(I40,I44,I48) -> 0 | J49: =SUM(J40,J44,J48) -> 0
C53: １月計 | H53: =SUM(H50:H52) -> 0 | I53: =SUM(I50:I52) -> 0 | J53: =ROUNDDOWN(SUM(J50:J52),0) -> 0
C57: ２月計 | H57: =SUM(H54:H56) -> 0 | I57: =SUM(I54:I56) -> 0 | J57: =ROUNDDOWN(SUM(J54:J56),0) -> 0
C61: ３月計 | H61: =SUM(H58:H60) -> 0 | I61: =SUM(I58:I60) -> 0 | J61: =ROUNDDOWN(SUM(J58:J60),0) -> 0
C62: 第４四半期計（電動車等費用） | H62: =SUM(H53,H57,H61) -> 0 | I62: =SUM(I53,I57,I61) -> 0 | J62: =SUM(J53,J57,J61) -> 0
C63: 合計（電動車等費用） | H63: =SUM(H62,H49,H36,H23) -> 0 | I63: =SUM(I62,I49,I36,I23) -> 0 | J63: =SUM(J62,J49,J36,J23) -> 0
K64: （GI基金事業／スマートモビリティ社会の構築） 2026年4月1日版

Sheet 機械装置等製作・購入費（基本費用・合計額）
B1: 20 年度 | C1: 月別項目別明細表 | I1: 別紙４
F2: 事業番号：
B3: 件 名： | C3: グリーンイノベーション基金事業／スマートモビリティ社会の構築 | J3: TRL
C4: 商用利用される電気自動車・燃料電池自動車の大規模導入を実現するために必要となる運輸事業者における運行管理と一体的なエネルギーマネジメント等に関する研究開発
J5: 定率
B6: 委託・共同研究項目： | J6: {=_xlfn.IFS($J$4<=5,2/3,$J$4=6,1/2,$J$4<=7,1/3)} -> 0.66666667
B7: 補助先等名称：
B8: 対象項目名： | C8: 機械装置等製作・購入費
B9: № | C9: =IF(COUNTIF(C8,"*旅費*"),"件名、出張日（期間）、出張者、目的地","品 名 等") -> 品 名 等 | D9: 契約先名称 | E9: 法人番号 (赤字は入力ミス) | F9: 検収日 | G9: =IF(COUNTIF(C8,"*旅費*"),"精算日"&CHAR(10)&"（支払日）","支払日") -> 支払日 | H9: 経費発生額 | J9: 補助金参考額
H10: 消費税抜額 | I10: 消費税込額
C14: ４月計 | H14: =SUM(H11:H13) -> 0 | I14: =SUM(I11:I13) -> 0
C18: ５月計 | H18: =SUM(H15:H17) -> 0 | I18: =SUM(I15:I17) -> 0
C22: ６月計 | H22: =SUM(H19:H21) -> 0 | I22: =SUM(I19:I21) -> 0
C23: 第１四半期計（基本費用分） | H23: =SUM(H14,H18,H22) -> 0 | I23: =SUM(I14,I18,I22) -> 0 | J23: =ROUNDDOWN(H23*$J$6,0) -> 0
C24: 第１四半期計（電動車等費用） | H24: ='機械装置等製作・購入費（電動車等費用）'!H23 -> 0 | I24: ='機械装置等製作・購入費（電動車等費用）'!I23 -> 0 | J24: ='機械装置等製作・購入費（電動車等費用）'!J23 -> 0
C25: 第１四半期計（合計） | H25: =SUM(H23,H24) -> 0 | I25: =SUM(I23,I24) -> 0 | J25: =ROUND(J23+J24,0) -> 0
C29: ７月計 | H29: =SUM(H26:H28) -> 0 | I29: =SUM(I26:I28) -> 0
C33: ８月計 | H33: =SUM(H30:H32) -> 0 | I33: =SUM(I30:I32) -> 0
C37: ９月計 | H37: =SUM(H34:H36) -> 0 | I37: =SUM(I34:I36) -> 0
C38: 第２四半期計（基本費用分） | H38: =SUM(H29,H33,H37) -> 0 | I38: =SUM(I29,I33,I37) -> 0 | J38: =ROUNDDOWN(H38*$J$6,0) -> 0
C39: 第２四半期計（電動車等費用） | H39: ='機械装置等製作・購入費（電動車等費用）'!H36 -> 0 | I39: ='機械装置等製作・購入費（電動車等費用）'!I36 -> 0 | J39: ='機械装置等製作・購入費（電動車等費用）'!J36 -> 0
C40: 第２四半期計（合計） | H40: =SUM(H38,H39) -> 0 | I40: =SUM(I38,I39) -> 0 | J40: =ROUND(J38+J39,0) -> 0
C44: １０月計 | H44: =SUM(H41:H43) -> 0 | I44: =SUM(I41:I43) -> 0
C48: １１月計 | H48: =SUM(H45:H47) -> 0 | I48: =SUM(I45:I47) -> 0
C52: １２月計 | H52: =SUM(H49:H49) -> 0 | I52: =SUM(I49:I49) -> 0
C53: 第３四半期計（基本費用分） | H53: =SUM(H44,H48,H52) -> 0 | I53: =SUM($I52,$I44,$I48) -> 0 | J53: =ROUNDDOWN(H53*$J$6,0) -> 0
C54: 第３四半期計（電動車等費用） | H54: ='機械装置等製作・購入費（電動車等費用）'!H49 -> 0 | I54: ='機械装置等製作・購入費（電動車等費用）'!I49 -> 0 | J54: ='機械装置等製作・購入費（電動車等費用）'!J49 -> 0
C55: 第３四半期計（合計） | H55: =SUM(H53,H54) -> 0 | I55: =SUM(I53,I54) -> 0 | J55: =ROUND(J53+J54,0) -> 0
C59: １月計 | H59: =SUM(H56:H58) -> 0 | I59: =SUM(I56:I58) -> 0
C63: ２月計 | H63: =SUM(H60:H62) -> 0 | I63: =SUM(I60:I62) -> 0
C67: ３月計 | H67: =SUM(H64:H66) -> 0 | I67: =SUM(I64:I66) -> 0
C68: 第４四半期計（基本費用分） | H68: =SUM(H59,H63,H67) -> 0 | I68: =SUM(I59,I63,I67) -> 0 | J68: =ROUNDDOWN(H68*$J$6,0) -> 0
C69: 第４四半期計（電動車等費用） | H69: ='機械装置等製作・購入費（電動車等費用）'!H62 -> 0 | I69: ='機械装置等製作・購入費（電動車等費用）'!I62 -> 0 | J69: ='機械装置等製作・購入費（電動車等費用）'!J62 -> 0
C70: 第４四半期計（合計） | H70: =SUM(H68,H69) -> 0 | I70: =SUM(I68,I69) -> 0 | J70: =ROUND(J68+J69,0) -> 0
C71: 合計（基本費用） | H71: =SUM(H23,H38,H53,H68) -> 0 | I71: =SUM(I23,I38,I53,I68) -> 0 | J71: =SUM(J23,J38,J53,J68) -> 0
C72: 合計（電動車等費用） | H72: =SUM(H24,H39,H54,H69) -> 0 | I72: =SUM(I24,I39,I54,I69) -> 0 | J72: =SUM(J24,J39,J54,J69) -> 0
C73: 合計 | H73: =SUM(H71,H72) -> 0 | I73: =SUM(I71,I72) -> 0 | J73: =SUM(J71,J72) -> 0
J74: （GI基金事業／スマートモビリティ社会の構築） 2026年4月1日版

Sheet 保守・改造修理費（電動車等費用）
B1: 20 年度 | C1: 月別項目別明細表 | I1: 別紙４
F2: 事業番号：
B3: 件 名： | C3: グリーンイノベーション基金事業／スマートモビリティ社会の構築 | J3: TRL
C4: 商用利用される電気自動車・燃料電池自動車の大規模導入を実現するために必要となる運輸事業者における運行管理と一体的なエネルギーマネジメント等に関する研究開発
J5: 定率
B6: 委託・共同研究項目： | J6: {=_xlfn.IFS($J$4<=5,2/3,$J$4=6,1/2,$J$4<=7,1/3)} -> 0.66666667
B7: 補助先等名称：
B8: 対象項目名： | C8: 保守・改造修理費（電動車等費用分）
B9: № | C9: =IF(COUNTIF(C8,"*旅費*"),"件名、出張日（期間）、出張者、目的地","品 名 等") -> 品 名 等 | D9: 契約先名称 | E9: 法人番号 (赤字は入力ミス) | F9: 検収日 | G9: =IF(COUNTIF(C8,"*旅費*"),"精算日"&CHAR(10)&"（支払日）","支払日") -> 支払日 | H9: 経費発生額 | J9: 電動車等費用 補助金参考額 | K9: 補助方法
H10: 消費税抜額 | I10: 消費税込額
C14: ４月計 | H14: =SUM(H11:H13) -> 0 | I14: =SUM(I11:I13) -> 0 | J14: =ROUNDDOWN(SUM(J11:J13),0) -> 0
C18: ５月計 | H18: =SUM(H15:H17) -> 0 | I18: =SUM(I15:I17) -> 0 | J18: =ROUNDDOWN(SUM(J15:J17),0) -> 0
C22: ６月計 | H22: =SUM(H19:H21) -> 0 | I22: =SUM(I19:I21) -> 0 | J22: =ROUNDDOWN(SUM(J19:J21),0) -> 0
C23: 第１四半期計（電動車等費用） | H23: =SUM(H14,H18,H22) -> 0 | I23: =SUM(I14,I18,I22) -> 0 | J23: =SUM(J14,J18,J22) -> 0
C27: ７月計 | H27: =SUM(H24:H26) -> 0 | I27: =SUM(I24:I26) -> 0 | J27: =ROUNDDOWN(SUM(J24:J26),0) -> 0
C31: ８月計 | H31: =SUM(H28:H30) -> 0 | I31: =SUM(I28:I30) -> 0 | J31: =ROUNDDOWN(SUM(J28:J30),0) -> 0
C35: ９月計 | H35: =SUM(H32:H34) -> 0 | I35: =SUM(I32:I34) -> 0 | J35: =ROUNDDOWN(SUM(J32:J34),0) -> 0
C36: 第２四半期計（電動車等費用） | H36: =SUM(H27,H31,H35) -> 0 | I36: =SUM(I27,I31,I35) -> 0 | J36: =SUM(J27,J31,J35) -> 0
C40: １０月計 | H40: =SUM(H37:H39) -> 0 | I40: =SUM(I37:I39) -> 0 | J40: =ROUNDDOWN(SUM(J37:J39),0) -> 0
C44: １１月計 | H44: =SUM(H41:H43) -> 0 | I44: =SUM(I41:I43) -> 0 | J44: =ROUNDDOWN(SUM(J41:J43),0) -> 0
C48: １２月計 | H48: =SUM(H45:H47) -> 0 | I48: =SUM(I45:I47) -> 0 | J48: =ROUNDDOWN(SUM(J45:J47),0) -> 0
C49: 第３四半期計（電動車等費用） | H49: =SUM(H40,H44,H48) -> 0 | I49: =SUM(I40,I44,I48) -> 0 | J49: =SUM(J40,J44,J48) -> 0
C53: １月計 | H53: =SUM(H50:H52) -> 0 | I53: =SUM(I50:I52) -> 0 | J53: =ROUNDDOWN(SUM(J50:J52),0) -> 0
C57: ２月計 | H57: =SUM(H54:H56) -> 0 | I57: =SUM(I54:I56) -> 0 | J57: =ROUNDDOWN(SUM(J54:J56),0) -> 0
C61: ３月計 | H61: =SUM(H58:H60) -> 0 | I61: =SUM(I58:I60) -> 0 | J61: =ROUNDDOWN(SUM(J58:J60),0) -> 0
C62: 第４四半期計（電動車等費用） | H62: =SUM(H53,H57,H61) -> 0 | I62: =SUM(I53,I57,I61) -> 0 | J62: =SUM(J53,J57,J61) -> 0
C63: 合計（電動車等費用） | H63: =SUM(H62,H49,H36,H23) -> 0 | I63: =SUM(I62,I49,I36,I23) -> 0 | J63: =SUM(J62,J49,J36,J23) -> 0
K64: （GI基金事業／スマートモビリティ社会の構築） 2026年4月1日版

Sheet 保守・改造修理費（基本費用・合計額）
B1: 20 年度 | C1: 月別項目別明細表 | I1: 別紙４
F2: 事業番号：
B3: 件 名： | C3: グリーンイノベーション基金事業／スマートモビリティ社会の構築 | J3: TRL
C4: 商用利用される電気自動車・燃料電池自動車の大規模導入を実現するために必要となる運輸事業者における運行管理と一体的なエネルギーマネジメント等に関する研究開発
J5: 定率
B6: 委託・共同研究項目： | J6: {=_xlfn.IFS($J$4<=5,2/3,$J$4=6,1/2,$J$4<=7,1/3)} -> 0.66666667
B7: 補助先等名称：
B8: 対象項目名： | C8: 保守・改造修理費
B9: № | C9: =IF(COUNTIF(C8,"*旅費*"),"件名、出張日（期間）、出張者、目的地","品 名 等") -> 品 名 等 | D9: 契約先名称 | E9: 法人番号 (赤字は入力ミス) | F9: 検収日 | G9: =IF(COUNTIF(C8,"*旅費*"),"精算日"&CHAR(10)&"（支払日）","支払日") -> 支払日 | H9: 経費発生額 | J9: 補助金参考額
H10: 消費税抜額 | I10: 消費税込額
C14: ４月計 | H14: =SUM(H11:H13) -> 0 | I14: =SUM(I11:I13) -> 0
C18: ５月計 | H18: =SUM(H15:H17) -> 0 | I18: =SUM(I15:I17) -> 0
C22: ６月計 | H22: =SUM(H19:H21) -> 0 | I22: =SUM(I19:I21) -> 0
C23: 第１四半期計（基本費用分） | H23: =SUM(H14,H18,H22) -> 0 | I23: =SUM(I14,I18,I22) -> 0 | J23: =ROUNDDOWN(H23*$J$6,0) -> 0
C24: 第１四半期計（電動車等費用） | H24: ='保守・改造修理費（電動車等費用）'!H23 -> 0 | I24: ='保守・改造修理費（電動車等費用）'!I23 -> 0 | J24: ='保守・改造修理費（電動車等費用）'!J23 -> 0
C25: 第１四半期計（合計） | H25: =SUM(H23,H24) -> 0 | I25: =SUM(I23,I24) -> 0 | J25: =ROUND(J23+J24,0) -> 0
C29: ７月計 | H29: =SUM(H26:H28) -> 0 | I29: =SUM(I26:I28) -> 0
C33: ８月計 | H33: =SUM(H30:H32) -> 0 | I33: =SUM(I30:I32) -> 0
C37: ９月計 | H37: =SUM(H34:H36) -> 0 | I37: =SUM(I34:I36) -> 0
C38: 第２四半期計（基本費用分） | H38: =SUM(H29,H33,H37) -> 0 | I38: =SUM(I29,I33,I37) -> 0 | J38: =ROUNDDOWN(H38*$J$6,0) -> 0
C39: 第２四半期計（電動車等費用） | H39: ='保守・改造修理費（電動車等費用）'!H36 -> 0 | I39: ='保守・改造修理費（電動車等費用）'!I36 -> 0 | J39: ='保守・改造修理費（電動車等費用）'!J36 -> 0
C40: 第２四半期計（合計） | H40: =SUM(H38,H39) -> 0 | I40: =SUM(I38,I39) -> 0 | J40: =ROUND(J38+J39,0) -> 0
C44: １０月計 | H44: =SUM(H41:H43) -> 0 | I44: =SUM(I41:I43) -> 0
C48: １１月計 | H48: =SUM(H45:H47) -> 0 | I48: =SUM(I45:I47) -> 0
C52: １２月計 | H52: =SUM(H49:H49) -> 0 | I52: =SUM(I49:I49) -> 0
C53: 第３四半期計（基本費用分） | H53: =SUM(H44,H48,H52) -> 0 | I53: =SUM($I52,$I44,$I48) -> 0 | J53: =ROUNDDOWN(H53*$J$6,0) -> 0
C54: 第３四半期計（電動車等費用） | H54: ='保守・改造修理費（電動車等費用）'!H49 -> 0 | I54: ='保守・改造修理費（電動車等費用）'!I49 -> 0 | J54: ='保守・改造修理費（電動車等費用）'!J49 -> 0
C55: 第３四半期計（合計） | H55: =SUM(H53,H54) -> 0 | I55: =SUM(I53,I54) -> 0 | J55: =ROUND(J53+J54,0) -> 0
C59: １月計 | H59: =SUM(H56:H58) -> 0 | I59: =SUM(I56:I58) -> 0
C63: ２月計 | H63: =SUM(H60:H62) -> 0 | I63: =SUM(I60:I62) -> 0
C67: ３月計 | H67: =SUM(H64:H66) -> 0 | I67: =SUM(I64:I66) -> 0
C68: 第４四半期計（基本費用分） | H68: =SUM(H59,H63,H67) -> 0 | I68: =SUM(I59,I63,I67) -> 0 | J68: =ROUNDDOWN(H68*$J$6,0) -> 0
C69: 第４四半期計（電動車等費用） | H69: ='保守・改造修理費（電動車等費用）'!H62 -> 0 | I69: ='保守・改造修理費（電動車等費用）'!I62 -> 0 | J69: ='保守・改造修理費（電動車等費用）'!J62 -> 0
C70: 第４四半期計（合計） | H70: =SUM(H68,H69) -> 0 | I70: =SUM(I68,I69) -> 0 | J70: =ROUND(J68+J69,0) -> 0
C71: 合計（基本費用） | H71: =SUM(H23,H38,H53,H68) -> 0 | I71: =SUM(I23,I38,I53,I68) -> 0 | J71: =SUM(J23,J38,J53,J68) -> 0
C72: 合計（電動車等費用） | H72: =SUM(H24,H39,H54,H69) -> 0 | I72: =SUM(I24,I39,I54,I69) -> 0 | J72: =SUM(J24,J39,J54,J69) -> 0
C73: 合計 | H73: =SUM(H71,H72) -> 0 | I73: =SUM(I71,I72) -> 0 | J73: =SUM(J71,J72) -> 0
J74: （GI基金事業／スマートモビリティ社会の構築） 2026年4月1日版

Sheet 消耗品費（電動車等費用）
B1: 20 年度 | C1: 月別項目別明細表 | I1: 別紙４
F2: 事業番号：
B3: 件 名： | C3: グリーンイノベーション基金事業／スマートモビリティ社会の構築 | J3: TRL
C4: 商用利用される電気自動車・燃料電池自動車の大規模導入を実現するために必要となる運輸事業者における運行管理と一体的なエネルギーマネジメント等に関する研究開発
J5: 定率
B6: 委託・共同研究項目： | J6: {=_xlfn.IFS($J$4<=5,2/3,$J$4=6,1/2,$J$4<=7,1/3)} -> 0.66666667
B7: 補助先等名称：
B8: 対象項目名： | C8: 消耗品費（電動車等費用分）
B9: № | C9: =IF(COUNTIF(C8,"*旅費*"),"件名、出張日（期間）、出張者、目的地","品 名 等") -> 品 名 等 | D9: 契約先名称 | E9: 法人番号 (赤字は入力ミス) | F9: 検収日 | G9: =IF(COUNTIF(C8,"*旅費*"),"精算日"&CHAR(10)&"（支払日）","支払日") -> 支払日 | H9: 経費発生額 | J9: 電動車等費用 補助金参考額 | K9: 補助方法
H10: 消費税抜額 | I10: 消費税込額
C14: ４月計 | H14: =SUM(H11:H13) -> 0 | I14: =SUM(I11:I13) -> 0 | J14: =ROUNDDOWN(SUM(J11:J13),0) -> 0
C18: ５月計 | H18: =SUM(H15:H17) -> 0 | I18: =SUM(I15:I17) -> 0 | J18: =ROUNDDOWN(SUM(J15:J17),0) -> 0
C22: ６月計 | H22: =SUM(H19:H21) -> 0 | I22: =SUM(I19:I21) -> 0 | J22: =ROUNDDOWN(SUM(J19:J21),0) -> 0
C23: 第１四半期計（電動車等費用） | H23: =SUM(H14,H18,H22) -> 0 | I23: =SUM(I14,I18,I22) -> 0 | J23: =SUM(J14,J18,J22) -> 0
C27: ７月計 | H27: =SUM(H24:H26) -> 0 | I27: =SUM(I24:I26) -> 0 | J27: =ROUNDDOWN(SUM(J24:J26),0) -> 0
C31: ８月計 | H31: =SUM(H28:H30) -> 0 | I31: =SUM(I28:I30) -> 0 | J31: =ROUNDDOWN(SUM(J28:J30),0) -> 0
C35: ９月計 | H35: =SUM(H32:H34) -> 0 | I35: =SUM(I32:I34) -> 0 | J35: =ROUNDDOWN(SUM(J32:J34),0) -> 0
C36: 第２四半期計（電動車等費用） | H36: =SUM(H27,H31,H35) -> 0 | I36: =SUM(I27,I31,I35) -> 0 | J36: =SUM(J27,J31,J35) -> 0
C40: １０月計 | H40: =SUM(H37:H39) -> 0 | I40: =SUM(I37:I39) -> 0 | J40: =ROUNDDOWN(SUM(J37:J39),0) -> 0
C44: １１月計 | H44: =SUM(H41:H43) -> 0 | I44: =SUM(I41:I43) -> 0 | J44: =ROUNDDOWN(SUM(J41:J43),0) -> 0
C48: １２月計 | H48: =SUM(H45:H47) -> 0 | I48: =SUM(I45:I47) -> 0 | J48: =ROUNDDOWN(SUM(J45:J47),0) -> 0
C49: 第３四半期計（電動車等費用） | H49: =SUM(H40,H44,H48) -> 0 | I49: =SUM(I40,I44,I48) -> 0 | J49: =SUM(J40,J44,J48) -> 0
C53: １月計 | H53: =SUM(H50:H52) -> 0 | I53: =SUM(I50:I52) -> 0 | J53: =ROUNDDOWN(SUM(J50:J52),0) -> 0
C57: ２月計 | H57: =SUM(H54:H56) -> 0 | I57: =SUM(I54:I56) -> 0 | J57: =ROUNDDOWN(SUM(J54:J56),0) -> 0
C61: ３月計 | H61: =SUM(H58:H60) -> 0 | I61: =SUM(I58:I60) -> 0 | J61: =ROUNDDOWN(SUM(J58:J60),0) -> 0
C62: 第４四半期計（電動車等費用） | H62: =SUM(H53,H57,H61) -> 0 | I62: =SUM(I53,I57,I61) -> 0 | J62: =SUM(J53,J57,J61) -> 0
C63: 合計（電動車等費用） | H63: =SUM(H62,H49,H36,H23) -> 0 | I63: =SUM(I62,I49,I36,I23) -> 0 | J63: =SUM(J62,J49,J36,J23) -> 0
K64: （GI基金事業／スマートモビリティ社会の構築） 2026年4月1日版

Sheet 消耗品費（基本費用・合計額）
B1: 20 年度 | C1: 月別項目別明細表 | I1: 別紙４
F2: 事業番号：
B3: 件 名： | C3: グリーンイノベーション基金事業／スマートモビリティ社会の構築 | J3: TRL
C4: 商用利用される電気自動車・燃料電池自動車の大規模導入を実現するために必要となる運輸事業者における運行管理と一体的なエネルギーマネジメント等に関する研究開発
J5: 定率
B6: 委託・共同研究項目： | J6: {=_xlfn.IFS($J$4<=5,2/3,$J$4=6,1/2,$J$4<=7,1/3)} -> 0.66666667
B7: 補助先等名称：
B8: 対象項目名： | C8: 消耗品費
B9: № | C9: =IF(COUNTIF(C8,"*旅費*"),"件名、出張日（期間）、出張者、目的地","品 名 等") -> 品 名 等 | D9: 契約先名称 | E9: 法人番号 (赤字は入力ミス) | F9: 検収日 | G9: =IF(COUNTIF(C8,"*旅費*"),"精算日"&CHAR(10)&"（支払日）","支払日") -> 支払日 | H9: 経費発生額 | J9: 補助金参考額
H10: 消費税抜額 | I10: 消費税込額
C14: ４月計 | H14: =SUM(H11:H13) -> 0 | I14: =SUM(I11:I13) -> 0
C18: ５月計 | H18: =SUM(H15:H17) -> 0 | I18: =SUM(I15:I17) -> 0
C22: ６月計 | H22: =SUM(H19:H21) -> 0 | I22: =SUM(I19:I21) -> 0
C23: 第１四半期計（基本費用分） | H23: =SUM(H14,H18,H22) -> 0 | I23: =SUM(I14,I18,I22) -> 0 | J23: =ROUNDDOWN(H23*$J$6,0) -> 0
C24: 第１四半期計（電動車等費用） | H24: ='消耗品費（電動車等費用）'!H23 -> 0 | I24: ='消耗品費（電動車等費用）'!I23 -> 0 | J24: ='消耗品費（電動車等費用）'!J23 -> 0
C25: 第１四半期計（合計） | H25: =SUM(H23,H24) -> 0 | I25: =SUM(I23,I24) -> 0 | J25: =ROUND(J23+J24,0) -> 0
C29: ７月計 | H29: =SUM(H26:H28) -> 0 | I29: =SUM(I26:I28) -> 0
C33: ８月計 | H33: =SUM(H30:H32) -> 0 | I33: =SUM(I30:I32) -> 0
C37: ９月計 | H37: =SUM(H34:H36) -> 0 | I37: =SUM(I34:I36) -> 0
C38: 第２四半期計（基本費用分） | H38: =SUM(H29,H33,H37) -> 0 | I38: =SUM(I29,I33,I37) -> 0 | J38: =ROUNDDOWN(H38*$J$6,0) -> 0
C39: 第２四半期計（電動車等費用） | H39: ='消耗品費（電動車等費用）'!H36 -> 0 | I39: ='消耗品費（電動車等費用）'!I36 -> 0 | J39: ='消耗品費（電動車等費用）'!J36 -> 0
C40: 第２四半期計（合計） | H40: =SUM(H38,H39) -> 0 | I40: =SUM(I38,I39) -> 0 | J40: =ROUND(J38+J39,0) -> 0
C44: １０月計 | H44: =SUM(H41:H43) -> 0 | I44: =SUM(I41:I43) -> 0
C48: １１月計 | H48: =SUM(H45:H47) -> 0 | I48: =SUM(I45:I47) -> 0
C52: １２月計 | H52: =SUM(H49:H49) -> 0 | I52: =SUM(I49:I49) -> 0
C53: 第３四半期計（基本費用分） | H53: =SUM(H44,H48,H52) -> 0 | I53: =SUM($I52,$I44,$I48) -> 0 | J53: =ROUNDDOWN(H53*$J$6,0) -> 0
C54: 第３四半期計（電動車等費用） | H54: ='消耗品費（電動車等費用）'!H49 -> 0 | I54: ='消耗品費（電動車等費用）'!I49 -> 0 | J54: ='消耗品費（電動車等費用）'!J49 -> 0
C55: 第３四半期計（合計） | H55: =SUM(H53,H54) -> 0 | I55: =SUM(I53,I54) -> 0 | J55: =ROUND(J53+J54,0) -> 0
C59: １月計 | H59: =SUM(H56:H58) -> 0 | I59: =SUM(I56:I58) -> 0
C63: ２月計 | H63: =SUM(H60:H62) -> 0 | I63: =SUM(I60:I62) -> 0
C67: ３月計 | H67: =SUM(H64:H66) -> 0 | I67: =SUM(I64:I66) -> 0
C68: 第４四半期計（基本費用分） | H68: =SUM(H59,H63,H67) -> 0 | I68: =SUM(I59,I63,I67) -> 0 | J68: =ROUNDDOWN(H68*$J$6,0) -> 0
C69: 第４四半期計（電動車等費用） | H69: ='消耗品費（電動車等費用）'!H62 -> 0 | I69: ='消耗品費（電動車等費用）'!I62 -> 0 | J69: ='消耗品費（電動車等費用）'!J62 -> 0
C70: 第４四半期計（合計） | H70: =SUM(H68,H69) -> 0 | I70: =SUM(I68,I69) -> 0 | J70: =ROUND(J68+J69,0) -> 0
C71: 合計（基本費用） | H71: =SUM(H23,H38,H53,H68) -> 0 | I71: =SUM(I23,I38,I53,I68) -> 0 | J71: =SUM(J23,J38,J53,J68) -> 0
C72: 合計（電動車等費用） | H72: =SUM(H24,H39,H54,H69) -> 0 | I72: =SUM(I24,I39,I54,I69) -> 0 | J72: =SUM(J24,J39,J54,J69) -> 0
C73: 合計 | H73: =SUM(H71,H72) -> 0 | I73: =SUM(I71,I72) -> 0 | J73: =SUM(J71,J72) -> 0
J74: （GI基金事業／スマートモビリティ社会の構築） 2026年4月1日版

Sheet ★外注費（電動車等費用）
B1: 20 年度 | C1: 月別項目別明細表 | I1: 別紙４
F2: 事業番号：
B3: 件 名： | C3: グリーンイノベーション基金事業／スマートモビリティ社会の構築 | J3: TRL
C4: 商用利用される電気自動車・燃料電池自動車の大規模導入を実現するために必要となる運輸事業者における運行管理と一体的なエネルギーマネジメント等に関する研究開発
J5: 定率
B6: 委託・共同研究項目： | J6: {=_xlfn.IFS($J$4<=5,2/3,$J$4=6,1/2,$J$4<=7,1/3)} -> 0.66666667
B7: 補助先等名称：
B8: 対象項目名： | C8: 外注費（電動車等費用分）
B9: № | C9: =IF(COUNTIF(C8,"*旅費*"),"件名、出張日（期間）、出張者、目的地","品 名 等") -> 品 名 等 | D9: 契約先名称 | E9: 法人番号 (赤字は入力ミス) | F9: 検収日 | G9: =IF(COUNTIF(C8,"*旅費*"),"精算日"&CHAR(10)&"（支払日）","支払日") -> 支払日 | H9: 経費発生額 | J9: 電動車等費用 補助金参考額 | K9: 補助方法 | L9: （参考） 補助事業に 要する費用
H10: 消費税抜額 | I10: 消費税込額
C14: ４月計 | H14: =SUM(H11:H13) -> 0 | I14: =SUM(I11:I13) -> 0 | J14: =ROUNDDOWN(SUM(J11:J13),0) -> 0
C18: ５月計 | H18: =SUM(H15:H17) -> 0 | I18: =SUM(I15:I17) -> 0 | J18: =ROUNDDOWN(SUM(J15:J17),0) -> 0
C22: ６月計 | H22: =SUM(H19:H21) -> 0 | I22: =SUM(I19:I21) -> 0 | J22: =ROUNDDOWN(SUM(J19:J21),0) -> 0
C23: 第１四半期計（電動車等費用） | H23: =SUM(H14,H18,H22) -> 0 | I23: =SUM(I14,I18,I22) -> 0 | J23: =SUM(J14,J18,J22) -> 0
C27: ７月計 | H27: =SUM(H24:H26) -> 0 | I27: =SUM(I24:I26) -> 0 | J27: =ROUNDDOWN(SUM(J24:J26),0) -> 0
C31: ８月計 | H31: =SUM(H28:H30) -> 0 | I31: =SUM(I28:I30) -> 0 | J31: =ROUNDDOWN(SUM(J28:J30),0) -> 0
C35: ９月計 | H35: =SUM(H32:H34) -> 0 | I35: =SUM(I32:I34) -> 0 | J35: =ROUNDDOWN(SUM(J32:J34),0) -> 0
C36: 第２四半期計（電動車等費用） | H36: =SUM(H27,H31,H35) -> 0 | I36: =SUM(I27,I31,I35) -> 0 | J36: =SUM(J27,J31,J35) -> 0
C40: １０月計 | H40: =SUM(H37:H39) -> 0 | I40: =SUM(I37:I39) -> 0 | J40: =ROUNDDOWN(SUM(J37:J39),0) -> 0
C44: １１月計 | H44: =SUM(H41:H43) -> 0 | I44: =SUM(I41:I43) -> 0 | J44: =ROUNDDOWN(SUM(J41:J43),0) -> 0
C48: １２月計 | H48: =SUM(H45:H47) -> 0 | I48: =SUM(I45:I47) -> 0 | J48: =ROUNDDOWN(SUM(J45:J47),0) -> 0
C49: 第３四半期計（電動車等費用） | H49: =SUM(H40,H44,H48) -> 0 | I49: =SUM(I40,I44,I48) -> 0 | J49: =SUM(J40,J44,J48) -> 0
C53: １月計 | H53: =SUM(H50:H52) -> 0 | I53: =SUM(I50:I52) -> 0 | J53: =ROUNDDOWN(SUM(J50:J52),0) -> 0
C57: ２月計 | H57: =SUM(H54:H56) -> 0 | I57: =SUM(I54:I56) -> 0 | J57: =ROUNDDOWN(SUM(J54:J56),0) -> 0
C61: ３月計 | H61: =SUM(H58:H60) -> 0 | I61: =SUM(I58:I60) -> 0 | J61: =ROUNDDOWN(SUM(J58:J60),0) -> 0
C62: 第４四半期計（電動車等費用） | H62: =SUM(H53,H57,H61) -> 0 | I62: =SUM(I53,I57,I61) -> 0 | J62: =SUM(J53,J57,J61) -> 0
C63: 合計（電動車等費用） | H63: =SUM(H62,H49,H36,H23) -> 0 | I63: =SUM(I62,I49,I36,I23) -> 0 | J63: =SUM(J62,J49,J36,J23) -> 0
K64: （GI基金事業／スマートモビリティ社会の構築） 2026年4月1日版

Sheet ★外注費（基本費用・合計額）
B1: 20 年度 | C1: 月別項目別明細表 | I1: 別紙４
F2: 事業番号：
B3: 件 名： | C3: グリーンイノベーション基金事業／スマートモビリティ社会の構築 | J3: TRL
C4: 商用利用される電気自動車・燃料電池自動車の大規模導入を実現するために必要となる運輸事業者における運行管理と一体的なエネルギーマネジメント等に関する研究開発
J5: 定率
B6: 委託・共同研究項目： | J6: {=_xlfn.IFS($J$4<=5,2/3,$J$4=6,1/2,$J$4<=7,1/3)} -> 0.66666667
B7: 補助先等名称：
B8: 対象項目名： | C8: 外注費
B9: № | C9: =IF(COUNTIF(C8,"*旅費*"),"件名、出張日（期間）、出張者、目的地","品 名 等") -> 品 名 等 | D9: 契約先名称 | E9: 法人番号 (赤字は入力ミス) | F9: 検収日 | G9: =IF(COUNTIF(C8,"*旅費*"),"精算日"&CHAR(10)&"（支払日）","支払日") -> 支払日 | H9: 経費発生額 | J9: 補助金参考額
H10: 消費税抜額 | I10: 消費税込額
C14: ４月計 | H14: =SUM(H11:H13) -> 0 | I14: =SUM(I11:I13) -> 0
C18: ５月計 | H18: =SUM(H15:H17) -> 0 | I18: =SUM(I15:I17) -> 0
C22: ６月計 | H22: =SUM(H19:H21) -> 0 | I22: =SUM(I19:I21) -> 0
C23: 第１四半期計（基本費用分） | H23: =SUM(H14,H18,H22) -> 0 | I23: =SUM(I14,I18,I22) -> 0 | J23: =ROUNDDOWN(H23*$J$6,0) -> 0
C24: 第１四半期計（電動車等費用） | H24: ='★外注費（電動車等費用）'!H23 -> 0 | I24: ='★外注費（電動車等費用）'!I23 -> 0 | J24: ='★外注費（電動車等費用）'!J23 -> 0
C25: 第１四半期計（合計） | H25: =SUM(H23,H24) -> 0 | I25: =SUM(I23,I24) -> 0 | J25: =ROUND(J23+J24,0) -> 0
C29: ７月計 | H29: =SUM(H26:H28) -> 0 | I29: =SUM(I26:I28) -> 0
C33: ８月計 | H33: =SUM(H30:H32) -> 0 | I33: =SUM(I30:I32) -> 0
C37: ９月計 | H37: =SUM(H34:H36) -> 0 | I37: =SUM(I34:I36) -> 0
C38: 第２四半期計（基本費用分） | H38: =SUM(H29,H33,H37) -> 0 | I38: =SUM(I29,I33,I37) -> 0 | J38: =ROUNDDOWN(H38*$J$6,0) -> 0
C39: 第２四半期計（電動車等費用） | H39: ='★外注費（電動車等費用）'!H36 -> 0 | I39: ='★外注費（電動車等費用）'!I36 -> 0 | J39: ='★外注費（電動車等費用）'!J36 -> 0
C40: 第２四半期計（合計） | H40: =SUM(H38,H39) -> 0 | I40: =SUM(I38,I39) -> 0 | J40: =ROUND(J38+J39,0) -> 0
C44: １０月計 | H44: =SUM(H41:H43) -> 0 | I44: =SUM(I41:I43) -> 0
C48: １１月計 | H48: =SUM(H45:H47) -> 0 | I48: =SUM(I45:I47) -> 0
C52: １２月計 | H52: =SUM(H49:H49) -> 0 | I52: =SUM(I49:I49) -> 0
C53: 第３四半期計（基本費用分） | H53: =SUM(H44,H48,H52) -> 0 | I53: =SUM($I52,$I44,$I48) -> 0 | J53: =ROUNDDOWN(H53*$J$6,0) -> 0
C54: 第３四半期計（電動車等費用） | H54: ='★外注費（電動車等費用）'!H49 -> 0 | I54: ='★外注費（電動車等費用）'!I49 -> 0 | J54: ='★外注費（電動車等費用）'!J49 -> 0
C55: 第３四半期計（合計） | H55: =SUM(H53,H54) -> 0 | I55: =SUM(I53,I54) -> 0 | J55: =ROUND(J53+J54,0) -> 0
C59: １月計 | H59: =SUM(H56:H58) -> 0 | I59: =SUM(I56:I58) -> 0
C63: ２月計 | H63: =SUM(H60:H62) -> 0 | I63: =SUM(I60:I62) -> 0
C67: ３月計 | H67: =SUM(H64:H66) -> 0 | I67: =SUM(I64:I66) -> 0
C68: 第４四半期計（基本費用分） | H68: =SUM(H59,H63,H67) -> 0 | I68: =SUM(I59,I63,I67) -> 0 | J68: =ROUNDDOWN(H68*$J$6,0) -> 0
C69: 第４四半期計（電動車等費用） | H69: ='★外注費（電動車等費用）'!H62 -> 0 | I69: ='★外注費（電動車等費用）'!I62 -> 0 | J69: ='★外注費（電動車等費用）'!J62 -> 0
C70: 第４四半期計（合計） | H70: =SUM(H68,H69) -> 0 | I70: =SUM(I68,I69) -> 0 | J70: =ROUND(J68+J69,0) -> 0
C71: 合計（基本費用） | H71: =SUM(H23,H38,H53,H68) -> 0 | I71: =SUM(I23,I38,I53,I68) -> 0 | J71: =SUM(J23,J38,J53,J68) -> 0
C72: 合計（電動車等費用） | H72: =SUM(H24,H39,H54,H69) -> 0 | I72: =SUM(I24,I39,I54,I69) -> 0 | J72: =SUM(J24,J39,J54,J69) -> 0
C73: 合計 | H73: =SUM(H71,H72) -> 0 | I73: =SUM(I71,I72) -> 0 | J73: =SUM(J71,J72) -> 0
J74: （GI基金事業／スマートモビリティ社会の構築） 2026年4月1日版

Sheet 諸経費（電動車等費用）
B1: 20 年度 | C1: 月別項目別明細表 | I1: 別紙４
F2: 事業番号：
B3: 件 名： | C3: グリーンイノベーション基金事業／スマートモビリティ社会の構築 | J3: TRL
C4: 商用利用される電気自動車・燃料電池自動車の大規模導入を実現するために必要となる運輸事業者における運行管理と一体的なエネルギーマネジメント等に関する研究開発
J5: 定率
B6: 委託・共同研究項目： | J6: {=_xlfn.IFS($J$4<=5,2/3,$J$4=6,1/2,$J$4<=7,1/3)} -> 0.66666667
B7: 補助先等名称：
B8: 対象項目名： | C8: 諸経費（電動車等費用分）
B9: № | C9: =IF(COUNTIF(C8,"*旅費*"),"件名、出張日（期間）、出張者、目的地","品 名 等") -> 品 名 等 | D9: 契約先名称 | E9: 法人番号 (赤字は入力ミス) | F9: 検収日 | G9: =IF(COUNTIF(C8,"*旅費*"),"精算日"&CHAR(10)&"（支払日）","支払日") -> 支払日 | H9: 経費発生額 | J9: 電動車等費用 補助金参考額 | K9: 補助方法
H10: 消費税抜額 | I10: 消費税込額
C14: ４月計 | H14: =SUM(H11:H13) -> 0 | I14: =SUM(I11:I13) -> 0 | J14: =ROUNDDOWN(SUM(J11:J13),0) -> 0
C18: ５月計 | H18: =SUM(H15:H17) -> 0 | I18: =SUM(I15:I17) -> 0 | J18: =ROUNDDOWN(SUM(J15:J17),0) -> 0
C22: ６月計 | H22: =SUM(H19:H21) -> 0 | I22: =SUM(I19:I21) -> 0 | J22: =ROUNDDOWN(SUM(J19:J21),0) -> 0
C23: 第１四半期計（電動車等費用） | H23: =SUM(H14,H18,H22) -> 0 | I23: =SUM(I14,I18,I22) -> 0 | J23: =SUM(J14,J18,J22) -> 0
C27: ７月計 | H27: =SUM(H24:H26) -> 0 | I27: =SUM(I24:I26) -> 0 | J27: =ROUNDDOWN(SUM(J24:J26),0) -> 0
C31: ８月計 | H31: =SUM(H28:H30) -> 0 | I31: =SUM(I28:I30) -> 0 | J31: =ROUNDDOWN(SUM(J28:J30),0) -> 0
C35: ９月計 | H35: =SUM(H32:H34) -> 0 | I35: =SUM(I32:I34) -> 0 | J35: =ROUNDDOWN(SUM(J32:J34),0) -> 0
C36: 第２四半期計（電動車等費用） | H36: =SUM(H27,H31,H35) -> 0 | I36: =SUM(I27,I31,I35) -> 0 | J36: =SUM(J27,J31,J35) -> 0
C40: １０月計 | H40: =SUM(H37:H39) -> 0 | I40: =SUM(I37:I39) -> 0 | J40: =ROUNDDOWN(SUM(J37:J39),0) -> 0
C44: １１月計 | H44: =SUM(H41:H43) -> 0 | I44: =SUM(I41:I43) -> 0 | J44: =ROUNDDOWN(SUM(J41:J43),0) -> 0
C48: １２月計 | H48: =SUM(H45:H47) -> 0 | I48: =SUM(I45:I47) -> 0 | J48: =ROUNDDOWN(SUM(J45:J47),0) -> 0
C49: 第３四半期計（電動車等費用） | H49: =SUM(H40,H44,H48) -> 0 | I49: =SUM(I40,I44,I48) -> 0 | J49: =SUM(J40,J44,J48) -> 0
C53: １月計 | H53: =SUM(H50:H52) -> 0 | I53: =SUM(I50:I52) -> 0 | J53: =ROUNDDOWN(SUM(J50:J52),0) -> 0
C57: ２月計 | H57: =SUM(H54:H56) -> 0 | I57: =SUM(I54:I56) -> 0 | J57: =ROUNDDOWN(SUM(J54:J56),0) -> 0
C61: ３月計 | H61: =SUM(H58:H60) -> 0 | I61: =SUM(I58:I60) -> 0 | J61: =ROUNDDOWN(SUM(J58:J60),0) -> 0
C62: 第４四半期計（電動車等費用） | H62: =SUM(H53,H57,H61) -> 0 | I62: =SUM(I53,I57,I61) -> 0 | J62: =SUM(J53,J57,J61) -> 0
C63: 合計（電動車等費用） | H63: =SUM(H62,H49,H36,H23) -> 0 | I63: =SUM(I62,I49,I36,I23) -> 0 | J63: =SUM(J62,J49,J36,J23) -> 0
K64: （GI基金事業／スマートモビリティ社会の構築） 2026年4月1日版

Sheet 諸経費（基本費用・合計額）
B1: 20 年度 | C1: 月別項目別明細表 | I1: 別紙４
F2: 事業番号：
B3: 件 名： | C3: グリーンイノベーション基金事業／スマートモビリティ社会の構築 | J3: TRL
C4: 商用利用される電気自動車・燃料電池自動車の大規模導入を実現するために必要となる運輸事業者における運行管理と一体的なエネルギーマネジメント等に関する研究開発
J5: 定率
B6: 委託・共同研究項目： | J6: {=_xlfn.IFS($J$4<=5,2/3,$J$4=6,1/2,$J$4<=7,1/3)} -> 0.66666667
B7: 補助先等名称：
B8: 対象項目名： | C8: 外注費
B9: № | C9: =IF(COUNTIF(C8,"*旅費*"),"件名、出張日（期間）、出張者、目的地","品 名 等") -> 品 名 等 | D9: 契約先名称 | E9: 法人番号 (赤字は入力ミス) | F9: 検収日 | G9: =IF(COUNTIF(C8,"*旅費*"),"精算日"&CHAR(10)&"（支払日）","支払日") -> 支払日 | H9: 経費発生額 | J9: 補助金参考額
H10: 消費税抜額 | I10: 消費税込額
C14: ４月計 | H14: =SUM(H11:H13) -> 0 | I14: =SUM(I11:I13) -> 0
C18: ５月計 | H18: =SUM(H15:H17) -> 0 | I18: =SUM(I15:I17) -> 0
C22: ６月計 | H22: =SUM(H19:H21) -> 0 | I22: =SUM(I19:I21) -> 0
C23: 第１四半期計（基本費用分） | H23: =SUM(H14,H18,H22) -> 0 | I23: =SUM(I14,I18,I22) -> 0 | J23: =ROUNDDOWN(H23*$J$6,0) -> 0
C24: 第１四半期計（電動車等費用） | H24: ='諸経費（電動車等費用）'!H23 -> 0 | I24: ='諸経費（電動車等費用）'!I23 -> 0 | J24: ='諸経費（電動車等費用）'!J23 -> 0
C25: 第１四半期計（合計） | H25: =SUM(H23,H24) -> 0 | I25: =SUM(I23,I24) -> 0 | J25: =ROUND(J23+J24,0) -> 0
C29: ７月計 | H29: =SUM(H26:H28) -> 0 | I29: =SUM(I26:I28) -> 0
C33: ８月計 | H33: =SUM(H30:H32) -> 0 | I33: =SUM(I30:I32) -> 0
C37: ９月計 | H37: =SUM(H34:H36) -> 0 | I37: =SUM(I34:I36) -> 0
C38: 第２四半期計（基本費用分） | H38: =SUM(H29,H33,H37) -> 0 | I38: =SUM(I29,I33,I37) -> 0 | J38: =ROUNDDOWN(H38*$J$6,0) -> 0
C39: 第２四半期計（電動車等費用） | H39: ='諸経費（電動車等費用）'!H36 -> 0 | I39: ='諸経費（電動車等費用）'!I36 -> 0 | J39: ='諸経費（電動車等費用）'!J36 -> 0
C40: 第２四半期計（合計） | H40: =SUM(H38,H39) -> 0 | I40: =SUM(I38,I39) -> 0 | J40: =ROUND(J38+J39,0) -> 0
C44: １０月計 | H44: =SUM(H41:H43) -> 0 | I44: =SUM(I41:I43) -> 0
C48: １１月計 | H48: =SUM(H45:H47) -> 0 | I48: =SUM(I45:I47) -> 0
C52: １２月計 | H52: =SUM(H49:H49) -> 0 | I52: =SUM(I49:I49) -> 0
C53: 第３四半期計（基本費用分） | H53: =SUM(H44,H48,H52) -> 0 | I53: =SUM($I52,$I44,$I48) -> 0 | J53: =ROUNDDOWN(H53*$J$6,0) -> 0
C54: 第３四半期計（電動車等費用） | H54: ='諸経費（電動車等費用）'!H49 -> 0 | I54: ='諸経費（電動車等費用）'!I49 -> 0 | J54: ='諸経費（電動車等費用）'!J49 -> 0
C55: 第３四半期計（合計） | H55: =SUM(H53,H54) -> 0 | I55: =SUM(I53,I54) -> 0 | J55: =ROUND(J53+J54,0) -> 0
C59: １月計 | H59: =SUM(H56:H58) -> 0 | I59: =SUM(I56:I58) -> 0
C63: ２月計 | H63: =SUM(H60:H62) -> 0 | I63: =SUM(I60:I62) -> 0
C67: ３月計 | H67: =SUM(H64:H66) -> 0 | I67: =SUM(I64:I66) -> 0
C68: 第４四半期計（基本費用分） | H68: =SUM(H59,H63,H67) -> 0 | I68: =SUM(I59,I63,I67) -> 0 | J68: =ROUNDDOWN(H68*$J$6,0) -> 0
C69: 第４四半期計（電動車等費用） | H69: ='諸経費（電動車等費用）'!H62 -> 0 | I69: ='諸経費（電動車等費用）'!I62 -> 0 | J69: ='諸経費（電動車等費用）'!J62 -> 0
C70: 第４四半期計（合計） | H70: =SUM(H68,H69) -> 0 | I70: =SUM(I68,I69) -> 0 | J70: =ROUND(J68+J69,0) -> 0
C71: 合計（基本費用） | H71: =SUM(H23,H38,H53,H68) -> 0 | I71: =SUM(I23,I38,I53,I68) -> 0 | J71: =SUM(J23,J38,J53,J68) -> 0
C72: 合計（電動車等費用） | H72: =SUM(H24,H39,H54,H69) -> 0 | I72: =SUM(I24,I39,I54,I69) -> 0 | J72: =SUM(J24,J39,J54,J69) -> 0
C73: 合計 | H73: =SUM(H71,H72) -> 0 | I73: =SUM(I71,I72) -> 0 | J73: =SUM(J71,J72) -> 0
J74: （GI基金事業／スマートモビリティ社会の構築） 2026年4月1日版
