Workbook

Sheet 【説明】こちらを先にお読みください
A1: シート名 | B1: 記載にあたっての注意事項
A2: 情報項目シート | B2: ・薄オレンジのセルはすべて記載してください。該当しないものは、なし と記載。 ・「補助事業に要する経費、補助対象費用および交付提案額」（白色セル）は、項目別明細表の値が反映されます。 ・項目別明細表を作成後、情報項目シートの「補助事業の総費用、補助対象費用および交付提案額」が、項目別明細表の合計セルを参照しているか再度確認してください。
A3: 提案書様式 | B3: ・情報項目シートに記載した内容を参照している部分については記載は不要です。 ・赤字「直接記載ください」は、提案書様式に直接記載ください。 ・印刷時に印字されない文字がある場合には、行の高さを変更する等して、適宜レイアウトを変更してください。 ・「提案書作成にあたって（MS-Word)」に提案書様式（word版）がありますので、そちらの様式で作成することも 可能です。その場合は、特に、数値の転記ミスにお気をつけください。
A4: 全期間総括表 | B4: ・項目別明細表を先に作成するようにしてください。 ・項目別明細表が作成されれば、数値が反映されるようにしてあります。 ・項目別明細表の補助対象費用の各項目の合計セルを参照しているか確認してください。
A5: 補助先総括表 | B5: ・項目別明細表を先に作成するようにしてください。 ・項目別明細表が作成されれば、数値が反映されるようにしてあります。 ・項目別明細表の補助対象費用の各項目の合計セルを参照しているか確認してください。
A6: 委託・共同事業先総括表 | B6: ・委託・共同事業先がない場合は、作成不要です。 ・項目別明細表を先に作成するようにしてください。 ・項目別明細表が作成されれば、数値が反映されるようにしてあります。 ・項目別明細表の補助対象費用の各項目の合計セルを参照しているか確認してください。
A7: 項目別明細表（補助先） | B7: ・項目別明細表を先に作成するようにしてください。 ・委託・共同事業費用は、Ⅳ．１．に計上してください。 ・委託・共同事業先が2機関以上の場合は、Ⅳ．１．に当該事業者の行を追加し、金額を転記してください ・費用計上する内容を増やすために行を追加した場合は、細目の小計がその内訳と整合しているか確認してください。
A8: 項目別明細表（委託・共同事業先） | B8: ・共同事業先がない場合は、作成不要です。 ・共同事業先が2機関以上の場合は、シートをコピーして作成してください。その際、登録済の計算式が問題ないかご確認ください。 ・項目別明細表を先に作成するようにしてください。 ・費用計上する内容を増やすために行を追加した場合は、細目の小計がその内訳と整合しているか確認してください。
A9: ※本事業においては、4月から翌年3月までを1年度としております（例2027年度:2027年4月から2028年3月）
A10: 経費や事業目標は上記の考え方に沿ってご記載ください。

Sheet 情報項目シート
B1: ※内容がセルに全て表示されていなくても結構です。行を追加したり、削除したりしないでください。 microsoft-wordからコピーする際は、”形式を指定して貼り付け→テキスト”を指定してください。
B2: 項目 | C2: ↓↓記入箇所↓↓ | D2: 記入例 | E2: 記入に当たっての 注意事項 | F2: 提案書 参照箇所
B3: 受付番号(提案者) | C3: （NEDOにて記入） | D3: （NEDOにて記入） | E3: 記入不要 | F3: ―
B4: 応募事業 | C4: GX_UPP事業 | D4: GX_UPP事業 | F4: （提案書様式）の１.
B5: 提案日 | D5: 46341 | F5: （提案書様式)の提案日
B6: 提案者名 | D6: △△△△株式会社 | F6: （提案書様式)
B7: 補助事業名 | D7: □□□の開発 | E7: 提案書様式吹き出し参照。30字以内 | F7: （提案書様式）の１. | G7: =LEN(C7) -> 0
B8: 補助事業名(英訳) | D8: development of □□□ | E8: 上記の英訳を記入。
B9: 補助事業の概要 | D9: ＊＊＊＊を目的とし、＊＊＊＊を開発する。 | E9: 提案書様式吹き出し参照。150字以内 Web公開する可能性がありますので、対外的に公表して問題ない内容としてください。 | F9: （提案書様式）の２. | G9: =LEN(C9) -> 0
B10: 補助事業の開始年月日 | C10: 交付決定通知書に記載する日から | E10: 記入不要 | F10: （提案書様式）の６.
B11: 補助事業の終了予定年月日 | D11: 47938 | F11: （提案書様式）の６.
B12: 補助事業に要する経費 全期間 | C12: =SUM(C15+C18+C21+C24+C27) -> 0 | D12: 1000000000 | E12: 別紙２：２（３）項目別明細表の補助事業に要する経費の合計セルを参照指定してください | F12: （提案書様式）の７.
B13: 補助対象費用 全期間 | C13: =SUM(C16+C19+C22+C25+C28) -> 0 | D13: 1000000000 | E13: 別紙２：２（３）項目別明細表の補助対象費用の合計セルを参照指定してください | F13: （提案書様式）の３.
B14: 補助金交付提案額 全期間 | C14: =SUM(C17+C20+C23+C26+C29) -> 0 | D14: 500000000 | E14: 別紙２：２（３）項目別明細表の補助金の額の合計セルを参照指定してください | F14: （提案書様式）の4.
B15: 補助事業に要する経費 2026年度 | C15: ='別紙2(4)項目別明細表(補助先)【2026年度】'!J57 -> 0 | E15: 別紙2(4)項目別明細表(補助先)【2026年度】の「補助事業に要する経費」の合計セルを参照してください。 | F15: （提案書様式）の７.
B16: 補助対象費用 2026年度 | C16: ='別紙2(4)項目別明細表(補助先)【2026年度】'!K57 -> 0 | E16: 別紙2(4)項目別明細表(補助先)【2026年度】の「補助対象費用」の合計セルを参照してください。 | F16: （提案書様式）の３.
B17: 補助金交付提案額 2026年度 | C17: ='別紙2(4)項目別明細表(補助先)【2026年度】'!L57 -> 0 | E17: 別紙2(4)項目別明細表(補助先)【2026年度】の「補助金の額」のセルを参照してください。 | F17: （提案書様式）の4.
B18: 補助事業に要する経費 2027年度 | C18: ='別紙2(4)項目別明細表(補助先)【2027年度】'!J57 -> 0 | E18: 別紙2(4)項目別明細表(補助先)【2027年度】の「補助事業に要する経費」の合計セルを参照してください。 | F18: （提案書様式）の７.
B19: 補助対象費用 2027年度 | C19: ='別紙2(4)項目別明細表(補助先)【2027年度】'!K57 -> 0 | E19: 別紙2(4)項目別明細表(補助先)【2027年度】の「補助対象費用」の合計セルを参照してください。 | F19: （提案書様式）の３.
B20: 補助金交付提案額 2027年度 | C20: ='別紙2(4)項目別明細表(補助先)【2027年度】'!L57 -> 0 | E20: 別紙2(4)項目別明細表(補助先)【2027年度】の「補助金の額」のセルを参照してください。 | F20: （提案書様式）の4.
B21: 補助事業に要する経費 2028年度 | C21: ='別紙2(4)項目別明細表(補助先)【2027年度】'!J57 -> 0 | E21: 別紙2(4)項目別明細表(補助先)【2028年度】の「補助事業に要する経費」の合計セルを参照してください。 | F21: （提案書様式）の７.
B22: 補助対象費用 2028年度 | C22: ='別紙2(4)項目別明細表(補助先)【2027年度】'!K57 -> 0 | E22: 別紙2(4)項目別明細表(補助先)【2028年度】の「補助対象費用」の合計セルを参照してください。 | F22: （提案書様式）の３.
B23: 補助金交付提案額 2028年度 | C23: ='別紙2(4)項目別明細表(補助先)【2027年度】'!L57 -> 0 | E23: 別紙2(4)項目別明細表(補助先)【2028年度】の「補助金の額」のセルを参照してください。 | F23: （提案書様式）の4.
B24: 補助事業に要する経費 2029年度 | C24: ='別紙2(4)項目別明細表(補助先)【2029年度】'!J57 -> 0 | E24: 別紙2(4)項目別明細表(補助先)【2029年度】の「補助事業に要する経費」の合計セルを参照してください。 | F24: （提案書様式）の７.
B25: 補助対象費用 2029年度 | C25: ='別紙2(4)項目別明細表(補助先)【2029年度】'!K57 -> 0 | E25: 別紙2(4)項目別明細表(補助先)【2029年度】の「補助対象費用」の合計セルを参照してください。 | F25: （提案書様式）の３.
B26: 補助金交付提案額 2029年度 | C26: ='別紙2(4)項目別明細表(補助先)【2029年度】'!L57 -> 0 | E26: 別紙2(4)項目別明細表(補助先)【2029年度】の「補助金の額」のセルを参照してください。 | F26: （提案書様式）の4.
B27: 補助事業に要する経費 2030年度 | C27: ='別紙2(4)項目別明細表(補助先)【2030年度】'!J57 -> 0 | E27: 別紙2(4)項目別明細表(補助先)【2030年度】の「補助事業に要する経費」の合計セルを参照してください。 | F27: （提案書様式）の７.
B28: 補助対象費用 2030年度 | C28: ='別紙2(4)項目別明細表(補助先)【2030年度】'!K57 -> 0 | E28: 別紙2(4)項目別明細表(補助先)【2030年度】の「補助対象費用」の合計セルを参照してください。 | F28: （提案書様式）の３.
B29: 補助金交付提案額 2030年度 | C29: ='別紙2(4)項目別明細表(補助先)【2030年度】'!L57 -> 0 | E29: 別紙2(4)項目別明細表(補助先)【2030年度】の「補助金の額」のセルを参照してください。 | F29: （提案書様式）の4.
B30: 提案者法人番号 | D30: 13桁の番号 | E30: （提案書様式１）の１．会社概要（１）を記入 法人設立準備中の者は記載不要 | F30: （提案書様式） | G30: =LEN(C30) -> 0
B31: 郵便番号 | D31: 123-4567 | E31: 「〒」マークは不要、「-」を含め半角で記入 | F31: （提案書様式)
B32: 登記住所 | D32: □□県◆◆市××町8丁目9番123号 | E32: 都道府県から記入 | F32: （提案書様式)
B33: 代表者役職 | D33: 代表取締役 | F33: （提案書様式)
B34: 代表者氏名 | D34: 根戸 一郎 | E34: 代表者は会社の代表権のある方とします。 | F34: （提案書様式)
B35: 設立年月日 | D35: 42005 | F35: （提案書様式 添付１）
B36: 資本金 | D36: 10000000000 | E36: 半角数字のみを記入（円や千円、￥記号などを加えない） | F36: （提案書様式 添付１）
B37: 決算日 | D37: 45747 | E37: 月日を記入 | F37: （提案書様式 添付１）
B38: 全従業員数 | D38: 10 | E38: 全従業員の総数 | F38: （提案書様式 添付１）
B39: （内、経営者） | D39: 3 | E39: 経営者の数
B40: 会計監査人 | E40: 会計監査人を設置していない場合は、「なし」と記載。 | F40: （提案書様式 添付１）
...

Sheet 提案書様式
AC1: 分類番号11000
A2: （提案書様式）
A3: =情報項目シート!C5 -> 0
A5: 国立研究開発法人新エネルギー・産業技術総合開発機構
A6: 理事長 殿
J8: 提案者 | M8: ="〒"&情報項目シート!C31 -> 〒
M9: =情報項目シート!C32 -> 0
M11: =情報項目シート!C6 -> 0
M12: =情報項目シート!C33&" " &情報項目シート!C34
A16: GX分野のディープテック･スタートアップへの事業開発支援事業費補助金交付申請書
A17: ="( " & 情報項目シート!C7 & " )" -> ( )
A20: １． | B20: 補助事業の名称
B21: （大項目） | E21: =情報項目シート!C4 -> GX_UPP事業
B22: （中項目） | E22: =情報項目シート!C7 -> 0
A24: ２． | B24: 補助事業の概要
B25: =情報項目シート!C9 -> 0
A27: ３． | B27: 補助事業の総費用 | P27: =情報項目シート!C13 -> 0 | Y27: 円
C28: 2026年度 | P28: =情報項目シート!C16 -> 0 | Y28: 円
C29: 2027年度 | P29: =情報項目シート!C19 -> 0 | Y29: 円
C30: 2028年度 | P30: =情報項目シート!C22 -> 0 | Y30: 円
C31: 2029年度 | P31: =情報項目シート!C25 -> 0 | Y31: 円
C32: 2030年度 | P32: =情報項目シート!C28 -> 0 | Y32: 円
A34: ４． | B34: 補助金交付提案額 | P34: =情報項目シート!C14 -> 0 | Y34: 円
C35: 2026年度 | P35: =情報項目シート!C17 -> 0 | Y35: 円
C36: 2027年度 | P36: =情報項目シート!C20 -> 0 | Y36: 円
C37: 2028年度 | P37: =情報項目シート!C23 -> 0 | Y37: 円
C38: 2029年度 | P38: =情報項目シート!C26 -> 0 | Y38: 円
C39: 2030年度 | P39: =情報項目シート!C29 -> 0 | Y39: 円
A41: ５． | B41: 補助率 1/2以内
A43: ６． | B43: 補助事業の開始及び終了年月日
C44: 開始年月日 | J44: 交付決定通知書に記載する事業開始の日から
C45: 終了予定年月日 | J45: =情報項目シート!C11 -> 0
A47: ７． | B47: 補助事業期間における資金計画
B48: （１）収支計画 | X48: （単位：円）
C49: 区分 | I49: 2026年度 | L49: 2027年度 | O49: 2028年度 | R49: 2029年度 | U49: 2030年度 | X49: 計
A50: 支出 | C50: 補助事業に要する経費 | I50: =情報項目シート!C15 -> 0 | L50: =情報項目シート!C18 -> 0 | O50: =情報項目シート!C21 -> 0 | R50: =情報項目シート!C24 -> 0 | U50: =情報項目シート!C27 -> 0 | X50: =SUM(I50:W50) -> 0
A51: 収入 | C51: Ⅰ．自己資金 | X51: =SUM(I51:W51) -> 0
C52: Ⅱ．借入金 | X52: =SUM(I52:W52) -> 0
C53: Ⅲ．その他の収入 | X53: =SUM(I53:W53) -> 0
C54: （小計） | I54: =SUM(I51:K53) -> 0 | L54: =SUM(L51:N53) -> 0 | O54: =SUM(O51:Q53) -> 0 | R54: =SUM(R51:T53) -> 0 | U54: =SUM(U51:W53) -> 0 | X54: =SUM(I54:W54) -> 0
...

Sheet 別紙2(1)全期間総括表 
H1: 別紙２
A2: 全期間総括表
A4: （１）全期間総括表
A5: ="補助事業の名称： "&情報項目シート!C7 -> 補助事業の名称：
H6: （単位：円）
A7: 補助先名 | B7: 委託先名・共同事業先名 | C7: 事業期間全体 | D7: 2026年度 | E7: 2027年度 | F7: 2028年度 | G7: 2029年度 | H7: 2030年度
A8: ="１． "&情報項目シート!C6 -> １． | C8: =SUM(D8:H8) -> 0 | D8: ='別紙2(4)項目別明細表(補助先)【2026年度】'!$K$57 -> 0 | E8: ='別紙2(4)項目別明細表(補助先)【2027年度】'!$K$57 -> 0 | F8: ='別紙2(4)項目別明細表(補助先)【2028年度】'!$K$57 -> 0 | G8: ='別紙2(4)項目別明細表(補助先)【2029年度】'!$K$57 -> 0 | H8: ='別紙2(4)項目別明細表(補助先)【2030年度】'!$K$57 -> 0
C9: =SUM(D9:H9) -> 0 | D9: ='別紙2(4)項目別明細表(補助先)【2026年度】'!$K$51 -> 0 | E9: ='別紙2(4)項目別明細表(補助先)【2027年度】'!$K$51 -> 0 | F9: ='別紙2(4)項目別明細表(補助先)【2028年度】'!$K$51 -> 0 | G9: ='別紙2(4)項目別明細表(補助先)【2029年度】'!$K$51 -> 0 | H9: ='別紙2(4)項目別明細表(補助先)【2030年度】'!$K$51 -> 0
C10: =SUM(D10:H10) -> 0 | D10: ='別紙2(4)項目別明細表(補助先)【2026年度】'!$K$52 -> 0 | E10: ='別紙2(4)項目別明細表(補助先)【2027年度】'!$K$52 -> 0 | F10: ='別紙2(4)項目別明細表(補助先)【2028年度】'!$K$52 -> 0 | G10: ='別紙2(4)項目別明細表(補助先)【2029年度】'!$K$52 -> 0 | H10: ='別紙2(4)項目別明細表(補助先)【2030年度】'!$K$52 -> 0
A12: ２． | C12: =SUM(D12:H12) -> 0 | D12: 0 | E12: 0 | F12: 0 | G12: 0 | H12: 0
C13: =SUM(D13:H13) -> 0 | D13: 0 | E13: 0 | F13: 0 | G13: 0 | H13: 0
C14: =SUM(D14:H14) -> 0 | D14: 0 | E14: 0 | F14: 0 | G14: 0 | H14: 0
C15: =SUM(D15:H15) -> 0 | D15: 0 | E15: 0 | F15: 0 | G15: 0 | H15: 0
A16: 合計（１．＋２．） | C16: =SUM(C8,C12) -> 0 | D16: =SUM(D8,D12) -> 0 | E16: =SUM(E8,E12) -> 0 | F16: =SUM(F8,F12) -> 0 | G16: =SUM(G8,G12) -> 0 | H16: =SUM(H8,H12) -> 0
A17: ＊補助金の額 | C17: =SUM(D17:H17) -> 0 | D17: =ROUNDDOWN(SUM(D8,D12)*$A$18,-3) -> 0 | E17: =ROUNDDOWN(SUM(E8,E12)*$A$18,-3) -> 0 | F17: =ROUNDDOWN(SUM(F8,F12)*$A$18,-3) -> 0 | G17: =ROUNDDOWN(SUM(G8,G12)*$A$18,-3) -> 0 | H17: =ROUNDDOWN(SUM(H8,H12)*$A$18,-3) -> 0
A18: 0.5
A20: 【研究分担先、分室がある場合の記載例】
A21: ３． | C21: =SUM(D21:H21) -> 0 | D21: =SUM(D22:D23) -> 0 | E21: =SUM(E22:E23) -> 0 | F21: =SUM(F22:F23) -> 0 | G21: =SUM(G22:G23) -> 0 | H21: =SUM(H22:H23) -> 0
C22: =SUM(D22:H22) -> 0 | D22: 0 | E22: 0 | F22: 0 | G22: 0 | H22: 0
C23: =SUM(D23:H23) -> 0 | D23: 0 | E23: 0 | F23: 0 | G23: 0 | H23: 0
A25: ４． | C25: =SUM(D25:H25) -> 0 | D25: =SUM(D26:D27) -> 0 | E25: =SUM(E26:E27) -> 0 | F25: =SUM(F26:F27) -> 0 | G25: =SUM(G26:G27) -> 0 | H25: =SUM(H26:H27) -> 0
C26: =SUM(D26:H26) -> 0 | D26: 0 | E26: 0 | F26: 0 | G26: 0 | H26: 0
C27: =SUM(D27:H27) -> 0 | D27: 0 | E27: 0 | F27: 0 | G27: 0 | H27: 0
A29: ※機関、年度毎に「補助対象費用」を記入してください。 | E29: 分類番号12221 | H29: 2026年10月版
D31: 入力規制
D33: うち委託先
D34: うち共同事業先

Sheet 別紙2(2)補助先総括表
G1: 別紙２
A2: 補助先総括表
A4: （２）補助先総括表
A5: ="補助事業の名称： "&情報項目シート!C7 -> 補助事業の名称：
A6: =情報項目シート!C6 -> 0
G7: （単位：円）
A8: 項目 | B8: 事業期間全体 | C8: 2026年度 | D8: 2027年度 | E8: 2028年度 | F8: 2029年度 | G8: 2030年度
A9: Ⅰ．機械装置等費 | B9: =SUM(C9:G9) -> 0 | C9: =SUM(C10:C12) -> 0 | D9: =SUM(D10:D12) -> 0 | E9: =SUM(E10:E12) -> 0 | F9: =SUM(F10:F12) -> 0 | G9: =SUM(G10:G12) -> 0
A10: １．土木・建築工事費 | B10: =SUM(C10:G10) -> 0 | C10: ='別紙2(4)項目別明細表(補助先)【2026年度】'!$K$7 -> 0 | D10: ='別紙2(4)項目別明細表(補助先)【2027年度】'!$K$7 -> 0 | E10: ='別紙2(4)項目別明細表(補助先)【2028年度】'!$K$7 -> 0 | F10: ='別紙2(4)項目別明細表(補助先)【2029年度】'!$K$7 -> 0 | G10: ='別紙2(4)項目別明細表(補助先)【2030年度】'!$K$7 -> 0
A11: ２．機械装置等製作・購入費 | B11: =SUM(C11:G11) -> 0 | C11: ='別紙2(4)項目別明細表(補助先)【2026年度】'!$K$10 -> 0 | D11: ='別紙2(4)項目別明細表(補助先)【2027年度】'!$K$10 -> 0 | E11: ='別紙2(4)項目別明細表(補助先)【2028年度】'!$K$10 -> 0 | F11: ='別紙2(4)項目別明細表(補助先)【2029年度】'!$K$10 -> 0 | G11: ='別紙2(4)項目別明細表(補助先)【2030年度】'!$K$10 -> 0
A12: ３．保守・改造修理費 | B12: =SUM(C12:G12) -> 0 | C12: ='別紙2(4)項目別明細表(補助先)【2026年度】'!$K$16 -> 0 | D12: ='別紙2(4)項目別明細表(補助先)【2027年度】'!$K$16 -> 0 | E12: ='別紙2(4)項目別明細表(補助先)【2028年度】'!$K$16 -> 0 | F12: ='別紙2(4)項目別明細表(補助先)【2029年度】'!$K$16 -> 0 | G12: ='別紙2(4)項目別明細表(補助先)【2030年度】'!$K$16 -> 0
A13: Ⅱ．労務費 | B13: =SUM(C13:G13) -> 0 | C13: =SUM(C14:C15) -> 0 | D13: =SUM(D14:D15) -> 0 | E13: =SUM(E14:E15) -> 0 | F13: =SUM(F14:F15) -> 0 | G13: =SUM(G14:G15) -> 0
A14: １．事業開発員費 | B14: =SUM(C14:G14) -> 0 | C14: ='別紙2(4)項目別明細表(補助先)【2026年度】'!$K$20 -> 0 | D14: ='別紙2(4)項目別明細表(補助先)【2027年度】'!$K$20 -> 0 | E14: ='別紙2(4)項目別明細表(補助先)【2028年度】'!$K$20 -> 0 | F14: ='別紙2(4)項目別明細表(補助先)【2029年度】'!$K$20 -> 0 | G14: ='別紙2(4)項目別明細表(補助先)【2030年度】'!$K$20 -> 0
A15: ２．補助員費 | B15: =SUM(C15:G15) -> 0 | C15: ='別紙2(4)項目別明細表(補助先)【2026年度】'!$K$26 -> 0 | D15: ='別紙2(4)項目別明細表(補助先)【2027年度】'!$K$26 -> 0 | E15: ='別紙2(4)項目別明細表(補助先)【2028年度】'!$K$26 -> 0 | F15: ='別紙2(4)項目別明細表(補助先)【2029年度】'!$K$26 -> 0 | G15: ='別紙2(4)項目別明細表(補助先)【2030年度】'!$K$26 -> 0
A16: Ⅲ．その他経費 | B16: =SUM(C16:G16) -> 0 | C16: =SUM(C17:C20) -> 0 | D16: =SUM(D17:D20) -> 0 | E16: =SUM(E17:E20) -> 0 | F16: =SUM(F17:F20) -> 0 | G16: =SUM(G17:G20) -> 0
A17: １．消耗品費 | B17: =SUM(C17:G17) -> 0 | C17: ='別紙2(4)項目別明細表(補助先)【2026年度】'!$K$29 -> 0 | D17: ='別紙2(4)項目別明細表(補助先)【2027年度】'!$K$29 -> 0 | E17: ='別紙2(4)項目別明細表(補助先)【2028年度】'!$K$29 -> 0 | F17: ='別紙2(4)項目別明細表(補助先)【2029年度】'!$K$29 -> 0 | G17: ='別紙2(4)項目別明細表(補助先)【2030年度】'!$K$29 -> 0
A18: ２．旅費 | B18: =SUM(C18:G18) -> 0 | C18: ='別紙2(4)項目別明細表(補助先)【2026年度】'!$K$32 -> 0 | D18: ='別紙2(4)項目別明細表(補助先)【2027年度】'!$K$32 -> 0 | E18: ='別紙2(4)項目別明細表(補助先)【2028年度】'!$K$32 -> 0 | F18: ='別紙2(4)項目別明細表(補助先)【2029年度】'!$K$32 -> 0 | G18: ='別紙2(4)項目別明細表(補助先)【2030年度】'!$K$32 -> 0
A19: ３．外注費 | B19: =SUM(C19:G19) -> 0 | C19: ='別紙2(4)項目別明細表(補助先)【2026年度】'!$K$36 -> 0 | D19: ='別紙2(4)項目別明細表(補助先)【2027年度】'!$K$36 -> 0 | E19: ='別紙2(4)項目別明細表(補助先)【2028年度】'!$K$36 -> 0 | F19: ='別紙2(4)項目別明細表(補助先)【2029年度】'!$K$36 -> 0 | G19: ='別紙2(4)項目別明細表(補助先)【2030年度】'!$K$36 -> 0
A20: ４．諸経費 | B20: =SUM(C20:G20) -> 0 | C20: ='別紙2(4)項目別明細表(補助先)【2026年度】'!$K$38 -> 0 | D20: ='別紙2(4)項目別明細表(補助先)【2027年度】'!$K$38 -> 0 | E20: ='別紙2(4)項目別明細表(補助先)【2028年度】'!$K$38 -> 0 | F20: ='別紙2(4)項目別明細表(補助先)【2029年度】'!$K$38 -> 0 | G20: ='別紙2(4)項目別明細表(補助先)【2030年度】'!$K$38 -> 0
A21: Ⅳ．委託費・共同事業費 | B21: =SUM(C21:G21) -> 0 | C21: =SUM(C22:C23) -> 0 | D21: =SUM(D22:D23) -> 0 | E21: =SUM(E22:E23) -> 0 | F21: =SUM(F22:F23) -> 0 | G21: =SUM(G22:G23) -> 0
A22: １．委託費・共同事業費 | B22: =SUM(C22:G22) -> 0 | C22: ='別紙2(4)項目別明細表(補助先)【2026年度】'!$K$50 -> 0 | D22: ='別紙2(4)項目別明細表(補助先)【2027年度】'!$K$50 -> 0 | E22: ='別紙2(4)項目別明細表(補助先)【2028年度】'!$K$50 -> 0 | F22: ='別紙2(4)項目別明細表(補助先)【2029年度】'!$K$50 -> 0 | G22: ='別紙2(4)項目別明細表(補助先)【2030年度】'!$K$50 -> 0
A23: ２．学術機関等に対する共同事業費 | B23: 0 | C23: 0 | D23: 0 | E23: 0 | F23: 0 | G23: 0
A24: 合計（Ⅰ＋Ⅱ＋Ⅲ＋Ⅳ） | B24: =SUM(C24:G24) -> 0 | C24: =SUM(C9,C13,C16,C21) -> 0 | D24: =SUM(D9,D13,D16,D21) -> 0 | E24: =SUM(E9,E13,E16,E21) -> 0 | F24: =SUM(F9,F13,F16,F21) -> 0 | G24: =SUM(G9,G13,G16,G21) -> 0
A25: ＊補助金の額 | B25: =SUM(C25:G25) -> 0 | C25: =ROUNDDOWN(SUM(C9,C13,C16,C21)*A26,-3) -> 0 | D25: =ROUNDDOWN(SUM(D9,D13,D16,D21)*A26,-3) -> 0 | E25: =ROUNDDOWN(SUM(E9,E13,E16,E21)*A26,-3) -> 0 | F25: =ROUNDDOWN(SUM(F9,F13,F16,F21)*A26,-3) -> 0 | G25: =ROUNDDOWN(SUM(G9,G13,G16,G21)*A26,-3) -> 0
A26: 0.5
A28: ※項目毎に「補助対象費用」を記入してください。
A29: ※Ⅳ．委託費・共同事業費の補助先がＮＥＤＯへ計上する補助対象費用は、消費税抜き額になります。
E30: 分類番号12222 | G30: 2026年10月版

Sheet 別紙2(3)委託共同事業先総括表
G1: 別紙２
A2: 委託先/共同事業先総括表
A4: （３）委託先、共同事業先総括表
A5: ="補助事業の名称： "&情報項目シート!C7 -> 補助事業の名称：
A6: 委託先・共同事業先名を記載
G7: （単位：円）
A8: 項目 | B8: 事業期間全体 | C8: 2026年度 | D8: 2027年度 | E8: 2028年度 | F8: 2029年度 | G8: 2030年度
A9: Ⅰ．機械装置等費 | B9: =SUM(C9:G9) -> 0 | C9: =SUM(C10:C12) -> 0 | D9: =SUM(D10:D12) -> 0 | E9: =SUM(E10:E12) -> 0 | F9: =SUM(F10:F12) -> 0 | G9: =SUM(G10:G12) -> 0
A10: １．土木・建築工事費 | B10: =SUM(C10:G10) -> 0 | C10: ='別紙2(4)項目別明細表(委託共同事業先)【2026年度】'!$K$7 -> 0 | D10: ='別紙2(4)項目別明細表(委託共同事業先)【2027年度】'!$K$7 -> 0 | E10: ='別紙2(4)項目別明細表(委託共同事業先)【2028年度】'!$K$7 -> 0 | F10: ='別紙2(4)項目別明細表(委託共同事業先)【2029年度】'!$K$7 -> 0 | G10: ='別紙2(4)項目別明細表(委託共同事業先)【2030年度】'!$K$7 -> 0
A11: ２．機械装置等製作・購入費 | B11: =SUM(C11:G11) -> 0 | C11: ='別紙2(4)項目別明細表(委託共同事業先)【2026年度】'!$K$10 -> 0 | D11: ='別紙2(4)項目別明細表(委託共同事業先)【2027年度】'!$K$10 -> 0 | E11: ='別紙2(4)項目別明細表(委託共同事業先)【2028年度】'!$K$10 -> 0 | F11: ='別紙2(4)項目別明細表(委託共同事業先)【2029年度】'!$K$10 -> 0 | G11: ='別紙2(4)項目別明細表(委託共同事業先)【2030年度】'!$K$10 -> 0
A12: ３．保守・改造修理費 | B12: =SUM(C12:G12) -> 0 | C12: ='別紙2(4)項目別明細表(委託共同事業先)【2026年度】'!$K$17 -> 0 | D12: ='別紙2(4)項目別明細表(委託共同事業先)【2027年度】'!$K$17 -> 0 | E12: ='別紙2(4)項目別明細表(委託共同事業先)【2028年度】'!$K$17 -> 0 | F12: ='別紙2(4)項目別明細表(委託共同事業先)【2029年度】'!$K$17 -> 0 | G12: ='別紙2(4)項目別明細表(委託共同事業先)【2030年度】'!$K$17 -> 0
A13: Ⅱ．労務費 | B13: =SUM(C13:G13) -> 0 | C13: =SUM(C14:C15) -> 0 | D13: =SUM(D14:D15) -> 0 | E13: =SUM(E14:E15) -> 0 | F13: =SUM(F14:F15) -> 0 | G13: =SUM(G14:G15) -> 0
A14: １．事業開発員費 | B14: =SUM(C14:G14) -> 0 | C14: ='別紙2(4)項目別明細表(委託共同事業先)【2026年度】'!$K$21 -> 0 | D14: ='別紙2(4)項目別明細表(委託共同事業先)【2027年度】'!$K$21 -> 0 | E14: ='別紙2(4)項目別明細表(委託共同事業先)【2028年度】'!$K$21 -> 0 | F14: ='別紙2(4)項目別明細表(委託共同事業先)【2029年度】'!$K$21 -> 0 | G14: ='別紙2(4)項目別明細表(委託共同事業先)【2030年度】'!$K$21 -> 0
A15: ２．補助員費 | B15: =SUM(C15:G15) -> 0 | C15: ='別紙2(4)項目別明細表(委託共同事業先)【2026年度】'!$K$25 -> 0 | D15: ='別紙2(4)項目別明細表(委託共同事業先)【2027年度】'!$K$25 -> 0 | E15: ='別紙2(4)項目別明細表(委託共同事業先)【2028年度】'!$K$25 -> 0 | F15: ='別紙2(4)項目別明細表(委託共同事業先)【2029年度】'!$K$25 -> 0 | G15: ='別紙2(4)項目別明細表(委託共同事業先)【2030年度】'!$K$25 -> 0
A16: Ⅲ．その他経費 | B16: =SUM(C16:G16) -> 0 | C16: =SUM(C17:C20) -> 0 | D16: =SUM(D17:D20) -> 0 | E16: =SUM(E17:E20) -> 0 | F16: =SUM(F17:F20) -> 0 | G16: =SUM(G17:G20) -> 0
A17: １．消耗品費 | B17: =SUM(C17:G17) -> 0 | C17: ='別紙2(4)項目別明細表(委託共同事業先)【2026年度】'!$K$28 -> 0 | D17: ='別紙2(4)項目別明細表(委託共同事業先)【2027年度】'!$K$28 -> 0 | E17: ='別紙2(4)項目別明細表(委託共同事業先)【2028年度】'!$K$28 -> 0 | F17: ='別紙2(4)項目別明細表(委託共同事業先)【2029年度】'!$K$28 -> 0 | G17: ='別紙2(4)項目別明細表(委託共同事業先)【2030年度】'!$K$28 -> 0
A18: ２．旅費 | B18: =SUM(C18:G18) -> 0 | C18: ='別紙2(4)項目別明細表(委託共同事業先)【2026年度】'!$K$32 -> 0 | D18: ='別紙2(4)項目別明細表(委託共同事業先)【2027年度】'!$K$32 -> 0 | E18: ='別紙2(4)項目別明細表(委託共同事業先)【2028年度】'!$K$32 -> 0 | F18: ='別紙2(4)項目別明細表(委託共同事業先)【2029年度】'!$K$32 -> 0 | G18: ='別紙2(4)項目別明細表(委託共同事業先)【2030年度】'!$K$32 -> 0
A19: ３．外注費 | B19: =SUM(C19:G19) -> 0 | C19: ='別紙2(4)項目別明細表(委託共同事業先)【2026年度】'!$K$37 -> 0 | D19: ='別紙2(4)項目別明細表(委託共同事業先)【2027年度】'!$K$37 -> 0 | E19: ='別紙2(4)項目別明細表(委託共同事業先)【2028年度】'!$K$37 -> 0 | F19: ='別紙2(4)項目別明細表(委託共同事業先)【2029年度】'!$K$37 -> 0 | G19: ='別紙2(4)項目別明細表(委託共同事業先)【2030年度】'!$K$37 -> 0
A20: ４．諸経費 | B20: =SUM(C20:G20) -> 0 | C20: ='別紙2(4)項目別明細表(委託共同事業先)【2026年度】'!$K$40 -> 0 | D20: ='別紙2(4)項目別明細表(委託共同事業先)【2027年度】'!$K$40 -> 0 | E20: ='別紙2(4)項目別明細表(委託共同事業先)【2028年度】'!$K$40 -> 0 | F20: ='別紙2(4)項目別明細表(委託共同事業先)【2029年度】'!$K$40 -> 0 | G20: ='別紙2(4)項目別明細表(委託共同事業先)【2030年度】'!$K$40 -> 0
A21: 小計（Ⅰ＋Ⅱ＋Ⅲ） | B21: =SUM(C21:G21) -> 0 | C21: =SUM(C9,C13,C16) -> 0 | D21: =SUM(D9,D13,D16) -> 0 | E21: =SUM(E9,E13,E16) -> 0 | F21: =SUM(F9,F13,F16) -> 0 | G21: =SUM(G9,G13,G16) -> 0
A22: Ⅳ．間接経費 | B22: =SUM(C22:G22) -> 0 | C22: ='別紙2(4)項目別明細表(委託共同事業先)【2026年度】'!$K$51 -> 0 | D22: ='別紙2(4)項目別明細表(委託共同事業先)【2027年度】'!$K$51 -> 0 | E22: ='別紙2(4)項目別明細表(委託共同事業先)【2028年度】'!$K$51 -> 0 | F22: ='別紙2(4)項目別明細表(委託共同事業先)【2029年度】'!$K$51 -> 0 | G22: ='別紙2(4)項目別明細表(委託共同事業先)【2030年度】'!$K$51 -> 0
A23: 合計（Ⅰ＋Ⅱ＋Ⅲ＋Ⅳ） | B23: =SUM(C23:G23) -> 0 | C23: =SUM(C21:C22) -> 0 | D23: =SUM(D21:D22) -> 0 | E23: =SUM(E21:E22) -> 0 | F23: =SUM(F21:F22) -> 0 | G23: =SUM(G21:G22) -> 0
A24: 消費税及び地方消費税 | B24: =SUM(C24:G24) -> 0 | C24: =ROUNDDOWN(C23*0.1,0) -> 0 | D24: =ROUNDDOWN(D23*0.1,0) -> 0 | E24: =ROUNDDOWN(E23*0.1,0) -> 0 | F24: =ROUNDDOWN(F23*0.1,0) -> 0 | G24: =ROUNDDOWN(G23*0.1,0) -> 0
A25: 総計 | B25: =SUM(C25:G25) -> 0 | C25: =SUM(C23:C24) -> 0 | D25: =SUM(D23:D24) -> 0 | E25: =SUM(E23:E24) -> 0 | F25: =SUM(F23:F24) -> 0 | G25: =SUM(G23:G24) -> 0
A26: 0.5
A28: ※学術機関等に対する委託費・共同事業費の場合は「間接経費」が積算可能です。
A29: ※補助先がＮＥＤＯへ計上する補助対象費用は、消費税抜き額になります。（ただし、委託契約は消費税の課税取引となりますので、補助先と委託先の関係では「総計」にて契約します。）
E30: 分類番号12223 | G30: 2026年10月版

Sheet 別紙2(4)項目別明細表(補助先)【2026年度】
L1: 別紙２
A2: 項目別明細表（補助先用）
A4: ="（４）"&情報項目シート!C6&" 項目別明細表(2026年度）" -> （４） 項目別明細表(2026年度）
A5: 積算基礎（円） | J5: 補助事業に要する経費 | K5: 補助対象費用 | L5: 補助金の額（円）
A6: Ⅰ．機械装置等費 | J6: =SUM(J7,J10,J16) -> 0 | K6: =SUM(K7,K10,K16) -> 0
A7: １．土木・建築工事費 | J7: =SUM(J8:J9) -> 0 | K7: =SUM(K8:K9) -> 0
B8: ○○土木・建築工事費 | C8: ＠ | E8: 円 | F8: × | H8: H | I8: ＝ | J8: =D8*G8 -> 0 | K8: =J8 -> 0
K9: =J9 -> 0
A10: ２．機械装置等製作・購入費 | J10: =SUM(J11:J15) -> 0 | K10: =SUM(K11:K15) -> 0
B11: ○○製作設計費 | C11: ＠ | E11: 円 | F11: × | H11: H | I11: ＝ | J11: =D11*G11 -> 0 | K11: =J11 -> 0
B12: ○○製作加工費 | C12: ＠ | E12: 円 | F12: × | H12: H | I12: ＝ | J12: =D12*G12 -> 0 | K12: =J12 -> 0
B13: ○○試験装置 一式 | I13: ＝ | K13: =J13 -> 0
B14: ○○評価装置 一式 | I14: ＝ | K14: =J14 -> 0
B15: ○○作成装置 一式 | I15: ＝ | K15: =J15 -> 0
A16: ３．保守・改造修理費 | J16: =SUM(J17:J18) -> 0 | K16: =SUM(K17:K18) -> 0
B17: ○○装置改造費 一式 | I17: ＝ | K17: =J17 -> 0
B18: ○○装置保守費 一式 | I18: ＝ | K18: =J18 -> 0
A19: Ⅱ．労務費 | J19: =SUM(J20,J26) -> 0 | K19: =SUM(K20,K26) -> 0
A20: １．事業開発員費 | J20: =SUM(J21:J25) -> 0 | K20: =SUM(K21:K25) -> 0
A21: ▲▲ ▲▲ | C21: ＠ | E21: 円 | F21: × | H21: H | I21: ＝ | J21: =D21*G21 -> 0 | K21: =J21 -> 0
A22: 〇〇 〇〇 | E22: 円 | F22: × | H22: H | I22: ＝ | J22: =D22*G22 -> 0 | K22: =J22 -> 0
E23: 円 | F23: × | H23: H | I23: ＝ | J23: =D23*G23 -> 0 | K23: =J23 -> 0
E24: 円 | F24: × | H24: H | I24: ＝ | J24: =D24*G24 -> 0 | K24: =J24 -> 0
C25: ＠ | E25: 円 | F25: × | H25: H | I25: ＝ | J25: =D25*G25 -> 0 | K25: =J25 -> 0
A26: ２．補助員費 | J26: =SUM(J27) -> 0 | K26: =SUM(K27) -> 0
C27: ＠ | E27: 円 | F27: × | H27: 日 | I27: ＝ | J27: =D27*G27 -> 0 | K27: =J27 -> 0
A28: Ⅲ．その他経費 | J28: =SUM(J29,J32,J36,J38) -> 0 | K28: =SUM(K29,K32,K36,K38) -> 0
A29: １．消耗品費 | J29: =SUM(J30:J31) -> 0 | K29: =SUM(K30:K31) -> 0
B30: ○○薬品 一式 | I30: ＝ | K30: =J30 -> 0
B31: ○○実験器具 一式 | I31: ＝ | K31: =J31 -> 0
A32: ２．旅費 | J32: =SUM(J33:J35) -> 0 | K32: =SUM(K33:K35) -> 0
A33: (1)事業開発員旅費 | B33: 国内旅費 | C33: ＠ | E33: 円 | F33: × | H33: 回 | I33: ＝ | J33: =D33*G33 -> 0 | K33: =J33 -> 0
B34: 海外旅費 | C34: ＠ | E34: 円 | F34: × | H34: 回 | I34: ＝ | J34: =D34*G34 -> 0 | K34: =J34 -> 0
A35: (2)専門家旅費 | B35: 海外旅費 | C35: ＠ | E35: 円 | F35: × | H35: 回 | I35: ＝ | J35: =D35*G35 -> 0 | K35: =J35 -> 0
A36: ３．外注費 | J36: =SUM(J37) -> 0 | K36: =SUM(K37) -> 0
B37: ○○ソフト外注 | I37: ＝ | K37: =J37 -> 0
A38: ４．諸経費 | J38: =SUM(J39:J48) -> 0 | K38: =SUM(K39:K48) -> 0
A39: (1)光熱水料 | C39: ＠ | E39: 円 | F39: × | H39: ヶ月 | I39: ＝ | J39: =D39*G39 -> 0 | K39: =J39 -> 0
A40: (2)会議費 | K40: =J40 -> 0
A41: (3)通信費 | K41: =J41 -> 0
...

Sheet 別紙2(4)項目別明細表(補助先)【2027年度】
L1: 別紙２
A2: 項目別明細表（補助先用）
A4: ="（４）"&情報項目シート!C6&" 項目別明細表(2027年度）" -> （４） 項目別明細表(2027年度）
A5: 積算基礎（円） | J5: 補助事業に要する経費 | K5: 補助対象費用 | L5: 補助金の額（円）
A6: Ⅰ．機械装置等費 | J6: =SUM(J7,J10,J16) -> 0 | K6: =SUM(K7,K10,K16) -> 0
A7: １．土木・建築工事費 | J7: =SUM(J8:J9) -> 0 | K7: =SUM(K8:K9) -> 0
B8: ○○土木・建築工事費 | C8: ＠ | E8: 円 | F8: × | H8: H | I8: ＝ | J8: =D8*G8 -> 0 | K8: =J8 -> 0
K9: =J9 -> 0
A10: ２．機械装置等製作・購入費 | J10: =SUM(J11:J15) -> 0 | K10: =SUM(K11:K15) -> 0
B11: ○○製作設計費 | C11: ＠ | E11: 円 | F11: × | H11: H | I11: ＝ | J11: =D11*G11 -> 0 | K11: =J11 -> 0
B12: ○○製作加工費 | C12: ＠ | E12: 円 | F12: × | H12: H | I12: ＝ | J12: =D12*G12 -> 0 | K12: =J12 -> 0
B13: ○○試験装置 一式 | I13: ＝ | K13: =J13 -> 0
B14: ○○評価装置 一式 | I14: ＝ | K14: =J14 -> 0
B15: ○○作成装置 一式 | I15: ＝ | K15: =J15 -> 0
A16: ３．保守・改造修理費 | J16: =SUM(J17:J18) -> 0 | K16: =SUM(K17:K18) -> 0
B17: ○○装置改造費 一式 | I17: ＝ | K17: =J17 -> 0
B18: ○○装置保守費 一式 | I18: ＝ | K18: =J18 -> 0
A19: Ⅱ．労務費 | J19: =SUM(J20,J26) -> 0 | K19: =SUM(K20,K26) -> 0
A20: １．事業開発員費 | J20: =SUM(J21:J25) -> 0 | K20: =SUM(K21:K25) -> 0
A21: ▲▲ ▲▲ | C21: ＠ | E21: 円 | F21: × | H21: H | I21: ＝ | J21: =D21*G21 -> 0 | K21: =J21 -> 0
A22: 〇〇 〇〇 | E22: 円 | F22: × | H22: H | I22: ＝ | J22: =D22*G22 -> 0 | K22: =J22 -> 0
E23: 円 | F23: × | H23: H | I23: ＝ | J23: =D23*G23 -> 0 | K23: =J23 -> 0
E24: 円 | F24: × | H24: H | I24: ＝ | J24: =D24*G24 -> 0 | K24: =J24 -> 0
C25: ＠ | E25: 円 | F25: × | H25: H | I25: ＝ | J25: =D25*G25 -> 0 | K25: =J25 -> 0
A26: ２．補助員費 | J26: =SUM(J27) -> 0 | K26: =SUM(K27) -> 0
C27: ＠ | E27: 円 | F27: × | H27: 日 | I27: ＝ | J27: =D27*G27 -> 0 | K27: =J27 -> 0
A28: Ⅲ．その他経費 | J28: =SUM(J29,J32,J36,J38) -> 0 | K28: =SUM(K29,K32,K36,K38) -> 0
A29: １．消耗品費 | J29: =SUM(J30:J31) -> 0 | K29: =SUM(K30:K31) -> 0
B30: ○○薬品 一式 | I30: ＝ | K30: =J30 -> 0
B31: ○○実験器具 一式 | I31: ＝ | K31: =J31 -> 0
A32: ２．旅費 | J32: =SUM(J33:J35) -> 0 | K32: =SUM(K33:K35) -> 0
A33: (1)事業開発員旅費 | B33: 国内旅費 | C33: ＠ | E33: 円 | F33: × | H33: 回 | I33: ＝ | J33: =D33*G33 -> 0 | K33: =J33 -> 0
B34: 海外旅費 | C34: ＠ | E34: 円 | F34: × | H34: 回 | I34: ＝ | J34: =D34*G34 -> 0 | K34: =J34 -> 0
A35: (2)専門家旅費 | B35: 海外旅費 | C35: ＠ | E35: 円 | F35: × | H35: 回 | I35: ＝ | J35: =D35*G35 -> 0 | K35: =J35 -> 0
A36: ３．外注費 | J36: =SUM(J37) -> 0 | K36: =SUM(K37) -> 0
B37: ○○ソフト外注 | I37: ＝ | K37: =J37 -> 0
A38: ４．諸経費 | J38: =SUM(J39:J48) -> 0 | K38: =SUM(K39:K48) -> 0
A39: (1)光熱水料 | C39: ＠ | E39: 円 | F39: × | H39: ヶ月 | I39: ＝ | J39: =D39*G39 -> 0 | K39: =J39 -> 0
A40: (2)会議費 | K40: =J40 -> 0
A41: (3)通信費 | K41: =J41 -> 0
...

Sheet 別紙2(4)項目別明細表(補助先)【2028年度】
L1: 別紙２
A2: 項目別明細表（補助先用）
A4: ="（４）"&情報項目シート!C6&" 項目別明細表(2028年度）" -> （４） 項目別明細表(2028年度）
A5: 積算基礎（円） | J5: 補助事業に要する経費 | K5: 補助対象費用 | L5: 補助金の額（円）
A6: Ⅰ．機械装置等費 | J6: =SUM(J7,J10,J16) -> 0 | K6: =SUM(K7,K10,K16) -> 0
A7: １．土木・建築工事費 | J7: =SUM(J8:J9) -> 0 | K7: =SUM(K8:K9) -> 0
B8: ○○土木・建築工事費 | C8: ＠ | E8: 円 | F8: × | H8: H | I8: ＝ | J8: =D8*G8 -> 0 | K8: =J8 -> 0
K9: =J9 -> 0
A10: ２．機械装置等製作・購入費 | J10: =SUM(J11:J15) -> 0 | K10: =SUM(K11:K15) -> 0
B11: ○○製作設計費 | C11: ＠ | E11: 円 | F11: × | H11: H | I11: ＝ | J11: =D11*G11 -> 0 | K11: =J11 -> 0
B12: ○○製作加工費 | C12: ＠ | E12: 円 | F12: × | H12: H | I12: ＝ | J12: =D12*G12 -> 0 | K12: =J12 -> 0
B13: ○○試験装置 一式 | I13: ＝ | K13: =J13 -> 0
B14: ○○評価装置 一式 | I14: ＝ | K14: =J14 -> 0
B15: ○○作成装置 一式 | I15: ＝ | K15: =J15 -> 0
A16: ３．保守・改造修理費 | J16: =SUM(J17:J18) -> 0 | K16: =SUM(K17:K18) -> 0
B17: ○○装置改造費 一式 | I17: ＝ | K17: =J17 -> 0
B18: ○○装置保守費 一式 | I18: ＝ | K18: =J18 -> 0
A19: Ⅱ．労務費 | J19: =SUM(J20,J26) -> 0 | K19: =SUM(K20,K26) -> 0
A20: １．事業開発員費 | J20: =SUM(J21:J25) -> 0 | K20: =SUM(K21:K25) -> 0
A21: ▲▲ ▲▲ | C21: ＠ | E21: 円 | F21: × | H21: H | I21: ＝ | J21: =D21*G21 -> 0 | K21: =J21 -> 0
A22: 〇〇 〇〇 | E22: 円 | F22: × | H22: H | I22: ＝ | J22: =D22*G22 -> 0 | K22: =J22 -> 0
E23: 円 | F23: × | H23: H | I23: ＝ | J23: =D23*G23 -> 0 | K23: =J23 -> 0
E24: 円 | F24: × | H24: H | I24: ＝ | J24: =D24*G24 -> 0 | K24: =J24 -> 0
C25: ＠ | E25: 円 | F25: × | H25: H | I25: ＝ | J25: =D25*G25 -> 0 | K25: =J25 -> 0
A26: ２．補助員費 | J26: =SUM(J27) -> 0 | K26: =SUM(K27) -> 0
C27: ＠ | E27: 円 | F27: × | H27: 日 | I27: ＝ | J27: =D27*G27 -> 0 | K27: =J27 -> 0
A28: Ⅲ．その他経費 | J28: =SUM(J29,J32,J36,J38) -> 0 | K28: =SUM(K29,K32,K36,K38) -> 0
A29: １．消耗品費 | J29: =SUM(J30:J31) -> 0 | K29: =SUM(K30:K31) -> 0
B30: ○○薬品 一式 | I30: ＝ | K30: =J30 -> 0
B31: ○○実験器具 一式 | I31: ＝ | K31: =J31 -> 0
A32: ２．旅費 | J32: =SUM(J33:J35) -> 0 | K32: =SUM(K33:K35) -> 0
A33: (1)事業開発員旅費 | B33: 国内旅費 | C33: ＠ | E33: 円 | F33: × | H33: 回 | I33: ＝ | J33: =D33*G33 -> 0 | K33: =J33 -> 0
B34: 海外旅費 | C34: ＠ | E34: 円 | F34: × | H34: 回 | I34: ＝ | J34: =D34*G34 -> 0 | K34: =J34 -> 0
A35: (2)専門家旅費 | B35: 海外旅費 | C35: ＠ | E35: 円 | F35: × | H35: 回 | I35: ＝ | J35: =D35*G35 -> 0 | K35: =J35 -> 0
A36: ３．外注費 | J36: =SUM(J37) -> 0 | K36: =SUM(K37) -> 0
B37: ○○ソフト外注 | I37: ＝ | K37: =J37 -> 0
A38: ４．諸経費 | J38: =SUM(J39:J48) -> 0 | K38: =SUM(K39:K48) -> 0
A39: (1)光熱水料 | C39: ＠ | E39: 円 | F39: × | H39: ヶ月 | I39: ＝ | J39: =D39*G39 -> 0 | K39: =J39 -> 0
A40: (2)会議費 | K40: =J40 -> 0
A41: (3)通信費 | K41: =J41 -> 0
...

Sheet 別紙2(4)項目別明細表(補助先)【2029年度】
L1: 別紙２
A2: 項目別明細表（補助先用）
A4: ="（４）"&情報項目シート!C6&" 項目別明細表(2029年度）" -> （４） 項目別明細表(2029年度）
A5: 積算基礎（円） | J5: 補助事業に要する経費 | K5: 補助対象費用 | L5: 補助金の額（円）
A6: Ⅰ．機械装置等費 | J6: =SUM(J7,J10,J16) -> 0 | K6: =SUM(K7,K10,K16) -> 0
A7: １．土木・建築工事費 | J7: =SUM(J8:J9) -> 0 | K7: =SUM(K8:K9) -> 0
B8: ○○土木・建築工事費 | C8: ＠ | E8: 円 | F8: × | H8: H | I8: ＝ | J8: =D8*G8 -> 0 | K8: =J8 -> 0
K9: =J9 -> 0
A10: ２．機械装置等製作・購入費 | J10: =SUM(J11:J15) -> 0 | K10: =SUM(K11:K15) -> 0
B11: ○○製作設計費 | C11: ＠ | E11: 円 | F11: × | H11: H | I11: ＝ | J11: =D11*G11 -> 0 | K11: =J11 -> 0
B12: ○○製作加工費 | C12: ＠ | E12: 円 | F12: × | H12: H | I12: ＝ | J12: =D12*G12 -> 0 | K12: =J12 -> 0
B13: ○○試験装置 一式 | I13: ＝ | K13: =J13 -> 0
B14: ○○評価装置 一式 | I14: ＝ | K14: =J14 -> 0
B15: ○○作成装置 一式 | I15: ＝ | K15: =J15 -> 0
A16: ３．保守・改造修理費 | J16: =SUM(J17:J18) -> 0 | K16: =SUM(K17:K18) -> 0
B17: ○○装置改造費 一式 | I17: ＝ | K17: =J17 -> 0
B18: ○○装置保守費 一式 | I18: ＝ | K18: =J18 -> 0
A19: Ⅱ．労務費 | J19: =SUM(J20,J26) -> 0 | K19: =SUM(K20,K26) -> 0
A20: １．事業開発員費 | J20: =SUM(J21:J25) -> 0 | K20: =SUM(K21:K25) -> 0
A21: ▲▲ ▲▲ | C21: ＠ | E21: 円 | F21: × | H21: H | I21: ＝ | J21: =D21*G21 -> 0 | K21: =J21 -> 0
A22: 〇〇 〇〇 | E22: 円 | F22: × | H22: H | I22: ＝ | J22: =D22*G22 -> 0 | K22: =J22 -> 0
E23: 円 | F23: × | H23: H | I23: ＝ | J23: =D23*G23 -> 0 | K23: =J23 -> 0
E24: 円 | F24: × | H24: H | I24: ＝ | J24: =D24*G24 -> 0 | K24: =J24 -> 0
C25: ＠ | E25: 円 | F25: × | H25: H | I25: ＝ | J25: =D25*G25 -> 0 | K25: =J25 -> 0
A26: ２．補助員費 | J26: =SUM(J27) -> 0 | K26: =SUM(K27) -> 0
C27: ＠ | E27: 円 | F27: × | H27: 日 | I27: ＝ | J27: =D27*G27 -> 0 | K27: =J27 -> 0
A28: Ⅲ．その他経費 | J28: =SUM(J29,J32,J36,J38) -> 0 | K28: =SUM(K29,K32,K36,K38) -> 0
A29: １．消耗品費 | J29: =SUM(J30:J31) -> 0 | K29: =SUM(K30:K31) -> 0
B30: ○○薬品 一式 | I30: ＝ | K30: =J30 -> 0
B31: ○○実験器具 一式 | I31: ＝ | K31: =J31 -> 0
A32: ２．旅費 | J32: =SUM(J33:J35) -> 0 | K32: =SUM(K33:K35) -> 0
A33: (1)事業開発員旅費 | B33: 国内旅費 | C33: ＠ | E33: 円 | F33: × | H33: 回 | I33: ＝ | J33: =D33*G33 -> 0 | K33: =J33 -> 0
B34: 海外旅費 | C34: ＠ | E34: 円 | F34: × | H34: 回 | I34: ＝ | J34: =D34*G34 -> 0 | K34: =J34 -> 0
A35: (2)専門家旅費 | B35: 海外旅費 | C35: ＠ | E35: 円 | F35: × | H35: 回 | I35: ＝ | J35: =D35*G35 -> 0 | K35: =J35 -> 0
A36: ３．外注費 | J36: =SUM(J37) -> 0 | K36: =SUM(K37) -> 0
B37: ○○ソフト外注 | I37: ＝ | K37: =J37 -> 0
A38: ４．諸経費 | J38: =SUM(J39:J48) -> 0 | K38: =SUM(K39:K48) -> 0
A39: (1)光熱水料 | C39: ＠ | E39: 円 | F39: × | H39: ヶ月 | I39: ＝ | J39: =D39*G39 -> 0 | K39: =J39 -> 0
A40: (2)会議費 | K40: =J40 -> 0
A41: (3)通信費 | K41: =J41 -> 0
...

Sheet 別紙2(4)項目別明細表(補助先)【2030年度】
L1: 別紙２
A2: 項目別明細表（補助先用）
A4: ="（４）"&情報項目シート!C6&" 項目別明細表(2030年度）" -> （４） 項目別明細表(2030年度）
A5: 積算基礎（円） | J5: 補助事業に要する経費 | K5: 補助対象費用 | L5: 補助金の額（円）
A6: Ⅰ．機械装置等費 | J6: =SUM(J7,J10,J16) -> 0 | K6: =SUM(K7,K10,K16) -> 0
A7: １．土木・建築工事費 | J7: =SUM(J8:J9) -> 0 | K7: =SUM(K8:K9) -> 0
B8: ○○土木・建築工事費 | C8: ＠ | E8: 円 | F8: × | H8: H | I8: ＝ | J8: =D8*G8 -> 0 | K8: =J8 -> 0
K9: =J9 -> 0
A10: ２．機械装置等製作・購入費 | J10: =SUM(J11:J15) -> 0 | K10: =SUM(K11:K15) -> 0
B11: ○○製作設計費 | C11: ＠ | E11: 円 | F11: × | H11: H | I11: ＝ | J11: =D11*G11 -> 0 | K11: =J11 -> 0
B12: ○○製作加工費 | C12: ＠ | E12: 円 | F12: × | H12: H | I12: ＝ | J12: =D12*G12 -> 0 | K12: =J12 -> 0
B13: ○○試験装置 一式 | I13: ＝ | K13: =J13 -> 0
B14: ○○評価装置 一式 | I14: ＝ | K14: =J14 -> 0
B15: ○○作成装置 一式 | I15: ＝ | K15: =J15 -> 0
A16: ３．保守・改造修理費 | J16: =SUM(J17:J18) -> 0 | K16: =SUM(K17:K18) -> 0
B17: ○○装置改造費 一式 | I17: ＝ | K17: =J17 -> 0
B18: ○○装置保守費 一式 | I18: ＝ | K18: =J18 -> 0
A19: Ⅱ．労務費 | J19: =SUM(J20,J26) -> 0 | K19: =SUM(K20,K26) -> 0
A20: １．事業開発員費 | J20: =SUM(J21:J25) -> 0 | K20: =SUM(K21:K25) -> 0
A21: ▲▲ ▲▲ | C21: ＠ | E21: 円 | F21: × | H21: H | I21: ＝ | J21: =D21*G21 -> 0 | K21: =J21 -> 0
A22: 〇〇 〇〇 | E22: 円 | F22: × | H22: H | I22: ＝ | J22: =D22*G22 -> 0 | K22: =J22 -> 0
E23: 円 | F23: × | H23: H | I23: ＝ | J23: =D23*G23 -> 0 | K23: =J23 -> 0
E24: 円 | F24: × | H24: H | I24: ＝ | J24: =D24*G24 -> 0 | K24: =J24 -> 0
C25: ＠ | E25: 円 | F25: × | H25: H | I25: ＝ | J25: =D25*G25 -> 0 | K25: =J25 -> 0
A26: ２．補助員費 | J26: =SUM(J27) -> 0 | K26: =SUM(K27) -> 0
C27: ＠ | E27: 円 | F27: × | H27: 日 | I27: ＝ | J27: =D27*G27 -> 0 | K27: =J27 -> 0
A28: Ⅲ．その他経費 | J28: =SUM(J29,J32,J36,J38) -> 0 | K28: =SUM(K29,K32,K36,K38) -> 0
A29: １．消耗品費 | J29: =SUM(J30:J31) -> 0 | K29: =SUM(K30:K31) -> 0
B30: ○○薬品 一式 | I30: ＝ | K30: =J30 -> 0
B31: ○○実験器具 一式 | I31: ＝ | K31: =J31 -> 0
A32: ２．旅費 | J32: =SUM(J33:J35) -> 0 | K32: =SUM(K33:K35) -> 0
A33: (1)事業開発員旅費 | B33: 国内旅費 | C33: ＠ | E33: 円 | F33: × | H33: 回 | I33: ＝ | J33: =D33*G33 -> 0 | K33: =J33 -> 0
B34: 海外旅費 | C34: ＠ | E34: 円 | F34: × | H34: 回 | I34: ＝ | J34: =D34*G34 -> 0 | K34: =J34 -> 0
A35: (2)専門家旅費 | B35: 海外旅費 | C35: ＠ | E35: 円 | F35: × | H35: 回 | I35: ＝ | J35: =D35*G35 -> 0 | K35: =J35 -> 0
A36: ３．外注費 | J36: =SUM(J37) -> 0 | K36: =SUM(K37) -> 0
B37: ○○ソフト外注 | I37: ＝ | K37: =J37 -> 0
A38: ４．諸経費 | J38: =SUM(J39:J48) -> 0 | K38: =SUM(K39:K48) -> 0
A39: (1)光熱水料 | C39: ＠ | E39: 円 | F39: × | H39: ヶ月 | I39: ＝ | J39: =D39*G39 -> 0 | K39: =J39 -> 0
A40: (2)会議費 | K40: =J40 -> 0
A41: (3)通信費 | K41: =J41 -> 0
...

Sheet 別紙2(4)項目別明細表(委託共同事業先)【2026年度】
L1: 別紙２
A2: 項目別明細表（委託・共同事業先用）
A4: (4)○○大学、▲▲株式会社 項目別明細表(2026年度）
A5: 積算基礎（円） | J5: 補助事業に要する経費 | K5: 補助対象費用 | L5: 補助金の額（円）
A6: Ⅰ．機械装置等費 | J6: =SUM(J7,J10,J17) -> 0 | K6: =SUM(K7,K10,K17) -> 0
A7: １．土木・建築工事費 | J7: =SUM(J8:J9) -> 0 | K7: =SUM(K8:K9) -> 0
B8: ○○土木・建築工事費 | C8: ＠ | E8: 円 | F8: × | G8: 1 | H8: H | I8: ＝ | K8: =J8 -> 0
K9: =J9 -> 0
A10: ２．機械装置等製作・購入費 | J10: =SUM(J11:J16) -> 0 | K10: =SUM(K11:K16) -> 0
B11: ○○製作設計費 | C11: ＠ | E11: 円 | F11: × | H11: H | I11: ＝ | J11: =D11*G11 -> 0 | K11: =J11 -> 0
B12: ○○製作加工費 | C12: ＠ | E12: 円 | F12: × | H12: H | I12: ＝ | J12: =D12*G12 -> 0 | K12: =J12 -> 0
B13: ○○試験装置 一式 | E13: 円 | I13: ＝ | K13: =J13 -> 0
B14: ○○評価装置 一式 | E14: 円 | I14: ＝ | K14: =J14 -> 0
B15: ○○作成装置 一式 | E15: 円 | I15: ＝ | K15: =J15 -> 0
K16: =J16 -> 0
A17: ３．保守・改造修理費 | J17: =SUM(J18:J19) -> 0 | K17: =SUM(K18:K19) -> 0
B18: ○○装置改造費 一式 | E18: 円 | I18: ＝ | K18: =J18 -> 0
B19: ○○装置保守費 一式 | E19: 円 | I19: ＝ | K19: =J19 -> 0
A20: Ⅱ．労務費 | J20: =SUM(J21,J25) -> 0 | K20: =SUM(K21,K25) -> 0
A21: １．事業開発員費 | J21: =SUM(J22:J24) -> 0 | K21: =SUM(K22:K24) -> 0
B22: 根戸太郎（健保等級 20） | C22: ＠ | D22: 1830 | E22: 円 | F22: × | G22: 0 | H22: H | I22: ＝ | J22: =D22*G22 -> 0 | K22: =J22 -> 0
B23: 根戸花子（健保等級 30） | C23: ＠ | D23: 3530 | E23: 円 | F23: × | G23: 0 | H23: H | I23: ＝ | J23: =D23*G23 -> 0 | K23: =J23 -> 0
K24: =J24 -> 0
A25: ２．補助員費 | J25: =SUM(J26) -> 0 | K25: =SUM(K26) -> 0
B26: 根戸○○ | C26: ＠ | D26: 8000 | E26: 円 | F26: × | G26: 0 | H26: 日 | I26: ＝ | J26: =D26*G26 -> 0 | K26: =J26 -> 0
A27: Ⅲ．その他経費 | J27: =SUM(J28,J32,J37,J40) -> 0 | K27: =SUM(K28,K32,K37,K40) -> 0
A28: １．消耗品費 | J28: =SUM(J29:J31) -> 0 | K28: =SUM(K29:K31) -> 0
B29: ○○薬品 一式 | E29: 円 | I29: ＝ | K29: =J29 -> 0
B30: ○○実験器具 一式 | E30: 円 | I30: ＝ | K30: =J30 -> 0
A32: ２．旅費 | J32: =SUM(J33:J36) -> 0 | K32: =SUM(K33:K36) -> 0
A33: (1)事業開発員旅費 | B33: 国内旅費 | C33: ＠ | E33: 円 | F33: × | H33: 回 | I33: ＝ | J33: =D33*G33 -> 0 | K33: =J33 -> 0
B34: 海外旅費 | C34: ＠ | E34: 円 | F34: × | H34: 回 | I34: ＝ | J34: =D34*G34 -> 0 | K34: =J34 -> 0
A35: (2)専門家旅費 | B35: 海外旅費 | C35: ＠ | E35: 円 | F35: × | H35: 回 | I35: ＝ | J35: =D35*G35 -> 0 | K35: =J35 -> 0
K36: =J36 -> 0
A37: ３．外注費 | J37: =SUM(J38:J39) -> 0 | K37: =SUM(K38:K39) -> 0
B38: ○○ソフト外注 | E38: 円 | I38: ＝ | K38: =J38 -> 0
K39: =J39 -> 0
A40: ４．諸経費 | J40: =SUM(J41:J50) -> 0 | K40: =SUM(K41:K50) -> 0
A41: (1)光熱水料 | C41: ＠ | E41: 円 | F41: × | H41: ヶ月 | I41: ＝ | J41: =D41*G41 -> 0 | K41: =J41 -> 0
A42: (2)会議費 | K42: =J42 -> 0
...

Sheet 別紙2(4)項目別明細表(委託共同事業先)【2027年度】
L1: 別紙２
A2: 項目別明細表（委託・共同事業先用）
A4: (4)○○大学、▲▲株式会社 項目別明細表(2027年度）
A5: 積算基礎（円） | J5: 補助事業に要する経費 | K5: 補助対象費用 | L5: 補助金の額（円）
A6: Ⅰ．機械装置等費 | J6: =SUM(J7,J10,J17) -> 0 | K6: =SUM(K7,K10,K17) -> 0
A7: １．土木・建築工事費 | J7: =SUM(J8:J9) -> 0 | K7: =SUM(K8:K9) -> 0
B8: ○○土木・建築工事費 | C8: ＠ | E8: 円 | F8: × | G8: 1 | H8: H | I8: ＝ | K8: =J8 -> 0
K9: =J9 -> 0
A10: ２．機械装置等製作・購入費 | J10: =SUM(J11:J16) -> 0 | K10: =SUM(K11:K16) -> 0
B11: ○○製作設計費 | C11: ＠ | E11: 円 | F11: × | H11: H | I11: ＝ | J11: =D11*G11 -> 0 | K11: =J11 -> 0
B12: ○○製作加工費 | C12: ＠ | E12: 円 | F12: × | H12: H | I12: ＝ | J12: =D12*G12 -> 0 | K12: =J12 -> 0
B13: ○○試験装置 一式 | E13: 円 | I13: ＝ | K13: =J13 -> 0
B14: ○○評価装置 一式 | E14: 円 | I14: ＝ | K14: =J14 -> 0
B15: ○○作成装置 一式 | E15: 円 | I15: ＝ | K15: =J15 -> 0
K16: =J16 -> 0
A17: ３．保守・改造修理費 | J17: =SUM(J18:J19) -> 0 | K17: =SUM(K18:K19) -> 0
B18: ○○装置改造費 一式 | E18: 円 | I18: ＝ | K18: =J18 -> 0
B19: ○○装置保守費 一式 | E19: 円 | I19: ＝ | K19: =J19 -> 0
A20: Ⅱ．労務費 | J20: =SUM(J21,J25) -> 0 | K20: =SUM(K21,K25) -> 0
A21: １．事業開発員費 | J21: =SUM(J22:J24) -> 0 | K21: =SUM(K22:K24) -> 0
B22: 根戸太郎（健保等級 20） | C22: ＠ | D22: 1830 | E22: 円 | F22: × | G22: 0 | H22: H | I22: ＝ | J22: =D22*G22 -> 0 | K22: =J22 -> 0
B23: 根戸花子（健保等級 30） | C23: ＠ | D23: 3530 | E23: 円 | F23: × | G23: 0 | H23: H | I23: ＝ | J23: =D23*G23 -> 0 | K23: =J23 -> 0
A25: ２．補助員費 | J25: =SUM(J26) -> 0 | K25: =SUM(K26) -> 0
B26: 根戸○○ | C26: ＠ | D26: 8000 | E26: 円 | F26: × | G26: 0 | H26: 日 | I26: ＝ | J26: =D26*G26 -> 0 | K26: =J26 -> 0
A27: Ⅲ．その他経費 | J27: =SUM(J28,J32,J37,J40) -> 0 | K27: =SUM(K28,K32,K37,K40) -> 0
A28: １．消耗品費 | J28: =SUM(J29:J31) -> 0 | K28: =SUM(K29:K31) -> 0
B29: ○○薬品 一式 | E29: 円 | I29: ＝ | K29: =J29 -> 0
B30: ○○実験器具 一式 | E30: 円 | I30: ＝ | K30: =J30 -> 0
K31: =J31 -> 0
A32: ２．旅費 | J32: =SUM(J33:J36) -> 0 | K32: =SUM(K33:K36) -> 0
A33: (1)事業開発員旅費 | B33: 国内旅費 | C33: ＠ | E33: 円 | F33: × | H33: 回 | I33: ＝ | J33: =D33*G33 -> 0 | K33: =J33 -> 0
B34: 海外旅費 | C34: ＠ | E34: 円 | F34: × | H34: 回 | I34: ＝ | J34: =D34*G34 -> 0 | K34: =J34 -> 0
A35: (2)専門家旅費 | B35: 海外旅費 | C35: ＠ | E35: 円 | F35: × | H35: 回 | I35: ＝ | J35: =D35*G35 -> 0 | K35: =J35 -> 0
K36: =J36 -> 0
A37: ３．外注費 | J37: =SUM(J38:J39) -> 0 | K37: =SUM(K38:K39) -> 0
B38: ○○ソフト外注 | E38: 円 | I38: ＝ | K38: =J38 -> 0
K39: =J39 -> 0
A40: ４．諸経費 | J40: =SUM(J41:J50) -> 0 | K40: =SUM(K41:K50) -> 0
A41: (1)光熱水料 | C41: ＠ | E41: 円 | F41: × | H41: ヶ月 | I41: ＝ | J41: =D41*G41 -> 0 | K41: =J41 -> 0
A42: (2)会議費 | K42: =J42 -> 0
...

Sheet 別紙2(4)項目別明細表(委託共同事業先)【2028年度】
L1: 別紙２
A2: 項目別明細表（委託・共同事業先用）
A4: (4)○○大学、▲▲株式会社 項目別明細表(2028年度）
A5: 積算基礎（円） | J5: 補助事業に要する経費 | K5: 補助対象費用 | L5: 補助金の額（円）
A6: Ⅰ．機械装置等費 | J6: =SUM(J7,J10,J17) -> 0 | K6: =SUM(K7,K10,K17) -> 0
A7: １．土木・建築工事費 | J7: =SUM(J8:J9) -> 0 | K7: =SUM(K8:K9) -> 0
B8: ○○土木・建築工事費 | C8: ＠ | E8: 円 | F8: × | G8: 1 | H8: H | I8: ＝ | K8: =J8 -> 0
K9: =J9 -> 0
A10: ２．機械装置等製作・購入費 | J10: =SUM(J11:J16) -> 0 | K10: =SUM(K11:K16) -> 0
B11: ○○製作設計費 | C11: ＠ | E11: 円 | F11: × | H11: H | I11: ＝ | J11: =D11*G11 -> 0 | K11: =J11 -> 0
B12: ○○製作加工費 | C12: ＠ | E12: 円 | F12: × | H12: H | I12: ＝ | J12: =D12*G12 -> 0 | K12: =J12 -> 0
B13: ○○試験装置 一式 | E13: 円 | I13: ＝ | K13: =J13 -> 0
B14: ○○評価装置 一式 | E14: 円 | I14: ＝ | K14: =J14 -> 0
B15: ○○作成装置 一式 | E15: 円 | I15: ＝ | K15: =J15 -> 0
K16: =J16 -> 0
A17: ３．保守・改造修理費 | J17: =SUM(J18:J19) -> 0 | K17: =SUM(K18:K19) -> 0
B18: ○○装置改造費 一式 | E18: 円 | I18: ＝ | K18: =J18 -> 0
B19: ○○装置保守費 一式 | E19: 円 | I19: ＝ | K19: =J19 -> 0
A20: Ⅱ．労務費 | J20: =SUM(J21,J25) -> 0 | K20: =SUM(K21,K25) -> 0
A21: １．事業開発員費 | J21: =SUM(J22:J24) -> 0 | K21: =SUM(K22:K24) -> 0
B22: 根戸太郎（健保等級 20） | C22: ＠ | D22: 1830 | E22: 円 | F22: × | G22: 0 | H22: H | I22: ＝ | J22: =D22*G22 -> 0 | K22: =J22 -> 0
B23: 根戸花子（健保等級 30） | C23: ＠ | D23: 3530 | E23: 円 | F23: × | G23: 0 | H23: H | I23: ＝ | J23: =D23*G23 -> 0 | K23: =J23 -> 0
K24: =J24 -> 0
A25: ２．補助員費 | J25: =SUM(J26) -> 0 | K25: =SUM(K26) -> 0
B26: 根戸○○ | C26: ＠ | D26: 8000 | E26: 円 | F26: × | G26: 0 | H26: 日 | I26: ＝ | J26: =D26*G26 -> 0 | K26: =J26 -> 0
A27: Ⅲ．その他経費 | J27: =SUM(J28,J32,J37,J40) -> 0 | K27: =SUM(K28,K32,K37,K40) -> 0
A28: １．消耗品費 | J28: =SUM(J29:J31) -> 0 | K28: =SUM(K29:K31) -> 0
B29: ○○薬品 一式 | E29: 円 | I29: ＝ | K29: =J29 -> 0
B30: ○○実験器具 一式 | E30: 円 | I30: ＝ | K30: =J30 -> 0
K31: =J31 -> 0
A32: ２．旅費 | J32: =SUM(J33:J36) -> 0 | K32: =SUM(K33:K36) -> 0
A33: (1)事業開発員旅費 | B33: 国内旅費 | C33: ＠ | E33: 円 | F33: × | H33: 回 | I33: ＝ | J33: =D33*G33 -> 0 | K33: =J33 -> 0
B34: 海外旅費 | C34: ＠ | E34: 円 | F34: × | H34: 回 | I34: ＝ | J34: =D34*G34 -> 0 | K34: =J34 -> 0
A35: (2)専門家旅費 | B35: 海外旅費 | C35: ＠ | E35: 円 | F35: × | H35: 回 | I35: ＝ | J35: =D35*G35 -> 0 | K35: =J35 -> 0
K36: =J36 -> 0
A37: ３．外注費 | J37: =SUM(J38:J39) -> 0 | K37: =SUM(K38:K39) -> 0
B38: ○○ソフト外注 | E38: 円 | I38: ＝ | K38: =J38 -> 0
K39: =J39 -> 0
A40: ４．諸経費 | J40: =SUM(J41:J50) -> 0 | K40: =SUM(K41:K50) -> 0
A41: (1)光熱水料 | C41: ＠ | E41: 円 | F41: × | H41: ヶ月 | I41: ＝ | J41: =D41*G41 -> 0 | K41: =J41 -> 0
...

Sheet 別紙2(4)項目別明細表(委託共同事業先)【2029年度】
L1: 別紙２
A2: 項目別明細表（委託・共同事業先用）
A4: (4)○○大学、▲▲株式会社 項目別明細表(2029年度）
A5: 積算基礎（円） | J5: 補助事業に要する経費 | K5: 補助対象費用 | L5: 補助金の額（円）
A6: Ⅰ．機械装置等費 | J6: =SUM(J7,J10,J17) -> 0 | K6: =SUM(K7,K10,K17) -> 0
A7: １．土木・建築工事費 | J7: =SUM(J8:J9) -> 0 | K7: =SUM(K8:K9) -> 0
B8: ○○土木・建築工事費 | C8: ＠ | E8: 円 | F8: × | G8: 1 | H8: H | I8: ＝ | K8: =J8 -> 0
K9: =J9 -> 0
A10: ２．機械装置等製作・購入費 | J10: =SUM(J11:J16) -> 0 | K10: =SUM(K11:K16) -> 0
B11: ○○製作設計費 | C11: ＠ | E11: 円 | F11: × | H11: H | I11: ＝ | J11: =D11*G11 -> 0 | K11: =J11 -> 0
B12: ○○製作加工費 | C12: ＠ | E12: 円 | F12: × | H12: H | I12: ＝ | J12: =D12*G12 -> 0 | K12: =J12 -> 0
B13: ○○試験装置 一式 | E13: 円 | I13: ＝ | K13: =J13 -> 0
B14: ○○評価装置 一式 | E14: 円 | I14: ＝ | K14: =J14 -> 0
B15: ○○作成装置 一式 | E15: 円 | I15: ＝ | K15: =J15 -> 0
K16: =J16 -> 0
A17: ３．保守・改造修理費 | J17: =SUM(J18:J19) -> 0 | K17: =SUM(K18:K19) -> 0
B18: ○○装置改造費 一式 | E18: 円 | I18: ＝ | K18: =J18 -> 0
B19: ○○装置保守費 一式 | E19: 円 | I19: ＝ | K19: =J19 -> 0
A20: Ⅱ．労務費 | J20: =SUM(J21,J25) -> 0 | K20: =SUM(K21,K25) -> 0
A21: １．事業開発員費 | J21: =SUM(J22:J24) -> 0 | K21: =SUM(K22:K24) -> 0
B22: 根戸太郎（健保等級 20） | C22: ＠ | D22: 1830 | E22: 円 | F22: × | G22: 0 | H22: H | I22: ＝ | J22: =D22*G22 -> 0 | K22: =J22 -> 0
B23: 根戸花子（健保等級 30） | C23: ＠ | D23: 3530 | E23: 円 | F23: × | G23: 0 | H23: H | I23: ＝ | J23: =D23*G23 -> 0 | K23: =J23 -> 0
K24: =J24 -> 0
A25: ２．補助員費 | J25: =SUM(J26) -> 0 | K25: =SUM(K26) -> 0
B26: 根戸○○ | C26: ＠ | D26: 8000 | E26: 円 | F26: × | G26: 0 | H26: 日 | I26: ＝ | J26: =D26*G26 -> 0 | K26: =J26 -> 0
A27: Ⅲ．その他経費 | J27: =SUM(J28,J32,J37,J40) -> 0 | K27: =SUM(K28,K32,K37,K40) -> 0
A28: １．消耗品費 | J28: =SUM(J29:J31) -> 0 | K28: =SUM(K29:K31) -> 0
B29: ○○薬品 一式 | E29: 円 | I29: ＝ | K29: =J29 -> 0
B30: ○○実験器具 一式 | E30: 円 | I30: ＝ | K30: =J30 -> 0
A32: ２．旅費 | J32: =SUM(J33:J36) -> 0 | K32: =SUM(K33:K36) -> 0
A33: (1)事業開発員旅費 | B33: 国内旅費 | C33: ＠ | E33: 円 | F33: × | H33: 回 | I33: ＝ | J33: =D33*G33 -> 0 | K33: =J33 -> 0
B34: 海外旅費 | C34: ＠ | E34: 円 | F34: × | H34: 回 | I34: ＝ | J34: =D34*G34 -> 0 | K34: =J34 -> 0
A35: (2)専門家旅費 | B35: 海外旅費 | C35: ＠ | E35: 円 | F35: × | H35: 回 | I35: ＝ | J35: =D35*G35 -> 0 | K35: =J35 -> 0
K36: =J36 -> 0
A37: ３．外注費 | J37: =SUM(J38:J39) -> 0 | K37: =SUM(K38:K39) -> 0
B38: ○○ソフト外注 | E38: 円 | I38: ＝ | K38: =J38 -> 0
K39: =J39 -> 0
A40: ４．諸経費 | J40: =SUM(J41:J50) -> 0 | K40: =SUM(K41:K50) -> 0
A41: (1)光熱水料 | C41: ＠ | E41: 円 | F41: × | H41: ヶ月 | I41: ＝ | J41: =D41*G41 -> 0 | K41: =J41 -> 0
A42: (2)会議費 | K42: =J42 -> 0
...

Sheet 別紙2(4)項目別明細表(委託共同事業先)【2030年度】
L1: 別紙２
A2: 項目別明細表（委託・共同事業先用）
A4: (4)○○大学、▲▲株式会社 項目別明細表(2030年度）
A5: 積算基礎（円） | J5: 補助事業に要する経費 | K5: 補助対象費用 | L5: 補助金の額（円）
A6: Ⅰ．機械装置等費 | J6: =SUM(J7,J10,J17) -> 0 | K6: =SUM(K7,K10,K17) -> 0
A7: １．土木・建築工事費 | J7: =SUM(J8:J9) -> 0 | K7: =SUM(K8:K9) -> 0
B8: ○○土木・建築工事費 | C8: ＠ | E8: 円 | F8: × | G8: 1 | H8: H | I8: ＝ | K8: =J8 -> 0
K9: =J9 -> 0
A10: ２．機械装置等製作・購入費 | J10: =SUM(J11:J16) -> 0 | K10: =SUM(K11:K16) -> 0
B11: ○○製作設計費 | C11: ＠ | E11: 円 | F11: × | H11: H | I11: ＝ | J11: =D11*G11 -> 0 | K11: =J11 -> 0
B12: ○○製作加工費 | C12: ＠ | E12: 円 | F12: × | H12: H | I12: ＝ | J12: =D12*G12 -> 0 | K12: =J12 -> 0
B13: ○○試験装置 一式 | E13: 円 | I13: ＝ | K13: =J13 -> 0
B14: ○○評価装置 一式 | E14: 円 | I14: ＝ | K14: =J14 -> 0
B15: ○○作成装置 一式 | E15: 円 | I15: ＝ | K15: =J15 -> 0
K16: =J16 -> 0
A17: ３．保守・改造修理費 | J17: =SUM(J18:J19) -> 0 | K17: =SUM(K18:K19) -> 0
B18: ○○装置改造費 一式 | E18: 円 | I18: ＝ | K18: =J18 -> 0
B19: ○○装置保守費 一式 | E19: 円 | I19: ＝ | K19: =J19 -> 0
A20: Ⅱ．労務費 | J20: =SUM(J21,J25) -> 0 | K20: =SUM(K21,K25) -> 0
A21: １．事業開発員費 | J21: =SUM(J22:J24) -> 0 | K21: =SUM(K22:K24) -> 0
B22: 根戸太郎（健保等級 20） | C22: ＠ | D22: 1830 | E22: 円 | F22: × | G22: 0 | H22: H | I22: ＝ | J22: =D22*G22 -> 0 | K22: =J22 -> 0
B23: 根戸花子（健保等級 30） | C23: ＠ | D23: 3530 | E23: 円 | F23: × | G23: 0 | H23: H | I23: ＝ | J23: =D23*G23 -> 0 | K23: =J23 -> 0
K24: =J24 -> 0
A25: ２．補助員費 | J25: =SUM(J26) -> 0 | K25: =SUM(K26) -> 0
B26: 根戸○○ | C26: ＠ | D26: 8000 | E26: 円 | F26: × | G26: 0 | H26: 日 | I26: ＝ | J26: =D26*G26 -> 0 | K26: =J26 -> 0
A27: Ⅲ．その他経費 | J27: =SUM(J28,J32,J37,J40) -> 0 | K27: =SUM(K28,K32,K37,K40) -> 0
A28: １．消耗品費 | J28: =SUM(J29:J31) -> 0 | K28: =SUM(K29:K31) -> 0
B29: ○○薬品 一式 | E29: 円 | I29: ＝ | K29: =J29 -> 0
B30: ○○実験器具 一式 | E30: 円 | I30: ＝ | K30: =J30 -> 0
A32: ２．旅費 | J32: =SUM(J33:J36) -> 0 | K32: =SUM(K33:K36) -> 0
A33: (1)事業開発員旅費 | B33: 国内旅費 | C33: ＠ | E33: 円 | F33: × | H33: 回 | I33: ＝ | J33: =D33*G33 -> 0 | K33: =J33 -> 0
B34: 海外旅費 | C34: ＠ | E34: 円 | F34: × | H34: 回 | I34: ＝ | J34: =D34*G34 -> 0 | K34: =J34 -> 0
A35: (2)専門家旅費 | B35: 海外旅費 | C35: ＠ | E35: 円 | F35: × | H35: 回 | I35: ＝ | J35: =D35*G35 -> 0 | K35: =J35 -> 0
K36: =J36 -> 0
A37: ３．外注費 | J37: =SUM(J38:J39) -> 0 | K37: =SUM(K38:K39) -> 0
B38: ○○ソフト外注 | E38: 円 | I38: ＝ | K38: =J38 -> 0
K39: =J39 -> 0
A40: ４．諸経費 | J40: =SUM(J41:J50) -> 0 | K40: =SUM(K41:K50) -> 0
A41: (1)光熱水料 | C41: ＠ | E41: 円 | F41: × | H41: ヶ月 | I41: ＝ | J41: =D41*G41 -> 0 | K41: =J41 -> 0
A42: (2)会議費 | K42: =J42 -> 0
...
